{"text_format":"1","workbook":"xlsx","n_sheets":18,"sheets":["PORTADA","RESUMEN","BASE","PROMEDIOS","PROMEDIOS 2","AUXILIARES","INDICE","4X4 MATRIZ TOTALES","4X4 MATRIZ PROMEDIOS","EMPLEO","ESTANCIA MEDIA","HABITACIONES VENDIDAS","INGRESOS","LLEGADAS","PERNOCTACIONES","TARIFA","TOH","PROMEDIO"],"not_rendered":{"charts":34,"images":56,"macros":1,"external_links":0,"defined_names":23,"comments":0,"pivot_tables":48},"unopened":[],"bounds":{"document_bytes":16777216,"sheet_cells":100000,"rows_first":2000,"rows_last":500,"rows_between":2000,"halvings":0,"cell_chars":16384,"cell_head_chars":4096},"cells_cut":0,"cells_raw":0,"read":"whole","date_system":"1900"}

{"sheet":"PORTADA","index":0,"n_rows":0,"n_cols":0,"rows_kept":0,"cut":false,"hidden":false,"merged":[]}

{"sheet":"RESUMEN","index":1,"n_rows":70,"n_cols":13,"rows_kept":70,"cut":false,"hidden":true,"merged":[]}
["Fecha","Categoria","Pernoctaciones","Habitaciones","Empleos","Llegadas","Habitaciones vendidas","Ingresos (Miles)","Ingresos","TOH","Estancia media","Tarifa promedio","Columna1"]
["2019-12-01","3 estrellas",5040,790,277,4069,5474,226.90933000000001,226909.33000000002,0.22351980400163299,1.2386335709019416,41.452197661673367,{"$f":"RESUMEN[[#This Row],[Habitaciones vendidas]]*RESUMEN[[#This Row],[Tarifa promedio]]","v":226909.33000000002}]
["2019-12-01","4 estrellas",10423,825,537,7458,9880,773.37466999999992,773374.67,0.38631476050830899,1.3975596674711719,78.276788461538459,{"$f":"RESUMEN[[#This Row],[Habitaciones vendidas]]*RESUMEN[[#This Row],[Tarifa promedio]]","v":773374.66999999993}]
["2019-12-01","5 estrellas",11087,580,1203,6411,8916,864.96250000000009,864962.5,0.49588431590656301,1.7293713929184216,97.012393449977566,{"$f":"RESUMEN[[#This Row],[Habitaciones vendidas]]*RESUMEN[[#This Row],[Tarifa promedio]]","v":864962.5}]
["2020-01-01","3 estrellas",5103,1039,165,1994,2582,134.78024000000002,134780.24,8.0163929336520806E-2,2.5591775325977935,52.19993803253292,{"$f":"RESUMEN[[#This Row],[Habitaciones vendidas]]*RESUMEN[[#This Row],[Tarifa promedio]]","v":134780.24}]
["2020-01-01","5 estrellas",15195,779,1128,4744,15281,1701.3993100000002,1701399.31,0.63277982525156296,3.2029932546374367,111.3408356782933,{"$f":"RESUMEN[[#This Row],[Habitaciones vendidas]]*RESUMEN[[#This Row],[Tarifa promedio]]","v":1701399.31}]
["2020-01-01","4 estrellas",7578,1275,443,6272,5740,438.66395000000006,438663.95,0.145224541429475,1.2082270408163265,76.422290940766558,{"$f":"RESUMEN[[#This Row],[Habitaciones vendidas]]*RESUMEN[[#This Row],[Tarifa promedio]]","v":438663.95000000007}]
["2020-02-01","3 estrellas",345,466,26,205,257,36.475999999999999,36476,1.9017315376646401E-2,1.6829268292682926,141.92996108949416,{"$f":"RESUMEN[[#This Row],[Habitaciones vendidas]]*RESUMEN[[#This Row],[Tarifa promedio]]","v":36476}]
["2020-02-01","4 estrellas",7895,1332,234,7580,6613,544.67818,544678.17999999993,0.17119705912809399,1.04155672823219,82.364763344926644,{"$f":"RESUMEN[[#This Row],[Habitaciones vendidas]]*RESUMEN[[#This Row],[Tarifa promedio]]","v":544678.17999999993}]
["2020-02-01","5 estrellas",91,210,13,85,88,10.608359999999999,10608.36,1.44499178981938E-2,1.0705882352941176,120.54954545454547,{"$f":"RESUMEN[[#This Row],[Habitaciones vendidas]]*RESUMEN[[#This Row],[Tarifa promedio]]","v":10608.36}]
["2020-03-01","3 estrellas",993,2441,102,700,620,65.583340000000007,65583.34,8.1933633756657107E-3,1.4185714285714286,105.77958064516129,{"$f":"RESUMEN[[#This Row],[Habitaciones vendidas]]*RESUMEN[[#This Row],[Tarifa promedio]]","v":65583.34}]
["2020-03-01","4 estrellas",4344,6919,166,3840,3084,252.49763000000002,252497.63,1.4378359729403401E-2,1.1312500000000001,81.873420881971469,{"$f":"RESUMEN[[#This Row],[Habitaciones vendidas]]*RESUMEN[[#This Row],[Tarifa promedio]]","v":252497.63}]
["2020-03-01","5 estrellas",131,997,27,115,108,9.2319200000000006,9231.92,3.4943540298314302E-3,1.1391304347826088,85.480740740740742,{"$f":"RESUMEN[[#This Row],[Habitaciones vendidas]]*RESUMEN[[#This Row],[Tarifa promedio]]","v":9231.92}]
["2020-04-01","3 estrellas",410,1490,68,300,403,15.96,15960,9.0156599552572696E-3,1.3666666666666667,39.602977667493796,{"$f":"RESUMEN[[#This Row],[Habitaciones vendidas]]*RESUMEN[[#This Row],[Tarifa promedio]]","v":15960}]
["2020-04-01","4 estrellas",30,6128,199,18,214,16.257999999999999,16258,1.1640557006092299E-3,1.6666666666666667,75.971962616822424,{"$f":"RESUMEN[[#This Row],[Habitaciones vendidas]]*RESUMEN[[#This Row],[Tarifa promedio]]","v":16257.999999999998}]
["2020-04-01","5 estrellas",84,311,47,84,null,0,0,null,1,null,{"$f":"RESUMEN[[#This Row],[Habitaciones vendidas]]*RESUMEN[[#This Row],[Tarifa promedio]]","v":0}]
["2020-05-01","3 estrellas",1164,344,202,188,1156,54.638760000000005,54638.76,0.108402100525131,6.1914893617021276,47.265363321799313,{"$f":"RESUMEN[[#This Row],[Habitaciones vendidas]]*RESUMEN[[#This Row],[Tarifa promedio]]","v":54638.760000000009}]
["2020-05-01","4 estrellas",1330,348,403,1326,1228,56.529000000000003,56529,0.113830181683352,1.0030165912518854,46.033387622149839,{"$f":"RESUMEN[[#This Row],[Habitaciones vendidas]]*RESUMEN[[#This Row],[Tarifa promedio]]","v":56529}]
["2020-05-01","5 estrellas",3093,507,141,244,1291,90.18,90180,8.2140357574600795E-2,12.676229508196721,69.852827265685519,{"$f":"RESUMEN[[#This Row],[Habitaciones vendidas]]*RESUMEN[[#This Row],[Tarifa promedio]]","v":90180}]
["2020-06-01","3 estrellas",248,171,76,120,282,14.59535,14595.35,5.4970760233918101E-2,2.0666666666666669,51.756560283687946,{"$f":"RESUMEN[[#This Row],[Habitaciones vendidas]]*RESUMEN[[#This Row],[Tarifa promedio]]","v":14595.35}]
["2020-06-01","5 estrellas",805,266,50,204,805,45.757999999999996,45758,0.100877192982456,3.9460784313725492,56.842236024844723,{"$f":"RESUMEN[[#This Row],[Habitaciones vendidas]]*RESUMEN[[#This Row],[Tarifa promedio]]","v":45758}]
["2020-06-01","4 estrellas",489,595,220,461,460,25.900899999999996,25900.9,2.5770308123249298E-2,1.0607375271149675,56.306304347826092,{"$f":"RESUMEN[[#This Row],[Habitaciones vendidas]]*RESUMEN[[#This Row],[Tarifa promedio]]","v":25900.9}]
["2020-07-01","3 estrellas",341,376,99,230,212,13.292019999999997,13292.02,1.8188057652711E-2,1.482608695652174,62.698207547169815,{"$f":"RESUMEN[[#This Row],[Habitaciones vendidas]]*RESUMEN[[#This Row],[Tarifa promedio]]","v":13292.02}]
["2020-07-01","4 estrellas",86,299,78,86,70,4.2910000000000004,4291,7.5520552378897403E-3,1,61.3,{"$f":"RESUMEN[[#This Row],[Habitaciones vendidas]]*RESUMEN[[#This Row],[Tarifa promedio]]","v":4291}]
["2020-07-01","5 estrellas",123,101,21,122,125,10.194040000000001,10194.040000000001,3.9923347173427E-2,1.0081967213114753,81.552320000000009,{"$f":"RESUMEN[[#This Row],[Habitaciones vendidas]]*RESUMEN[[#This Row],[Tarifa promedio]]","v":10194.040000000001}]
["2020-08-01","3 estrellas",551,305,79,406,440,22.318959999999997,22318.959999999999,4.6536224219989403E-2,1.3571428571428572,50.724909090909087,{"$f":"RESUMEN[[#This Row],[Habitaciones vendidas]]*RESUMEN[[#This Row],[Tarifa promedio]]","v":22318.959999999999}]
["2020-08-01","4 estrellas",26,214,35,26,26,1.274,1274,3.9192041000904402E-3,1,49,{"$f":"RESUMEN[[#This Row],[Habitaciones vendidas]]*RESUMEN[[#This Row],[Tarifa promedio]]","v":1274}]
["2020-08-01","5 estrellas",1405,222,89,1405,1214,127.03189,127031.89,0.17640220866027301,1,104.63911861614497,{"$f":"RESUMEN[[#This Row],[Habitaciones vendidas]]*RESUMEN[[#This Row],[Tarifa promedio]]","v":127031.89}]
["2020-09-01","3 estrellas",503,261,61,438,370,17.276019999999999,17276.02,4.7254150702426598E-2,1.1484018264840183,46.691945945945946,{"$f":"RESUMEN[[#This Row],[Habitaciones vendidas]]*RESUMEN[[#This Row],[Tarifa promedio]]","v":17276.02}]
["2020-09-01","4 estrellas",973,556,104,862,885,38.762063000000005,38762.062999999995,5.3057553956834501E-2,1.1287703016241299,43.79894124293785,{"$f":"RESUMEN[[#This Row],[Habitaciones vendidas]]*RESUMEN[[#This Row],[Tarifa promedio]]","v":38762.062999999995}]
["2020-09-01","5 estrellas",1508,259,86,1075,1289,119.54669000000001,119546.69,0.16589446589446599,1.4027906976744187,92.743747090768039,{"$f":"RESUMEN[[#This Row],[Habitaciones vendidas]]*RESUMEN[[#This Row],[Tarifa promedio]]","v":119546.69}]
["2020-10-01","3 estrellas",1970,476,77,1789,1723,79.063789999999997,79063.790000000008,0.116766061263215,1.1011738401341531,45.887283807312834,{"$f":"RESUMEN[[#This Row],[Habitaciones vendidas]]*RESUMEN[[#This Row],[Tarifa promedio]]","v":79063.790000000008}]
["2020-10-01","4 estrellas",2066,513,63,2066,1942,120.63245000000002,120632.45,0.12211532415267599,1,62.117636457260552,{"$f":"RESUMEN[[#This Row],[Habitaciones vendidas]]*RESUMEN[[#This Row],[Tarifa promedio]]","v":120632.45}]
["2020-10-01","5 estrellas",885,142,29,521,885,90.67401000000001,90674.010000000009,0.20104497955474801,1.6986564299424185,102.45650847457628,{"$f":"RESUMEN[[#This Row],[Habitaciones vendidas]]*RESUMEN[[#This Row],[Tarifa promedio]]","v":90674.010000000009}]
["2020-11-01","4 estrellas",1633,630,146,1539,1342,99.427850000000007,99427.85,7.1005291005291002E-2,1.0610786224821314,74.089307004470939,{"$f":"RESUMEN[[#This Row],[Habitaciones vendidas]]*RESUMEN[[#This Row],[Tarifa promedio]]","v":99427.85}]
["2020-11-01","5 estrellas",2433,358,141,2144,2433,240.10039,240100.39,0.22653631284916201,1.134794776119403,98.684911631730387,{"$f":"RESUMEN[[#This Row],[Habitaciones vendidas]]*RESUMEN[[#This Row],[Tarifa promedio]]","v":240100.39000000004}]
["2020-11-01","3 estrellas",716,169,52,570,580,18.896620000000002,18896.62,0.11439842209073001,1.2561403508771929,32.580379310344824,{"$f":"RESUMEN[[#This Row],[Habitaciones vendidas]]*RESUMEN[[#This Row],[Tarifa promedio]]","v":18896.62}]
["2020-12-01","3 estrellas",2129,405,75,1796,1909,89.26585,89265.85,0.15205097570689,1.1854120267260579,46.760529072812993,{"$f":"RESUMEN[[#This Row],[Habitaciones vendidas]]*RESUMEN[[#This Row],[Tarifa promedio]]","v":89265.85}]
["2020-12-01","4 estrellas",924,288,45,911,704,46.684960000000004,46684.959999999999,7.8853046594982101E-2,1.0142700329308452,66.313863636363635,{"$f":"RESUMEN[[#This Row],[Habitaciones vendidas]]*RESUMEN[[#This Row],[Tarifa promedio]]","v":46684.959999999999}]
["2020-12-01","5 estrellas",4127,399,192,3742,3287,263.60106999999999,263601.07,0.26574500768049197,1.1028861571352218,80.195031944021906,{"$f":"RESUMEN[[#This Row],[Habitaciones vendidas]]*RESUMEN[[#This Row],[Tarifa promedio]]","v":263601.07}]
["2021-01-01","3 estrellas",538,309,69,444,410,26.370200000000001,26370.2,4.2801962626579003E-2,1.2117117117117118,64.317560975609751,{"$f":"RESUMEN[[#This Row],[Habitaciones vendidas]]*RESUMEN[[#This Row],[Tarifa promedio]]","v":26370.199999999997}]
["2021-01-01","4 estrellas",1488,417,90,1337,1243,84.340999999999994,84341,9.6155333797478204E-2,1.112939416604338,67.852775543041034,{"$f":"RESUMEN[[#This Row],[Habitaciones vendidas]]*RESUMEN[[#This Row],[Tarifa promedio]]","v":84341}]
["2021-01-01","5 estrellas",2269,279,117,1995,1831,190.75800000000001,190758,0.21170077465602999,1.13734335839599,104.18241398143091,{"$f":"RESUMEN[[#This Row],[Habitaciones vendidas]]*RESUMEN[[#This Row],[Tarifa promedio]]","v":190758}]
["2021-02-01","4 estrellas",4558,630,180,3923,2974,203.96093999999999,203960.94,0.16859410430839,1.161865918939587,68.581351714862137,{"$f":"RESUMEN[[#This Row],[Habitaciones vendidas]]*RESUMEN[[#This Row],[Tarifa promedio]]","v":203960.94}]
["2021-02-01","3 estrellas",619,249,59,482,507,24.735429999999997,24735.43,7.2719449225473298E-2,1.2842323651452283,48.787830374753455,{"$f":"RESUMEN[[#This Row],[Habitaciones vendidas]]*RESUMEN[[#This Row],[Tarifa promedio]]","v":24735.43}]
["2021-02-01","5 estrellas",1317,135,119,1308,959,88.128,88128,0.25370370370370399,1.0068807339449541,91.895724713242956,{"$f":"RESUMEN[[#This Row],[Habitaciones vendidas]]*RESUMEN[[#This Row],[Tarifa promedio]]","v":88128}]
["2021-03-01","5 estrellas",2363,241,116,2358,1778,236.98723999999999,236987.24,0.23798688261276901,1.0021204410517388,133.28866141732283,{"$f":"RESUMEN[[#This Row],[Habitaciones vendidas]]*RESUMEN[[#This Row],[Tarifa promedio]]","v":236987.24}]
["2021-03-01","4 estrellas",4109,719,195,3632,3666,267.43844000000001,267438.44,0.16447575037013801,1.1313325991189427,72.951020185488275,{"$f":"RESUMEN[[#This Row],[Habitaciones vendidas]]*RESUMEN[[#This Row],[Tarifa promedio]]","v":267438.44}]
["2021-03-01","3 estrellas",702,316,48,519,503,28.083079999999992,28083.08,5.1347488770926902E-2,1.3526011560693643,55.831172962226645,{"$f":"RESUMEN[[#This Row],[Habitaciones vendidas]]*RESUMEN[[#This Row],[Tarifa promedio]]","v":28083.08}]
["2021-04-01","3 estrellas",844,245,60,578,565,31.3672,31367.200000000001,7.6870748299319697E-2,1.4602076124567474,55.517168141592919,{"$f":"RESUMEN[[#This Row],[Habitaciones vendidas]]*RESUMEN[[#This Row],[Tarifa promedio]]","v":31367.200000000001}]
["2021-04-01","5 estrellas",740,40,14,726,332,51.327750000000002,51327.75,0.276666666666667,1.0192837465564739,154.60165662650601,{"$f":"RESUMEN[[#This Row],[Habitaciones vendidas]]*RESUMEN[[#This Row],[Tarifa promedio]]","v":51327.75}]
["2021-04-01","4 estrellas",3977,723,147,3065,3167,258.50156000000004,258501.56,0.146011987090825,1.2975530179445351,81.623479633722766,{"$f":"RESUMEN[[#This Row],[Habitaciones vendidas]]*RESUMEN[[#This Row],[Tarifa promedio]]","v":258501.56}]
["2021-05-01","3 estrellas",2397,416,85,2105,1752,94.307110000000009,94307.11,0.13585607940446601,1.1387173396674584,53.828259132420094,{"$f":"RESUMEN[[#This Row],[Habitaciones vendidas]]*RESUMEN[[#This Row],[Tarifa promedio]]","v":94307.11}]
["2021-05-01","4 estrellas",3414,568,102,2491,2321,208.08029999999999,208080.3,0.13181508405270301,1.3705339221196307,89.651141749246008,{"$f":"RESUMEN[[#This Row],[Habitaciones vendidas]]*RESUMEN[[#This Row],[Tarifa promedio]]","v":208080.3}]
["2021-05-01","5 estrellas",1959,184,19,1513,1102,114.34295,114342.95,0.193197755960729,1.2947785855915399,103.75948275862069,{"$f":"RESUMEN[[#This Row],[Habitaciones vendidas]]*RESUMEN[[#This Row],[Tarifa promedio]]","v":114342.95}]
["2021-06-01","4 estrellas",4360,521,196,3693,3407,240.66516999999999,240665.17,0.21797824696097201,1.1806119685892229,70.638441444085714,{"$f":"RESUMEN[[#This Row],[Habitaciones vendidas]]*RESUMEN[[#This Row],[Tarifa promedio]]","v":240665.17000000004}]
["2021-06-01","3 estrellas",3521,483,86,3305,2983,172.2199,172219.9,0.20586611456176701,1.0653555219364599,57.733791485082129,{"$f":"RESUMEN[[#This Row],[Habitaciones vendidas]]*RESUMEN[[#This Row],[Tarifa promedio]]","v":172219.9}]
["2021-06-01","5 estrellas",2725,208,114,2725,2048,202.17399999999998,202174,0.32820512820512798,1,98.7177734375,{"$f":"RESUMEN[[#This Row],[Habitaciones vendidas]]*RESUMEN[[#This Row],[Tarifa promedio]]","v":202174}]
["2021-07-01","3 estrellas",2899,495,89,2536,2414,160.47637,160476.37,0.15731508634734401,1.1431388012618298,66.477369511184747,{"$f":"RESUMEN[[#This Row],[Habitaciones vendidas]]*RESUMEN[[#This Row],[Tarifa promedio]]","v":160476.36999999997}]
["2021-07-01","4 estrellas",5846,526,171,5568,4274,419.67912999999999,419679.13,0.26211210597326101,1.0499281609195403,98.193525970987366,{"$f":"RESUMEN[[#This Row],[Habitaciones vendidas]]*RESUMEN[[#This Row],[Tarifa promedio]]","v":419679.13}]
["2021-07-01","5 estrellas",3754,249,112,3745,2541,298.31655000000001,298316.55,0.329187718616401,1.0024032042723632,117.40123966942149,{"$f":"RESUMEN[[#This Row],[Habitaciones vendidas]]*RESUMEN[[#This Row],[Tarifa promedio]]","v":298316.55}]
["2021-08-01","3 estrellas",2046,347,82,1606,1419,70.117789999999985,70117.790000000008,0.13191410244492,1.273972602739726,49.413523608174778,{"$f":"RESUMEN[[#This Row],[Habitaciones vendidas]]*RESUMEN[[#This Row],[Tarifa promedio]]","v":70117.790000000008}]
["2021-08-01","4 estrellas",7227,580,174,6732,5793,540.93280000000004,540932.80000000005,0.32219132369299203,1.0735294117647058,93.376972207837056,{"$f":"RESUMEN[[#This Row],[Habitaciones vendidas]]*RESUMEN[[#This Row],[Tarifa promedio]]","v":540932.80000000005}]
["2021-08-01","5 estrellas",8022,675,131,7999,6561,866.86097000000007,866860.97,0.31354838709677402,1.0028753594199276,132.12329980185947,{"$f":"RESUMEN[[#This Row],[Habitaciones vendidas]]*RESUMEN[[#This Row],[Tarifa promedio]]","v":866860.97}]
["2021-09-01","3 estrellas",1251,298,56,959,1187,57.355620000000002,57355.619999999995,0.132774049217002,1.3044838373305527,48.319814658803701,{"$f":"RESUMEN[[#This Row],[Habitaciones vendidas]]*RESUMEN[[#This Row],[Tarifa promedio]]","v":57355.619999999995}]
["2021-09-01","4 estrellas",9452,994,249,8650,8323,705.76109999999994,705761.1,0.279107981220657,1.0927167630057804,84.796479634747087,{"$f":"RESUMEN[[#This Row],[Habitaciones vendidas]]*RESUMEN[[#This Row],[Tarifa promedio]]","v":705761.1}]
["2021-09-01","5 estrellas",4399,242,115,4397,3200,376.52305999999999,376523.06,0.44077134986225902,1.0004548555833523,117.66345625,{"$f":"RESUMEN[[#This Row],[Habitaciones vendidas]]*RESUMEN[[#This Row],[Tarifa promedio]]","v":376523.06}]
["2021-10-31","4 estrellas",12137,923,259,10040,8951,775.75044000000003,775750.44000000006,0.312829832593576,1.2088645418326693,86.666343425315617,{"$f":"RESUMEN[[#This Row],[Habitaciones vendidas]]*RESUMEN[[#This Row],[Tarifa promedio]]","v":775750.44000000006}]
["2021-10-31","3 estrellas",2707,391,89,2313,2460,189.46395999999999,189463.96000000002,0.20295355168715501,1.1703415477734544,77.017869918699191,{"$f":"RESUMEN[[#This Row],[Habitaciones vendidas]]*RESUMEN[[#This Row],[Tarifa promedio]]","v":189463.96000000002}]
["2021-10-31","5 estrellas",3956,217,138,3942,3065,344.06617999999997,344066.18,0.455626579455924,1.0035514967021817,112.25650244698205,{"$f":"RESUMEN[[#This Row],[Habitaciones vendidas]]*RESUMEN[[#This Row],[Tarifa promedio]]","v":344066.18}]

{"sheet":"BASE","index":2,"n_rows":665,"n_cols":19,"rows_kept":665,"cut":false,"hidden":true,"merged":[]}
["FECHA","DIAS DEL MES","MES","AÑO","NÚMERO DE REGISTRO TURÍSTICO","SECTOR","CATEGORÍA DE ALOJAMIENTO DEL ESTABLECIMIENTO","TIPO DE ALOJAMIENTO","TOTAL DE HABITACIONES","VENTAS POR ALOJAMIENTO DURANTE EL MES DE LA ENCUESTA","VENTAS POR ALOJAMIENTO DURANTE EL MES (MILES)","TOTAL HABITACIONES VENDIDAS","LLEGADAS EN EL MES RESIDENTES","LLEGADAS EN EL MES NO RESIDENTES","TOTAL LLEGADAS","PERNOCTACIONES RESIDENTES","PERNOCTACIONES NO RESIDENTES","TOTAL PERNOCTACIONES","EMPLEOS"]
[43800,{"$f":"DAY(EOMONTH(Base[[#This Row],[FECHA]],0))","v":31},{"$f":"PROPER(TEXT(Base[[#This Row],[FECHA]],\"MMMM\"))","v":"Diciembre"},{"$f":"YEAR(Base[[#This Row],[FECHA]])","v":2019},"PUIOAJ-00000021","La Mariscal","3 estrellas","Hotel",40,12000,{"$f":"Base[[#This Row],[VENTAS POR ALOJAMIENTO DURANTE EL MES DE LA ENCUESTA]]/1000","v":12},395,337,21,358,372,32,404,8]
[43800,{"$f":"DAY(EOMONTH(Base[[#This Row],[FECHA]],0))","v":31},{"$f":"PROPER(TEXT(Base[[#This Row],[FECHA]],\"MMMM\"))","v":"Diciembre"},{"$f":"YEAR(Base[[#This Row],[FECHA]])","v":2019},"PUIOAJ-00004601","Eugenio Espejo","3 estrellas","Hotel",12,4600.5,{"$f":"Base[[#This Row],[VENTAS POR ALOJAMIENTO DURANTE EL MES DE LA ENCUESTA]]/1000","v":4.6005000000000003},141,195,141,336,195,141,336,6]
[43800,{"$f":"DAY(EOMONTH(Base[[#This Row],[FECHA]],0))","v":31},{"$f":"PROPER(TEXT(Base[[#This Row],[FECHA]],\"MMMM\"))","v":"Diciembre"},{"$f":"YEAR(Base[[#This Row],[FECHA]])","v":2019},"PUIOAJ-00000035","Eugenio Espejo","3 estrellas","Hotel",13,null,{"$f":"Base[[#This Row],[VENTAS POR ALOJAMIENTO DURANTE EL MES DE LA ENCUESTA]]/1000","v":0},13,3,14,17,14,35,49,0]
[43800,{"$f":"DAY(EOMONTH(Base[[#This Row],[FECHA]],0))","v":31},{"$f":"PROPER(TEXT(Base[[#This Row],[FECHA]],\"MMMM\"))","v":"Diciembre"},{"$f":"YEAR(Base[[#This Row],[FECHA]])","v":2019},"PUIOAJ-00000290","La Delicia","4 estrellas","Lodge",14,39000,{"$f":"Base[[#This Row],[VENTAS POR ALOJAMIENTO DURANTE EL MES DE LA ENCUESTA]]/1000","v":39},176,48,306,354,48,306,354,0]
[43800,{"$f":"DAY(EOMONTH(Base[[#This Row],[FECHA]],0))","v":31},{"$f":"PROPER(TEXT(Base[[#This Row],[FECHA]],\"MMMM\"))","v":"Diciembre"},{"$f":"YEAR(Base[[#This Row],[FECHA]])","v":2019},"PUIOAJ-00000541","La Mariscal","4 estrellas","Hotel",46,34515,{"$f":"Base[[#This Row],[VENTAS POR ALOJAMIENTO DURANTE EL MES DE LA ENCUESTA]]/1000","v":34.515000000000001},615,319,615,934,319,615,934,19]
[43800,{"$f":"DAY(EOMONTH(Base[[#This Row],[FECHA]],0))","v":31},{"$f":"PROPER(TEXT(Base[[#This Row],[FECHA]],\"MMMM\"))","v":"Diciembre"},{"$f":"YEAR(Base[[#This Row],[FECHA]])","v":2019},"PUIOAJ-00001434","La Mariscal","3 estrellas","Hotel",8,1325,{"$f":"Base[[#This Row],[VENTAS POR ALOJAMIENTO DURANTE EL MES DE LA ENCUESTA]]/1000","v":1.325},8,7,15,22,14,30,44,3]
[43800,{"$f":"DAY(EOMONTH(Base[[#This Row],[FECHA]],0))","v":31},{"$f":"PROPER(TEXT(Base[[#This Row],[FECHA]],\"MMMM\"))","v":"Diciembre"},{"$f":"YEAR(Base[[#This Row],[FECHA]])","v":2019},"PUIOAJ-00000392","Manuela Sáenz","4 estrellas","Hotel",25,null,{"$f":"Base[[#This Row],[VENTAS POR ALOJAMIENTO DURANTE EL MES DE LA ENCUESTA]]/1000","v":0},151,12,147,159,12,293,305,15]
[43800,{"$f":"DAY(EOMONTH(Base[[#This Row],[FECHA]],0))","v":31},{"$f":"PROPER(TEXT(Base[[#This Row],[FECHA]],\"MMMM\"))","v":"Diciembre"},{"$f":"YEAR(Base[[#This Row],[FECHA]])","v":2019},"PUIOAJ-00000423","Tumbaco","5 estrellas","Hostería",7,4078,{"$f":"Base[[#This Row],[VENTAS POR ALOJAMIENTO DURANTE EL MES DE LA ENCUESTA]]/1000","v":4.0780000000000003},40,18,62,80,18,62,80,7]
[43800,{"$f":"DAY(EOMONTH(Base[[#This Row],[FECHA]],0))","v":31},{"$f":"PROPER(TEXT(Base[[#This Row],[FECHA]],\"MMMM\"))","v":"Diciembre"},{"$f":"YEAR(Base[[#This Row],[FECHA]])","v":2019},"PUIOAJ-00000582","Tumbaco","5 estrellas","Hacienda Turística",11,3790,{"$f":"Base[[#This Row],[VENTAS POR ALOJAMIENTO DURANTE EL MES DE LA ENCUESTA]]/1000","v":3.79},32,40,12,52,40,12,52,4]
[43800,{"$f":"DAY(EOMONTH(Base[[#This Row],[FECHA]],0))","v":31},{"$f":"PROPER(TEXT(Base[[#This Row],[FECHA]],\"MMMM\"))","v":"Diciembre"},{"$f":"YEAR(Base[[#This Row],[FECHA]])","v":2019},"PUIOAJ-00000350","La Mariscal","3 estrellas","Hotel",10,5691.75,{"$f":"Base[[#This Row],[VENTAS POR ALOJAMIENTO DURANTE EL MES DE LA ENCUESTA]]/1000","v":5.6917499999999999},114,null,21,21,null,106,106,2]
[43800,{"$f":"DAY(EOMONTH(Base[[#This Row],[FECHA]],0))","v":31},{"$f":"PROPER(TEXT(Base[[#This Row],[FECHA]],\"MMMM\"))","v":"Diciembre"},{"$f":"YEAR(Base[[#This Row],[FECHA]])","v":2019},"PUIOAJ-00000039","La Mariscal","3 estrellas","Hotel",20,6330.09,{"$f":"Base[[#This Row],[VENTAS POR ALOJAMIENTO DURANTE EL MES DE LA ENCUESTA]]/1000","v":6.3300900000000002},215,16,207,223,16,367,383,9]
[43800,{"$f":"DAY(EOMONTH(Base[[#This Row],[FECHA]],0))","v":31},{"$f":"PROPER(TEXT(Base[[#This Row],[FECHA]],\"MMMM\"))","v":"Diciembre"},{"$f":"YEAR(Base[[#This Row],[FECHA]])","v":2019},"PUIOAJ-00000024","Manuela Sáenz","4 estrellas","Hotel",18,3657,{"$f":"Base[[#This Row],[VENTAS POR ALOJAMIENTO DURANTE EL MES DE LA ENCUESTA]]/1000","v":3.657},42,null,15,15,null,15,15,6]
[43800,{"$f":"DAY(EOMONTH(Base[[#This Row],[FECHA]],0))","v":31},{"$f":"PROPER(TEXT(Base[[#This Row],[FECHA]],\"MMMM\"))","v":"Diciembre"},{"$f":"YEAR(Base[[#This Row],[FECHA]])","v":2019},"PUIOAJ-00000233","Eugenio Espejo","4 estrellas","Hotel",23,3600,{"$f":"Base[[#This Row],[VENTAS POR ALOJAMIENTO DURANTE EL MES DE LA ENCUESTA]]/1000","v":3.6},45,22,28,50,22,28,50,4]
[43800,{"$f":"DAY(EOMONTH(Base[[#This Row],[FECHA]],0))","v":31},{"$f":"PROPER(TEXT(Base[[#This Row],[FECHA]],\"MMMM\"))","v":"Diciembre"},{"$f":"YEAR(Base[[#This Row],[FECHA]])","v":2019},"PUIOAJ-00001397","Tumbaco","5 estrellas","Hacienda Turística",7,2589.5,{"$f":"Base[[#This Row],[VENTAS POR ALOJAMIENTO DURANTE EL MES DE LA ENCUESTA]]/1000","v":2.5895000000000001},22,29,19,48,29,19,48,9]
[43800,{"$f":"DAY(EOMONTH(Base[[#This Row],[FECHA]],0))","v":31},{"$f":"PROPER(TEXT(Base[[#This Row],[FECHA]],\"MMMM\"))","v":"Diciembre"},{"$f":"YEAR(Base[[#This Row],[FECHA]])","v":2019},"PUIOAJ-00000064","La Mariscal","5 estrellas","Hotel",255,373271,{"$f":"Base[[#This Row],[VENTAS POR ALOJAMIENTO DURANTE EL MES DE LA ENCUESTA]]/1000","v":373.27100000000002},4053,359,2034,2393,608,3445,4053,453]
[43800,{"$f":"DAY(EOMONTH(Base[[#This Row],[FECHA]],0))","v":31},{"$f":"PROPER(TEXT(Base[[#This Row],[FECHA]],\"MMMM\"))","v":"Diciembre"},{"$f":"YEAR(Base[[#This Row],[FECHA]])","v":2019},"PUIOAJ-00000223","La Mariscal","4 estrellas","Hotel",141,152796.53,{"$f":"Base[[#This Row],[VENTAS POR ALOJAMIENTO DURANTE EL MES DE LA ENCUESTA]]/1000","v":152.79652999999999},1960,null,null,0,665,1305,1970,44]
[43800,{"$f":"DAY(EOMONTH(Base[[#This Row],[FECHA]],0))","v":31},{"$f":"PROPER(TEXT(Base[[#This Row],[FECHA]],\"MMMM\"))","v":"Diciembre"},{"$f":"YEAR(Base[[#This Row],[FECHA]])","v":2019},"PUIOAJ-00000575","La Delicia","3 estrellas","Hostal",7,900,{"$f":"Base[[#This Row],[VENTAS POR ALOJAMIENTO DURANTE EL MES DE LA ENCUESTA]]/1000","v":0.9},6,12,null,12,15,null,15,3]
[43800,{"$f":"DAY(EOMONTH(Base[[#This Row],[FECHA]],0))","v":31},{"$f":"PROPER(TEXT(Base[[#This Row],[FECHA]],\"MMMM\"))","v":"Diciembre"},{"$f":"YEAR(Base[[#This Row],[FECHA]])","v":2019},"PUIOAJ-00000435","Manuela Sáenz","3 estrellas","Hostal",6,4000,{"$f":"Base[[#This Row],[VENTAS POR ALOJAMIENTO DURANTE EL MES DE LA ENCUESTA]]/1000","v":4},12,null,40,40,null,40,40,6]
[43800,{"$f":"DAY(EOMONTH(Base[[#This Row],[FECHA]],0))","v":31},{"$f":"PROPER(TEXT(Base[[#This Row],[FECHA]],\"MMMM\"))","v":"Diciembre"},{"$f":"YEAR(Base[[#This Row],[FECHA]])","v":2019},"PUIOAJ-00000201","La Mariscal","3 estrellas","Hostal",14,null,{"$f":"Base[[#This Row],[VENTAS POR ALOJAMIENTO DURANTE EL MES DE LA ENCUESTA]]/1000","v":0},14,12,null,12,19,null,19,1]
[43800,{"$f":"DAY(EOMONTH(Base[[#This Row],[FECHA]],0))","v":31},{"$f":"PROPER(TEXT(Base[[#This Row],[FECHA]],\"MMMM\"))","v":"Diciembre"},{"$f":"YEAR(Base[[#This Row],[FECHA]])","v":2019},"PUIOAJ-00000520","La Delicia","3 estrellas","Hostería",14,1200,{"$f":"Base[[#This Row],[VENTAS POR ALOJAMIENTO DURANTE EL MES DE LA ENCUESTA]]/1000","v":1.2},40,57,3,60,57,3,60,14]
[43800,{"$f":"DAY(EOMONTH(Base[[#This Row],[FECHA]],0))","v":31},{"$f":"PROPER(TEXT(Base[[#This Row],[FECHA]],\"MMMM\"))","v":"Diciembre"},{"$f":"YEAR(Base[[#This Row],[FECHA]])","v":2019},"PUIOAJ-00001516","Los Chillos","3 estrellas","Hostería",13,500,{"$f":"Base[[#This Row],[VENTAS POR ALOJAMIENTO DURANTE EL MES DE LA ENCUESTA]]/1000","v":0.5},14,30,null,30,30,null,30,7]
[43800,{"$f":"DAY(EOMONTH(Base[[#This Row],[FECHA]],0))","v":31},{"$f":"PROPER(TEXT(Base[[#This Row],[FECHA]],\"MMMM\"))","v":"Diciembre"},{"$f":"YEAR(Base[[#This Row],[FECHA]])","v":2019},"PUIOAJ-00000110","Eugenio Espejo","3 estrellas","Hostería",10,98.4,{"$f":"Base[[#This Row],[VENTAS POR ALOJAMIENTO DURANTE EL MES DE LA ENCUESTA]]/1000","v":9.8400000000000001E-2},20,20,null,20,20,null,20,6]
[43800,{"$f":"DAY(EOMONTH(Base[[#This Row],[FECHA]],0))","v":31},{"$f":"PROPER(TEXT(Base[[#This Row],[FECHA]],\"MMMM\"))","v":"Diciembre"},{"$f":"YEAR(Base[[#This Row],[FECHA]])","v":2019},"PUIOAJ-00000033","Los Chillos","3 estrellas","Hostería",null,null,{"$f":"Base[[#This Row],[VENTAS POR ALOJAMIENTO DURANTE EL MES DE LA ENCUESTA]]/1000","v":0},0,null,null,0,null,null,0,0]
[43800,{"$f":"DAY(EOMONTH(Base[[#This Row],[FECHA]],0))","v":31},{"$f":"PROPER(TEXT(Base[[#This Row],[FECHA]],\"MMMM\"))","v":"Diciembre"},{"$f":"YEAR(Base[[#This Row],[FECHA]])","v":2019},"PUIOAJ-00000374","Los Chillos","4 estrellas","Hostería",12,507.28,{"$f":"Base[[#This Row],[VENTAS POR ALOJAMIENTO DURANTE EL MES DE LA ENCUESTA]]/1000","v":0.50727999999999995},128,null,null,0,null,null,0,7]
[43800,{"$f":"DAY(EOMONTH(Base[[#This Row],[FECHA]],0))","v":31},{"$f":"PROPER(TEXT(Base[[#This Row],[FECHA]],\"MMMM\"))","v":"Diciembre"},{"$f":"YEAR(Base[[#This Row],[FECHA]])","v":2019},"PUIOAJ-00004644","Tumbaco","3 estrellas","Hostería",6,1300,{"$f":"Base[[#This Row],[VENTAS POR ALOJAMIENTO DURANTE EL MES DE LA ENCUESTA]]/1000","v":1.3},27,50,6,56,50,6,56,6]
[43800,{"$f":"DAY(EOMONTH(Base[[#This Row],[FECHA]],0))","v":31},{"$f":"PROPER(TEXT(Base[[#This Row],[FECHA]],\"MMMM\"))","v":"Diciembre"},{"$f":"YEAR(Base[[#This Row],[FECHA]])","v":2019},"PUIOAJ-00000171","La Mariscal","3 estrellas","Hotel",40,17989.48,{"$f":"Base[[#This Row],[VENTAS POR ALOJAMIENTO DURANTE EL MES DE LA ENCUESTA]]/1000","v":17.98948},331,116,214,330,357,214,571,29]
[43800,{"$f":"DAY(EOMONTH(Base[[#This Row],[FECHA]],0))","v":31},{"$f":"PROPER(TEXT(Base[[#This Row],[FECHA]],\"MMMM\"))","v":"Diciembre"},{"$f":"YEAR(Base[[#This Row],[FECHA]])","v":2019},"PUIOAJ-00000209","La Mariscal","3 estrellas","Hotel",15,2766,{"$f":"Base[[#This Row],[VENTAS POR ALOJAMIENTO DURANTE EL MES DE LA ENCUESTA]]/1000","v":2.766},69,null,25,25,null,25,25,5]
[43800,{"$f":"DAY(EOMONTH(Base[[#This Row],[FECHA]],0))","v":31},{"$f":"PROPER(TEXT(Base[[#This Row],[FECHA]],\"MMMM\"))","v":"Diciembre"},{"$f":"YEAR(Base[[#This Row],[FECHA]])","v":2019},"PUIOAJ-00000156","Manuela Sáenz","4 estrellas","Hotel",49,85264.01,{"$f":"Base[[#This Row],[VENTAS POR ALOJAMIENTO DURANTE EL MES DE LA ENCUESTA]]/1000","v":85.264009999999999},390,592,231,823,592,231,823,44]
[43800,{"$f":"DAY(EOMONTH(Base[[#This Row],[FECHA]],0))","v":31},{"$f":"PROPER(TEXT(Base[[#This Row],[FECHA]],\"MMMM\"))","v":"Diciembre"},{"$f":"YEAR(Base[[#This Row],[FECHA]])","v":2019},"PUIOAJ-00000102","La Mariscal","3 estrellas","Hotel",36,5582.82,{"$f":"Base[[#This Row],[VENTAS POR ALOJAMIENTO DURANTE EL MES DE LA ENCUESTA]]/1000","v":5.5828199999999999},171,153,null,153,153,null,153,9]
[43800,{"$f":"DAY(EOMONTH(Base[[#This Row],[FECHA]],0))","v":31},{"$f":"PROPER(TEXT(Base[[#This Row],[FECHA]],\"MMMM\"))","v":"Diciembre"},{"$f":"YEAR(Base[[#This Row],[FECHA]])","v":2019},"PUIOAJ-00000572","Manuela Sáenz","3 estrellas","Hotel",24,17000,{"$f":"Base[[#This Row],[VENTAS POR ALOJAMIENTO DURANTE EL MES DE LA ENCUESTA]]/1000","v":17},198,35,163,198,35,163,198,10]
[43800,{"$f":"DAY(EOMONTH(Base[[#This Row],[FECHA]],0))","v":31},{"$f":"PROPER(TEXT(Base[[#This Row],[FECHA]],\"MMMM\"))","v":"Diciembre"},{"$f":"YEAR(Base[[#This Row],[FECHA]])","v":2019},"PUIOAJ-00000392","Manuela Sáenz","3 estrellas","Hotel",10,19890.45,{"$f":"Base[[#This Row],[VENTAS POR ALOJAMIENTO DURANTE EL MES DE LA ENCUESTA]]/1000","v":19.890450000000001},136,null,null,0,null,null,0,6]
[43800,{"$f":"DAY(EOMONTH(Base[[#This Row],[FECHA]],0))","v":31},{"$f":"PROPER(TEXT(Base[[#This Row],[FECHA]],\"MMMM\"))","v":"Diciembre"},{"$f":"YEAR(Base[[#This Row],[FECHA]])","v":2019},"PUIOAJ-00000152","Eugenio Espejo","4 estrellas","Hotel",152,167518.81,{"$f":"Base[[#This Row],[VENTAS POR ALOJAMIENTO DURANTE EL MES DE LA ENCUESTA]]/1000","v":167.51881},2657,1456,644,2100,1456,644,2100,67]
[43800,{"$f":"DAY(EOMONTH(Base[[#This Row],[FECHA]],0))","v":31},{"$f":"PROPER(TEXT(Base[[#This Row],[FECHA]],\"MMMM\"))","v":"Diciembre"},{"$f":"YEAR(Base[[#This Row],[FECHA]])","v":2019},"PUIOAJ-00000036","Eugenio Espejo","3 estrellas","Hotel",14,2336.7800000000002,{"$f":"Base[[#This Row],[VENTAS POR ALOJAMIENTO DURANTE EL MES DE LA ENCUESTA]]/1000","v":2.3367800000000001},60,64,16,80,64,16,80,2]
[43800,{"$f":"DAY(EOMONTH(Base[[#This Row],[FECHA]],0))","v":31},{"$f":"PROPER(TEXT(Base[[#This Row],[FECHA]],\"MMMM\"))","v":"Diciembre"},{"$f":"YEAR(Base[[#This Row],[FECHA]])","v":2019},"PUIOAJ-00000402","Eugenio Espejo","3 estrellas","Hotel",40,3240,{"$f":"Base[[#This Row],[VENTAS POR ALOJAMIENTO DURANTE EL MES DE LA ENCUESTA]]/1000","v":3.24},180,90,90,180,90,90,180,6]
[43800,{"$f":"DAY(EOMONTH(Base[[#This Row],[FECHA]],0))","v":31},{"$f":"PROPER(TEXT(Base[[#This Row],[FECHA]],\"MMMM\"))","v":"Diciembre"},{"$f":"YEAR(Base[[#This Row],[FECHA]])","v":2019},"PUIOAJ-00000170","Manuela Sáenz","5 estrellas","Hotel",15,53961,{"$f":"Base[[#This Row],[VENTAS POR ALOJAMIENTO DURANTE EL MES DE LA ENCUESTA]]/1000","v":53.960999999999999},268,10,526,536,10,526,536,8]
[43800,{"$f":"DAY(EOMONTH(Base[[#This Row],[FECHA]],0))","v":31},{"$f":"PROPER(TEXT(Base[[#This Row],[FECHA]],\"MMMM\"))","v":"Diciembre"},{"$f":"YEAR(Base[[#This Row],[FECHA]])","v":2019},"PUIOAJ-00000072","La Mariscal","4 estrellas","Hotel",null,42560.01,{"$f":"Base[[#This Row],[VENTAS POR ALOJAMIENTO DURANTE EL MES DE LA ENCUESTA]]/1000","v":42.560010000000005},896,null,null,0,null,null,0,81]
[43800,{"$f":"DAY(EOMONTH(Base[[#This Row],[FECHA]],0))","v":31},{"$f":"PROPER(TEXT(Base[[#This Row],[FECHA]],\"MMMM\"))","v":"Diciembre"},{"$f":"YEAR(Base[[#This Row],[FECHA]])","v":2019},"PUIOAJ-00000075","Manuela Sáenz","4 estrellas","Hotel",80,15273,{"$f":"Base[[#This Row],[VENTAS POR ALOJAMIENTO DURANTE EL MES DE LA ENCUESTA]]/1000","v":15.273},240,null,null,0,363,157,520,35]
[43800,{"$f":"DAY(EOMONTH(Base[[#This Row],[FECHA]],0))","v":31},{"$f":"PROPER(TEXT(Base[[#This Row],[FECHA]],\"MMMM\"))","v":"Diciembre"},{"$f":"YEAR(Base[[#This Row],[FECHA]])","v":2019},"PUIOAJ-00000274","Eugenio Espejo","3 estrellas","Hotel",13,8358.1299999999992,{"$f":"Base[[#This Row],[VENTAS POR ALOJAMIENTO DURANTE EL MES DE LA ENCUESTA]]/1000","v":8.3581299999999992},185,134,5,139,134,5,139,0]
[43800,{"$f":"DAY(EOMONTH(Base[[#This Row],[FECHA]],0))","v":31},{"$f":"PROPER(TEXT(Base[[#This Row],[FECHA]],\"MMMM\"))","v":"Diciembre"},{"$f":"YEAR(Base[[#This Row],[FECHA]])","v":2019},"PUIOAJ-00000505","Tumbaco","3 estrellas","Hostal",9,433.85,{"$f":"Base[[#This Row],[VENTAS POR ALOJAMIENTO DURANTE EL MES DE LA ENCUESTA]]/1000","v":0.43385000000000001},15,11,4,15,11,4,15,2]
[43800,{"$f":"DAY(EOMONTH(Base[[#This Row],[FECHA]],0))","v":31},{"$f":"PROPER(TEXT(Base[[#This Row],[FECHA]],\"MMMM\"))","v":"Diciembre"},{"$f":"YEAR(Base[[#This Row],[FECHA]])","v":2019},"PUIOAJ-00001479","Eloy Alfaro","3 estrellas","Hotel",40,2500,{"$f":"Base[[#This Row],[VENTAS POR ALOJAMIENTO DURANTE EL MES DE LA ENCUESTA]]/1000","v":2.5},40,6,null,6,6,null,6,13]
[43800,{"$f":"DAY(EOMONTH(Base[[#This Row],[FECHA]],0))","v":31},{"$f":"PROPER(TEXT(Base[[#This Row],[FECHA]],\"MMMM\"))","v":"Diciembre"},{"$f":"YEAR(Base[[#This Row],[FECHA]])","v":2019},"PUIOAJ-00000080","Eugenio Espejo","3 estrellas","Hotel",37,2610.6799999999998,{"$f":"Base[[#This Row],[VENTAS POR ALOJAMIENTO DURANTE EL MES DE LA ENCUESTA]]/1000","v":2.6106799999999999},191,3,null,3,3,null,3,4]
[43800,{"$f":"DAY(EOMONTH(Base[[#This Row],[FECHA]],0))","v":31},{"$f":"PROPER(TEXT(Base[[#This Row],[FECHA]],\"MMMM\"))","v":"Diciembre"},{"$f":"YEAR(Base[[#This Row],[FECHA]])","v":2019},"PUIOAJ-00000108","Los Chillos","3 estrellas","Hostería",10,400,{"$f":"Base[[#This Row],[VENTAS POR ALOJAMIENTO DURANTE EL MES DE LA ENCUESTA]]/1000","v":0.4},10,8,null,8,8,null,8,12]
[43800,{"$f":"DAY(EOMONTH(Base[[#This Row],[FECHA]],0))","v":31},{"$f":"PROPER(TEXT(Base[[#This Row],[FECHA]],\"MMMM\"))","v":"Diciembre"},{"$f":"YEAR(Base[[#This Row],[FECHA]])","v":2019},"PUIOAJ-00000085","Manuela Sáenz","3 estrellas","Hotel",29,1992.61,{"$f":"Base[[#This Row],[VENTAS POR ALOJAMIENTO DURANTE EL MES DE LA ENCUESTA]]/1000","v":1.99261},0,null,null,0,null,null,0,6]
[43800,{"$f":"DAY(EOMONTH(Base[[#This Row],[FECHA]],0))","v":31},{"$f":"PROPER(TEXT(Base[[#This Row],[FECHA]],\"MMMM\"))","v":"Diciembre"},{"$f":"YEAR(Base[[#This Row],[FECHA]])","v":2019},"PUIOAJ-00000263","La Mariscal","4 estrellas","Hotel",null,32394.84,{"$f":"Base[[#This Row],[VENTAS POR ALOJAMIENTO DURANTE EL MES DE LA ENCUESTA]]/1000","v":32.394840000000002},527,20,875,895,20,875,895,20]
[43800,{"$f":"DAY(EOMONTH(Base[[#This Row],[FECHA]],0))","v":31},{"$f":"PROPER(TEXT(Base[[#This Row],[FECHA]],\"MMMM\"))","v":"Diciembre"},{"$f":"YEAR(Base[[#This Row],[FECHA]])","v":2019},"PUIOAJ-00001636","Tumbaco","3 estrellas","Hotel",18,13509.89,{"$f":"Base[[#This Row],[VENTAS POR ALOJAMIENTO DURANTE EL MES DE LA ENCUESTA]]/1000","v":13.509889999999999},0,null,null,0,null,null,0,9]
[43800,{"$f":"DAY(EOMONTH(Base[[#This Row],[FECHA]],0))","v":31},{"$f":"PROPER(TEXT(Base[[#This Row],[FECHA]],\"MMMM\"))","v":"Diciembre"},{"$f":"YEAR(Base[[#This Row],[FECHA]])","v":2019},"PUIOAJ-00001440","Manuela Sáenz","5 estrellas","Hotel",10,null,{"$f":"Base[[#This Row],[VENTAS POR ALOJAMIENTO DURANTE EL MES DE LA ENCUESTA]]/1000","v":0},186,3,92,95,3,92,95,0]
[43800,{"$f":"DAY(EOMONTH(Base[[#This Row],[FECHA]],0))","v":31},{"$f":"PROPER(TEXT(Base[[#This Row],[FECHA]],\"MMMM\"))","v":"Diciembre"},{"$f":"YEAR(Base[[#This Row],[FECHA]])","v":2019},"PUIOAJ-00000071","Manuela Sáenz","3 estrellas","Hotel",41,6523.42,{"$f":"Base[[#This Row],[VENTAS POR ALOJAMIENTO DURANTE EL MES DE LA ENCUESTA]]/1000","v":6.5234199999999998},164,266,null,266,266,null,266,8]
[43800,{"$f":"DAY(EOMONTH(Base[[#This Row],[FECHA]],0))","v":31},{"$f":"PROPER(TEXT(Base[[#This Row],[FECHA]],\"MMMM\"))","v":"Diciembre"},{"$f":"YEAR(Base[[#This Row],[FECHA]])","v":2019},"PUIOAJ-00000081","Manuela Sáenz","3 estrellas","Hotel",21,1297,{"$f":"Base[[#This Row],[VENTAS POR ALOJAMIENTO DURANTE EL MES DE LA ENCUESTA]]/1000","v":1.2969999999999999},0,46,33,79,46,33,79,4]
[43800,{"$f":"DAY(EOMONTH(Base[[#This Row],[FECHA]],0))","v":31},{"$f":"PROPER(TEXT(Base[[#This Row],[FECHA]],\"MMMM\"))","v":"Diciembre"},{"$f":"YEAR(Base[[#This Row],[FECHA]])","v":2019},"PUIOAJ-00001620","Tumbaco","3 estrellas","Hostal",5,744.73,{"$f":"Base[[#This Row],[VENTAS POR ALOJAMIENTO DURANTE EL MES DE LA ENCUESTA]]/1000","v":0.74473},10,5,1,6,7,3,10,0]
[43800,{"$f":"DAY(EOMONTH(Base[[#This Row],[FECHA]],0))","v":31},{"$f":"PROPER(TEXT(Base[[#This Row],[FECHA]],\"MMMM\"))","v":"Diciembre"},{"$f":"YEAR(Base[[#This Row],[FECHA]])","v":2019},"PUIOAJ-00000126","Eugenio Espejo","3 estrellas","Hostal",25,5745.65,{"$f":"Base[[#This Row],[VENTAS POR ALOJAMIENTO DURANTE EL MES DE LA ENCUESTA]]/1000","v":5.7456499999999995},138,129,21,150,139,21,150,9]
[43800,{"$f":"DAY(EOMONTH(Base[[#This Row],[FECHA]],0))","v":31},{"$f":"PROPER(TEXT(Base[[#This Row],[FECHA]],\"MMMM\"))","v":"Diciembre"},{"$f":"YEAR(Base[[#This Row],[FECHA]])","v":2019},"PUIOAJ-00000255","La Mariscal","4 estrellas","Hotel",12,null,{"$f":"Base[[#This Row],[VENTAS POR ALOJAMIENTO DURANTE EL MES DE LA ENCUESTA]]/1000","v":0},200,5,200,205,5,200,205,9]
[43800,{"$f":"DAY(EOMONTH(Base[[#This Row],[FECHA]],0))","v":31},{"$f":"PROPER(TEXT(Base[[#This Row],[FECHA]],\"MMMM\"))","v":"Diciembre"},{"$f":"YEAR(Base[[#This Row],[FECHA]])","v":2019},"PUIOAJ-00001488","Eugenio Espejo","3 estrellas","Hostería",5,null,{"$f":"Base[[#This Row],[VENTAS POR ALOJAMIENTO DURANTE EL MES DE LA ENCUESTA]]/1000","v":0},0,null,null,0,null,null,0,7]
[43800,{"$f":"DAY(EOMONTH(Base[[#This Row],[FECHA]],0))","v":31},{"$f":"PROPER(TEXT(Base[[#This Row],[FECHA]],\"MMMM\"))","v":"Diciembre"},{"$f":"YEAR(Base[[#This Row],[FECHA]])","v":2019},"PUIOAJ-00000491","Manuela Sáenz","4 estrellas","Hotel",22,44800,{"$f":"Base[[#This Row],[VENTAS POR ALOJAMIENTO DURANTE EL MES DE LA ENCUESTA]]/1000","v":44.8},414,null,774,774,null,774,774,23]
[43800,{"$f":"DAY(EOMONTH(Base[[#This Row],[FECHA]],0))","v":31},{"$f":"PROPER(TEXT(Base[[#This Row],[FECHA]],\"MMMM\"))","v":"Diciembre"},{"$f":"YEAR(Base[[#This Row],[FECHA]])","v":2019},"PUIOAJ-00000370","Eugenio Espejo","4 estrellas","Hotel",30,70172.009999999995,{"$f":"Base[[#This Row],[VENTAS POR ALOJAMIENTO DURANTE EL MES DE LA ENCUESTA]]/1000","v":70.17201},618,138,809,947,138,809,947,44]
[43800,{"$f":"DAY(EOMONTH(Base[[#This Row],[FECHA]],0))","v":31},{"$f":"PROPER(TEXT(Base[[#This Row],[FECHA]],\"MMMM\"))","v":"Diciembre"},{"$f":"YEAR(Base[[#This Row],[FECHA]])","v":2019},"PUIOAJ-00000165","Manuela Sáenz","4 estrellas","Hostal",15,null,{"$f":"Base[[#This Row],[VENTAS POR ALOJAMIENTO DURANTE EL MES DE LA ENCUESTA]]/1000","v":0},0,null,null,0,null,null,0,10]
[43800,{"$f":"DAY(EOMONTH(Base[[#This Row],[FECHA]],0))","v":31},{"$f":"PROPER(TEXT(Base[[#This Row],[FECHA]],\"MMMM\"))","v":"Diciembre"},{"$f":"YEAR(Base[[#This Row],[FECHA]])","v":2019},"PUIOAJ-00000618","La Mariscal","3 estrellas","Hotel",10,null,{"$f":"Base[[#This Row],[VENTAS POR ALOJAMIENTO DURANTE EL MES DE LA ENCUESTA]]/1000","v":0},368,null,null,0,null,null,0,7]
[43800,{"$f":"DAY(EOMONTH(Base[[#This Row],[FECHA]],0))","v":31},{"$f":"PROPER(TEXT(Base[[#This Row],[FECHA]],\"MMMM\"))","v":"Diciembre"},{"$f":"YEAR(Base[[#This Row],[FECHA]])","v":2019},"PUIOAJ-00001673","La Mariscal","4 estrellas","Hotel",55,34839.75,{"$f":"Base[[#This Row],[VENTAS POR ALOJAMIENTO DURANTE EL MES DE LA ENCUESTA]]/1000","v":34.839750000000002},550,null,null,0,null,null,0,18]
[43800,{"$f":"DAY(EOMONTH(Base[[#This Row],[FECHA]],0))","v":31},{"$f":"PROPER(TEXT(Base[[#This Row],[FECHA]],\"MMMM\"))","v":"Diciembre"},{"$f":"YEAR(Base[[#This Row],[FECHA]])","v":2019},"PUIOAJ-00000047","La Mariscal","3 estrellas","Hotel",16,2835,{"$f":"Base[[#This Row],[VENTAS POR ALOJAMIENTO DURANTE EL MES DE LA ENCUESTA]]/1000","v":2.835},112,null,null,0,107,10,117,6]
[43800,{"$f":"DAY(EOMONTH(Base[[#This Row],[FECHA]],0))","v":31},{"$f":"PROPER(TEXT(Base[[#This Row],[FECHA]],\"MMMM\"))","v":"Diciembre"},{"$f":"YEAR(Base[[#This Row],[FECHA]])","v":2019},"PUIOAJ-00000078","Manuela Sáenz","3 estrellas","Hotel",31,12000,{"$f":"Base[[#This Row],[VENTAS POR ALOJAMIENTO DURANTE EL MES DE LA ENCUESTA]]/1000","v":12},1195,43,187,230,55,187,230,4]
[43800,{"$f":"DAY(EOMONTH(Base[[#This Row],[FECHA]],0))","v":31},{"$f":"PROPER(TEXT(Base[[#This Row],[FECHA]],\"MMMM\"))","v":"Diciembre"},{"$f":"YEAR(Base[[#This Row],[FECHA]])","v":2019},"PUIOAJ-00000164","La Mariscal","4 estrellas","Hotel",100,null,{"$f":"Base[[#This Row],[VENTAS POR ALOJAMIENTO DURANTE EL MES DE LA ENCUESTA]]/1000","v":0},0,null,null,0,null,null,0,63]
[43800,{"$f":"DAY(EOMONTH(Base[[#This Row],[FECHA]],0))","v":31},{"$f":"PROPER(TEXT(Base[[#This Row],[FECHA]],\"MMMM\"))","v":"Diciembre"},{"$f":"YEAR(Base[[#This Row],[FECHA]])","v":2019},"PUIOAJ-00001530","Tumbaco","3 estrellas","Hostería",8,9670,{"$f":"Base[[#This Row],[VENTAS POR ALOJAMIENTO DURANTE EL MES DE LA ENCUESTA]]/1000","v":9.67},110,67,null,67,180,null,180,4]
[43800,{"$f":"DAY(EOMONTH(Base[[#This Row],[FECHA]],0))","v":31},{"$f":"PROPER(TEXT(Base[[#This Row],[FECHA]],\"MMMM\"))","v":"Diciembre"},{"$f":"YEAR(Base[[#This Row],[FECHA]])","v":2019},"PUIOAJ-00000604","Eugenio Espejo","3 estrellas","Hotel",28,21453,{"$f":"Base[[#This Row],[VENTAS POR ALOJAMIENTO DURANTE EL MES DE LA ENCUESTA]]/1000","v":21.452999999999999},439,410,176,586,410,176,586,6]
[43800,{"$f":"DAY(EOMONTH(Base[[#This Row],[FECHA]],0))","v":31},{"$f":"PROPER(TEXT(Base[[#This Row],[FECHA]],\"MMMM\"))","v":"Diciembre"},{"$f":"YEAR(Base[[#This Row],[FECHA]])","v":2019},"PUIOAJ-00000326","La Mariscal","3 estrellas","Hotel",23,6277,{"$f":"Base[[#This Row],[VENTAS POR ALOJAMIENTO DURANTE EL MES DE LA ENCUESTA]]/1000","v":6.2770000000000001},205,162,25,187,241,46,287,9]
[43800,{"$f":"DAY(EOMONTH(Base[[#This Row],[FECHA]],0))","v":31},{"$f":"PROPER(TEXT(Base[[#This Row],[FECHA]],\"MMMM\"))","v":"Diciembre"},{"$f":"YEAR(Base[[#This Row],[FECHA]])","v":2019},"PUIOAJ-00000012","Eugenio Espejo","4 estrellas","Hotel",25,29326.43,{"$f":"Base[[#This Row],[VENTAS POR ALOJAMIENTO DURANTE EL MES DE LA ENCUESTA]]/1000","v":29.326430000000002},190,76,126,202,114,417,531,18]
[43800,{"$f":"DAY(EOMONTH(Base[[#This Row],[FECHA]],0))","v":31},{"$f":"PROPER(TEXT(Base[[#This Row],[FECHA]],\"MMMM\"))","v":"Diciembre"},{"$f":"YEAR(Base[[#This Row],[FECHA]])","v":2019},"PUIOAJ-00000548","Tumbaco","3 estrellas","Hotel",15,12000,{"$f":"Base[[#This Row],[VENTAS POR ALOJAMIENTO DURANTE EL MES DE LA ENCUESTA]]/1000","v":12},89,75,17,92,75,17,92,16]
[43800,{"$f":"DAY(EOMONTH(Base[[#This Row],[FECHA]],0))","v":31},{"$f":"PROPER(TEXT(Base[[#This Row],[FECHA]],\"MMMM\"))","v":"Diciembre"},{"$f":"YEAR(Base[[#This Row],[FECHA]])","v":2019},"PUIOAJ-00000069","La Mariscal","5 estrellas","Hotel",275,427273,{"$f":"Base[[#This Row],[VENTAS POR ALOJAMIENTO DURANTE EL MES DE LA ENCUESTA]]/1000","v":427.27300000000002},4315,1273,1934,3207,1963,4260,6223,722]
[43800,{"$f":"DAY(EOMONTH(Base[[#This Row],[FECHA]],0))","v":31},{"$f":"PROPER(TEXT(Base[[#This Row],[FECHA]],\"MMMM\"))","v":"Diciembre"},{"$f":"YEAR(Base[[#This Row],[FECHA]])","v":2019},"PUIOAJ-00000111","La Delicia","3 estrellas","Hacienda Turística",12,11096.1,{"$f":"Base[[#This Row],[VENTAS POR ALOJAMIENTO DURANTE EL MES DE LA ENCUESTA]]/1000","v":11.0961},29,14,29,43,20,64,84,8]
[43800,{"$f":"DAY(EOMONTH(Base[[#This Row],[FECHA]],0))","v":31},{"$f":"PROPER(TEXT(Base[[#This Row],[FECHA]],\"MMMM\"))","v":"Diciembre"},{"$f":"YEAR(Base[[#This Row],[FECHA]])","v":2019},"PUIOAJ-00001342","Manuela Sáenz","4 estrellas","Hotel",6,17150,{"$f":"Base[[#This Row],[VENTAS POR ALOJAMIENTO DURANTE EL MES DE LA ENCUESTA]]/1000","v":17.149999999999999},81,null,null,null,null,null,null,10]
[43800,{"$f":"DAY(EOMONTH(Base[[#This Row],[FECHA]],0))","v":31},{"$f":"PROPER(TEXT(Base[[#This Row],[FECHA]],\"MMMM\"))","v":"Diciembre"},{"$f":"YEAR(Base[[#This Row],[FECHA]])","v":2019},"PUIOAJ-00000430","Tumbaco","3 estrellas","Hacienda Turística",20,711,{"$f":"Base[[#This Row],[VENTAS POR ALOJAMIENTO DURANTE EL MES DE LA ENCUESTA]]/1000","v":0.71099999999999997},10,10,null,10,10,null,10,1]
[43800,{"$f":"DAY(EOMONTH(Base[[#This Row],[FECHA]],0))","v":31},{"$f":"PROPER(TEXT(Base[[#This Row],[FECHA]],\"MMMM\"))","v":"Diciembre"},{"$f":"YEAR(Base[[#This Row],[FECHA]])","v":2019},"PUIOAJ-00001468","La Mariscal","3 estrellas","Hotel",22,null,{"$f":"Base[[#This Row],[VENTAS POR ALOJAMIENTO DURANTE EL MES DE LA ENCUESTA]]/1000","v":0},0,2,7,9,2,7,9,4]
[43831,{"$f":"DAY(EOMONTH(Base[[#This Row],[FECHA]],0))","v":31},{"$f":"PROPER(TEXT(Base[[#This Row],[FECHA]],\"MMMM\"))","v":"Enero"},{"$f":"YEAR(Base[[#This Row],[FECHA]])","v":2020},"PUIOAJ-00004601","Eugenio Espejo","3 estrellas","Hotel",12,8979.07,{"$f":"Base[[#This Row],[VENTAS POR ALOJAMIENTO DURANTE EL MES DE LA ENCUESTA]]/1000","v":8.9790700000000001},110,93,77,170,294,77,371,6]
[43831,{"$f":"DAY(EOMONTH(Base[[#This Row],[FECHA]],0))","v":31},{"$f":"PROPER(TEXT(Base[[#This Row],[FECHA]],\"MMMM\"))","v":"Enero"},{"$f":"YEAR(Base[[#This Row],[FECHA]])","v":2020},"PUIOAJ-00000365","Eugenio Espejo","5 estrellas","Hotel",null,90488.11,{"$f":"Base[[#This Row],[VENTAS POR ALOJAMIENTO DURANTE EL MES DE LA ENCUESTA]]/1000","v":90.488110000000006},1379,null,null,null,9,0,9,0]
[43831,{"$f":"DAY(EOMONTH(Base[[#This Row],[FECHA]],0))","v":31},{"$f":"PROPER(TEXT(Base[[#This Row],[FECHA]],\"MMMM\"))","v":"Enero"},{"$f":"YEAR(Base[[#This Row],[FECHA]])","v":2020},"PUIOAJ-00000423","Tumbaco","5 estrellas","Hotel",7,3144.41,{"$f":"Base[[#This Row],[VENTAS POR ALOJAMIENTO DURANTE EL MES DE LA ENCUESTA]]/1000","v":3.1444099999999997},33,9,72,81,9,72,81,5]
[43831,{"$f":"DAY(EOMONTH(Base[[#This Row],[FECHA]],0))","v":31},{"$f":"PROPER(TEXT(Base[[#This Row],[FECHA]],\"MMMM\"))","v":"Enero"},{"$f":"YEAR(Base[[#This Row],[FECHA]])","v":2020},"PUIOAJ-00000582","Tumbaco","5 estrellas","Hotel",null,2370,{"$f":"Base[[#This Row],[VENTAS POR ALOJAMIENTO DURANTE EL MES DE LA ENCUESTA]]/1000","v":2.37},28,0,46,46,0,46,46,4]
[43831,{"$f":"DAY(EOMONTH(Base[[#This Row],[FECHA]],0))","v":31},{"$f":"PROPER(TEXT(Base[[#This Row],[FECHA]],\"MMMM\"))","v":"Enero"},{"$f":"YEAR(Base[[#This Row],[FECHA]])","v":2020},"PUIOAJ-00000039","La Mariscal","3 estrellas","Hotel",20,10406,{"$f":"Base[[#This Row],[VENTAS POR ALOJAMIENTO DURANTE EL MES DE LA ENCUESTA]]/1000","v":10.406000000000001},242,19,218,237,430,356,786,8]
[43831,{"$f":"DAY(EOMONTH(Base[[#This Row],[FECHA]],0))","v":31},{"$f":"PROPER(TEXT(Base[[#This Row],[FECHA]],\"MMMM\"))","v":"Enero"},{"$f":"YEAR(Base[[#This Row],[FECHA]])","v":2020},"PUIOAJ-00000024","Manuela Sáenz","4 estrellas","Hotel",558,1352,{"$f":"Base[[#This Row],[VENTAS POR ALOJAMIENTO DURANTE EL MES DE LA ENCUESTA]]/1000","v":1.3520000000000001},11,0,9,9,749,9,758,7]
[43831,{"$f":"DAY(EOMONTH(Base[[#This Row],[FECHA]],0))","v":31},{"$f":"PROPER(TEXT(Base[[#This Row],[FECHA]],\"MMMM\"))","v":"Enero"},{"$f":"YEAR(Base[[#This Row],[FECHA]])","v":2020},"PUIOAJ-00000064","La Mariscal","5 estrellas","Hotel",255,479777,{"$f":"Base[[#This Row],[VENTAS POR ALOJAMIENTO DURANTE EL MES DE LA ENCUESTA]]/1000","v":479.77699999999999},4726,264,2378,2642,0,4253,4253,411]
[43831,{"$f":"DAY(EOMONTH(Base[[#This Row],[FECHA]],0))","v":31},{"$f":"PROPER(TEXT(Base[[#This Row],[FECHA]],\"MMMM\"))","v":"Enero"},{"$f":"YEAR(Base[[#This Row],[FECHA]])","v":2020},"PUIOAJ-00000223","La Mariscal","4 estrellas","Hotel",141,194400,{"$f":"Base[[#This Row],[VENTAS POR ALOJAMIENTO DURANTE EL MES DE LA ENCUESTA]]/1000","v":194.4},0,null,null,0,16,0,16,44]
[43831,{"$f":"DAY(EOMONTH(Base[[#This Row],[FECHA]],0))","v":31},{"$f":"PROPER(TEXT(Base[[#This Row],[FECHA]],\"MMMM\"))","v":"Enero"},{"$f":"YEAR(Base[[#This Row],[FECHA]])","v":2020},"PUIOAJ-00000435","Manuela Sáenz","3 estrellas","Hotel",6,5000,{"$f":"Base[[#This Row],[VENTAS POR ALOJAMIENTO DURANTE EL MES DE LA ENCUESTA]]/1000","v":5},5,0,40,40,21,40,61,6]
[43831,{"$f":"DAY(EOMONTH(Base[[#This Row],[FECHA]],0))","v":31},{"$f":"PROPER(TEXT(Base[[#This Row],[FECHA]],\"MMMM\"))","v":"Enero"},{"$f":"YEAR(Base[[#This Row],[FECHA]])","v":2020},"PUIOAJ-00000520","La Delicia","3 estrellas","Hostería",14,1408,{"$f":"Base[[#This Row],[VENTAS POR ALOJAMIENTO DURANTE EL MES DE LA ENCUESTA]]/1000","v":1.4079999999999999},26,16,null,16,298,19,317,11]
[43831,{"$f":"DAY(EOMONTH(Base[[#This Row],[FECHA]],0))","v":31},{"$f":"PROPER(TEXT(Base[[#This Row],[FECHA]],\"MMMM\"))","v":"Enero"},{"$f":"YEAR(Base[[#This Row],[FECHA]])","v":2020},"PUIOAJ-00001516","Los Chillos","3 estrellas","Hostería",13,160,{"$f":"Base[[#This Row],[VENTAS POR ALOJAMIENTO DURANTE EL MES DE LA ENCUESTA]]/1000","v":0.16},8,8,0,8,13,0,13,6]
[43831,{"$f":"DAY(EOMONTH(Base[[#This Row],[FECHA]],0))","v":31},{"$f":"PROPER(TEXT(Base[[#This Row],[FECHA]],\"MMMM\"))","v":"Enero"},{"$f":"YEAR(Base[[#This Row],[FECHA]])","v":2020},"PUIOAJ-00000033","Los Chillos","3 estrellas","Hostería",null,null,{"$f":"Base[[#This Row],[VENTAS POR ALOJAMIENTO DURANTE EL MES DE LA ENCUESTA]]/1000","v":0},0,null,null,null,25,0,25,7]
[43831,{"$f":"DAY(EOMONTH(Base[[#This Row],[FECHA]],0))","v":31},{"$f":"PROPER(TEXT(Base[[#This Row],[FECHA]],\"MMMM\"))","v":"Enero"},{"$f":"YEAR(Base[[#This Row],[FECHA]])","v":2020},"PUIOAJ-00001543","Los Chillos","4 estrellas","Hacienda Turística",6,null,{"$f":"Base[[#This Row],[VENTAS POR ALOJAMIENTO DURANTE EL MES DE LA ENCUESTA]]/1000","v":0},0,null,null,null,50,0,50,5]
[43831,{"$f":"DAY(EOMONTH(Base[[#This Row],[FECHA]],0))","v":31},{"$f":"PROPER(TEXT(Base[[#This Row],[FECHA]],\"MMMM\"))","v":"Enero"},{"$f":"YEAR(Base[[#This Row],[FECHA]])","v":2020},"PUIOAJ-00004644","Tumbaco","3 estrellas","Hostería",6,null,{"$f":"Base[[#This Row],[VENTAS POR ALOJAMIENTO DURANTE EL MES DE LA ENCUESTA]]/1000","v":0},0,null,null,null,5,0,5,6]
[43831,{"$f":"DAY(EOMONTH(Base[[#This Row],[FECHA]],0))","v":31},{"$f":"PROPER(TEXT(Base[[#This Row],[FECHA]],\"MMMM\"))","v":"Enero"},{"$f":"YEAR(Base[[#This Row],[FECHA]])","v":2020},"PUIOAJ-00000156","Manuela Sáenz","4 estrellas","Hotel",49,25573,{"$f":"Base[[#This Row],[VENTAS POR ALOJAMIENTO DURANTE EL MES DE LA ENCUESTA]]/1000","v":25.573},243,236,93,329,236,93,329,36]
[43831,{"$f":"DAY(EOMONTH(Base[[#This Row],[FECHA]],0))","v":31},{"$f":"PROPER(TEXT(Base[[#This Row],[FECHA]],\"MMMM\"))","v":"Enero"},{"$f":"YEAR(Base[[#This Row],[FECHA]])","v":2020},"PUIOAJ-00000572","Manuela Sáenz","3 estrellas","Hotel",24,15000,{"$f":"Base[[#This Row],[VENTAS POR ALOJAMIENTO DURANTE EL MES DE LA ENCUESTA]]/1000","v":15},160,5,145,150,1620,145,1765,11]
[43831,{"$f":"DAY(EOMONTH(Base[[#This Row],[FECHA]],0))","v":31},{"$f":"PROPER(TEXT(Base[[#This Row],[FECHA]],\"MMMM\"))","v":"Enero"},{"$f":"YEAR(Base[[#This Row],[FECHA]])","v":2020},"PUIOAJ-00000070","Eugenio Espejo","5 estrellas","Hotel",210,null,{"$f":"Base[[#This Row],[VENTAS POR ALOJAMIENTO DURANTE EL MES DE LA ENCUESTA]]/1000","v":0},4740,null,null,null,798,4665,5463,198]
[43831,{"$f":"DAY(EOMONTH(Base[[#This Row],[FECHA]],0))","v":31},{"$f":"PROPER(TEXT(Base[[#This Row],[FECHA]],\"MMMM\"))","v":"Enero"},{"$f":"YEAR(Base[[#This Row],[FECHA]])","v":2020},"PUIOAJ-00000136","Manuela Sáenz","3 estrellas","Hotel",32,null,{"$f":"Base[[#This Row],[VENTAS POR ALOJAMIENTO DURANTE EL MES DE LA ENCUESTA]]/1000","v":0},450,430,20,450,430,20,450,6]
[43831,{"$f":"DAY(EOMONTH(Base[[#This Row],[FECHA]],0))","v":31},{"$f":"PROPER(TEXT(Base[[#This Row],[FECHA]],\"MMMM\"))","v":"Enero"},{"$f":"YEAR(Base[[#This Row],[FECHA]])","v":2020},"PUIOAJ-00000152","Eugenio Espejo","4 estrellas","Hotel",152,null,{"$f":"Base[[#This Row],[VENTAS POR ALOJAMIENTO DURANTE EL MES DE LA ENCUESTA]]/1000","v":0},3008,1620,710,2330,1620,710,2330,67]
[43831,{"$f":"DAY(EOMONTH(Base[[#This Row],[FECHA]],0))","v":31},{"$f":"PROPER(TEXT(Base[[#This Row],[FECHA]],\"MMMM\"))","v":"Enero"},{"$f":"YEAR(Base[[#This Row],[FECHA]])","v":2020},"PUIOAJ-00000402","Eugenio Espejo","3 estrellas","Hotel",40,null,{"$f":"Base[[#This Row],[VENTAS POR ALOJAMIENTO DURANTE EL MES DE LA ENCUESTA]]/1000","v":0},110,70,70,140,70,70,140,6]
[43831,{"$f":"DAY(EOMONTH(Base[[#This Row],[FECHA]],0))","v":31},{"$f":"PROPER(TEXT(Base[[#This Row],[FECHA]],\"MMMM\"))","v":"Enero"},{"$f":"YEAR(Base[[#This Row],[FECHA]])","v":2020},"PUIOAJ-00001648","Eugenio Espejo","3 estrellas","Hotel",16,3000,{"$f":"Base[[#This Row],[VENTAS POR ALOJAMIENTO DURANTE EL MES DE LA ENCUESTA]]/1000","v":3},52,40,12,52,40,12,52,4]
[43831,{"$f":"DAY(EOMONTH(Base[[#This Row],[FECHA]],0))","v":31},{"$f":"PROPER(TEXT(Base[[#This Row],[FECHA]],\"MMMM\"))","v":"Enero"},{"$f":"YEAR(Base[[#This Row],[FECHA]])","v":2020},"PUIOAJ-00000256","Manuela Sáenz","4 estrellas","Hotel",32,67686,{"$f":"Base[[#This Row],[VENTAS POR ALOJAMIENTO DURANTE EL MES DE LA ENCUESTA]]/1000","v":67.686000000000007},618,0,1052,1052,8,1052,1060,48]
[43831,{"$f":"DAY(EOMONTH(Base[[#This Row],[FECHA]],0))","v":31},{"$f":"PROPER(TEXT(Base[[#This Row],[FECHA]],\"MMMM\"))","v":"Enero"},{"$f":"YEAR(Base[[#This Row],[FECHA]])","v":2020},"PUIOAJ-00000170","Manuela Sáenz","5 estrellas","Hotel",15,67875,{"$f":"Base[[#This Row],[VENTAS POR ALOJAMIENTO DURANTE EL MES DE LA ENCUESTA]]/1000","v":67.875},148,0,148,148,0,296,296,43]
[43831,{"$f":"DAY(EOMONTH(Base[[#This Row],[FECHA]],0))","v":31},{"$f":"PROPER(TEXT(Base[[#This Row],[FECHA]],\"MMMM\"))","v":"Enero"},{"$f":"YEAR(Base[[#This Row],[FECHA]])","v":2020},"PUIOAJ-00000075","Manuela Sáenz","4 estrellas","Hotel",80,18598,{"$f":"Base[[#This Row],[VENTAS POR ALOJAMIENTO DURANTE EL MES DE LA ENCUESTA]]/1000","v":18.597999999999999},309,null,null,null,45,157,202,35]
[43831,{"$f":"DAY(EOMONTH(Base[[#This Row],[FECHA]],0))","v":31},{"$f":"PROPER(TEXT(Base[[#This Row],[FECHA]],\"MMMM\"))","v":"Enero"},{"$f":"YEAR(Base[[#This Row],[FECHA]])","v":2020},"PUIOAJ-00000274","Eugenio Espejo","3 estrellas","Hotel",13,52.66,{"$f":"Base[[#This Row],[VENTAS POR ALOJAMIENTO DURANTE EL MES DE LA ENCUESTA]]/1000","v":5.2659999999999998E-2},117,62,3,65,62,3,65,0]
[43831,{"$f":"DAY(EOMONTH(Base[[#This Row],[FECHA]],0))","v":31},{"$f":"PROPER(TEXT(Base[[#This Row],[FECHA]],\"MMMM\"))","v":"Enero"},{"$f":"YEAR(Base[[#This Row],[FECHA]])","v":2020},"PUIOAJ-00000505","Tumbaco","3 estrellas","Hostal",279,409.38,{"$f":"Base[[#This Row],[VENTAS POR ALOJAMIENTO DURANTE EL MES DE LA ENCUESTA]]/1000","v":0.40938000000000002},12,10,2,12,10,2,12]
[43831,{"$f":"DAY(EOMONTH(Base[[#This Row],[FECHA]],0))","v":31},{"$f":"PROPER(TEXT(Base[[#This Row],[FECHA]],\"MMMM\"))","v":"Enero"},{"$f":"YEAR(Base[[#This Row],[FECHA]])","v":2020},"PUIOAJ-00001479","Eloy Alfaro","3 estrellas","Hotel",40,null,{"$f":"Base[[#This Row],[VENTAS POR ALOJAMIENTO DURANTE EL MES DE LA ENCUESTA]]/1000","v":0},40,3,2,5,14,2,16,13]
[43831,{"$f":"DAY(EOMONTH(Base[[#This Row],[FECHA]],0))","v":31},{"$f":"PROPER(TEXT(Base[[#This Row],[FECHA]],\"MMMM\"))","v":"Enero"},{"$f":"YEAR(Base[[#This Row],[FECHA]])","v":2020},"PUIOAJ-00000263","La Mariscal","4 estrellas","Hotel",44,37430.589999999997,{"$f":"Base[[#This Row],[VENTAS POR ALOJAMIENTO DURANTE EL MES DE LA ENCUESTA]]/1000","v":37.430589999999995},669,14,1084,1098,14,1084,1098,20]
[43831,{"$f":"DAY(EOMONTH(Base[[#This Row],[FECHA]],0))","v":31},{"$f":"PROPER(TEXT(Base[[#This Row],[FECHA]],\"MMMM\"))","v":"Enero"},{"$f":"YEAR(Base[[#This Row],[FECHA]])","v":2020},"PUIOAJ-00001636","Tumbaco","3 estrellas","Hotel",18,14482.13,{"$f":"Base[[#This Row],[VENTAS POR ALOJAMIENTO DURANTE EL MES DE LA ENCUESTA]]/1000","v":14.48213},0,null,null,null,6,0,6,9]
[43831,{"$f":"DAY(EOMONTH(Base[[#This Row],[FECHA]],0))","v":31},{"$f":"PROPER(TEXT(Base[[#This Row],[FECHA]],\"MMMM\"))","v":"Enero"},{"$f":"YEAR(Base[[#This Row],[FECHA]])","v":2020},"PUIOAJ-00001440","Manuela Sáenz","5 estrellas","Hotel",10,null,{"$f":"Base[[#This Row],[VENTAS POR ALOJAMIENTO DURANTE EL MES DE LA ENCUESTA]]/1000","v":0},135,6,50,56,0,120,120,11]
[43831,{"$f":"DAY(EOMONTH(Base[[#This Row],[FECHA]],0))","v":31},{"$f":"PROPER(TEXT(Base[[#This Row],[FECHA]],\"MMMM\"))","v":"Enero"},{"$f":"YEAR(Base[[#This Row],[FECHA]])","v":2020},"PUIOAJ-00000071","Manuela Sáenz","3 estrellas","Hotel",41,5000,{"$f":"Base[[#This Row],[VENTAS POR ALOJAMIENTO DURANTE EL MES DE LA ENCUESTA]]/1000","v":5},185,294,3,297,294,3,297,8]
[43831,{"$f":"DAY(EOMONTH(Base[[#This Row],[FECHA]],0))","v":31},{"$f":"PROPER(TEXT(Base[[#This Row],[FECHA]],\"MMMM\"))","v":"Enero"},{"$f":"YEAR(Base[[#This Row],[FECHA]])","v":2020},"PUIOAJ-00001620","Tumbaco","3 estrellas","Hostal",5,199.69,{"$f":"Base[[#This Row],[VENTAS POR ALOJAMIENTO DURANTE EL MES DE LA ENCUESTA]]/1000","v":0.19969000000000001},29,3,4,7,60,4,64]
[43831,{"$f":"DAY(EOMONTH(Base[[#This Row],[FECHA]],0))","v":31},{"$f":"PROPER(TEXT(Base[[#This Row],[FECHA]],\"MMMM\"))","v":"Enero"},{"$f":"YEAR(Base[[#This Row],[FECHA]])","v":2020},"PUIOAJ-00001368","La Delicia","4 estrellas","Hostería",17,3299.15,{"$f":"Base[[#This Row],[VENTAS POR ALOJAMIENTO DURANTE EL MES DE LA ENCUESTA]]/1000","v":3.29915},23,60,1,61,60,1,61,7]
[43831,{"$f":"DAY(EOMONTH(Base[[#This Row],[FECHA]],0))","v":31},{"$f":"PROPER(TEXT(Base[[#This Row],[FECHA]],\"MMMM\"))","v":"Enero"},{"$f":"YEAR(Base[[#This Row],[FECHA]])","v":2020},"PUIOAJ-00000255","La Mariscal","4 estrellas","Hotel",12,7000,{"$f":"Base[[#This Row],[VENTAS POR ALOJAMIENTO DURANTE EL MES DE LA ENCUESTA]]/1000","v":7},155,4,151,155,4,151,155,9]
[43831,{"$f":"DAY(EOMONTH(Base[[#This Row],[FECHA]],0))","v":31},{"$f":"PROPER(TEXT(Base[[#This Row],[FECHA]],\"MMMM\"))","v":"Enero"},{"$f":"YEAR(Base[[#This Row],[FECHA]])","v":2020},"PUIOAJ-00001488","Eugenio Espejo","3 estrellas","Hostería",5,160,{"$f":"Base[[#This Row],[VENTAS POR ALOJAMIENTO DURANTE EL MES DE LA ENCUESTA]]/1000","v":0.16},2,0,2,2,0,2,2,7]
[43831,{"$f":"DAY(EOMONTH(Base[[#This Row],[FECHA]],0))","v":31},{"$f":"PROPER(TEXT(Base[[#This Row],[FECHA]],\"MMMM\"))","v":"Enero"},{"$f":"YEAR(Base[[#This Row],[FECHA]])","v":2020},"PUIOAJ-00001397","Tumbaco","5 estrellas","Hacienda Turística",7,1363.79,{"$f":"Base[[#This Row],[VENTAS POR ALOJAMIENTO DURANTE EL MES DE LA ENCUESTA]]/1000","v":1.3637900000000001},12,13,10,23,473,11,484,7]
[43831,{"$f":"DAY(EOMONTH(Base[[#This Row],[FECHA]],0))","v":31},{"$f":"PROPER(TEXT(Base[[#This Row],[FECHA]],\"MMMM\"))","v":"Enero"},{"$f":"YEAR(Base[[#This Row],[FECHA]])","v":2020},"PUIOAJ-00000618","La Mariscal","3 estrellas","Hotel",340,7500,{"$f":"Base[[#This Row],[VENTAS POR ALOJAMIENTO DURANTE EL MES DE LA ENCUESTA]]/1000","v":7.5},180,null,null,0,0,0,null,7]
[43831,{"$f":"DAY(EOMONTH(Base[[#This Row],[FECHA]],0))","v":31},{"$f":"PROPER(TEXT(Base[[#This Row],[FECHA]],\"MMMM\"))","v":"Enero"},{"$f":"YEAR(Base[[#This Row],[FECHA]])","v":2020},"PUIOAJ-00001673","La Mariscal","4 estrellas","Hotel",55,41675.94,{"$f":"Base[[#This Row],[VENTAS POR ALOJAMIENTO DURANTE EL MES DE LA ENCUESTA]]/1000","v":41.675940000000004},694,null,null,0,0,0,null,18]
[43831,{"$f":"DAY(EOMONTH(Base[[#This Row],[FECHA]],0))","v":31},{"$f":"PROPER(TEXT(Base[[#This Row],[FECHA]],\"MMMM\"))","v":"Enero"},{"$f":"YEAR(Base[[#This Row],[FECHA]])","v":2020},"PUIOAJ-00000047","La Mariscal","3 estrellas","Hotel",16,2233,{"$f":"Base[[#This Row],[VENTAS POR ALOJAMIENTO DURANTE EL MES DE LA ENCUESTA]]/1000","v":2.2330000000000001},117,null,null,0,0,0,null,6]
[43831,{"$f":"DAY(EOMONTH(Base[[#This Row],[FECHA]],0))","v":31},{"$f":"PROPER(TEXT(Base[[#This Row],[FECHA]],\"MMMM\"))","v":"Enero"},{"$f":"YEAR(Base[[#This Row],[FECHA]])","v":2020},"PUIOAJ-00000078","Manuela Sáenz","3 estrellas","Hotel",31,16000,{"$f":"Base[[#This Row],[VENTAS POR ALOJAMIENTO DURANTE EL MES DE LA ENCUESTA]]/1000","v":16},286,17,244,261,17,244,261,20]
[43831,{"$f":"DAY(EOMONTH(Base[[#This Row],[FECHA]],0))","v":31},{"$f":"PROPER(TEXT(Base[[#This Row],[FECHA]],\"MMMM\"))","v":"Enero"},{"$f":"YEAR(Base[[#This Row],[FECHA]])","v":2020},"PUIOAJ-00000164","La Mariscal","4 estrellas","Hotel",100,null,{"$f":"Base[[#This Row],[VENTAS POR ALOJAMIENTO DURANTE EL MES DE LA ENCUESTA]]/1000","v":0},0,null,null,0,0,0,null,57]
[43831,{"$f":"DAY(EOMONTH(Base[[#This Row],[FECHA]],0))","v":31},{"$f":"PROPER(TEXT(Base[[#This Row],[FECHA]],\"MMMM\"))","v":"Enero"},{"$f":"YEAR(Base[[#This Row],[FECHA]])","v":2020},"PUIOAJ-00000072","La Mariscal","4 estrellas","Hotel",null,41649.269999999997,{"$f":"Base[[#This Row],[VENTAS POR ALOJAMIENTO DURANTE EL MES DE LA ENCUESTA]]/1000","v":41.649269999999994},0,798,397,1195,798,397,1195,75]
[43831,{"$f":"DAY(EOMONTH(Base[[#This Row],[FECHA]],0))","v":31},{"$f":"PROPER(TEXT(Base[[#This Row],[FECHA]],\"MMMM\"))","v":"Enero"},{"$f":"YEAR(Base[[#This Row],[FECHA]])","v":2020},"PUIOAJ-00001530","Tumbaco","3 estrellas","Hostería",8,5215,{"$f":"Base[[#This Row],[VENTAS POR ALOJAMIENTO DURANTE EL MES DE LA ENCUESTA]]/1000","v":5.2149999999999999},51,null,null,null,25,0,25,3]
[43831,{"$f":"DAY(EOMONTH(Base[[#This Row],[FECHA]],0))","v":31},{"$f":"PROPER(TEXT(Base[[#This Row],[FECHA]],\"MMMM\"))","v":"Enero"},{"$f":"YEAR(Base[[#This Row],[FECHA]])","v":2020},"PUIOAJ-00000604","Eugenio Espejo","3 estrellas","Hotel",28,18309.16,{"$f":"Base[[#This Row],[VENTAS POR ALOJAMIENTO DURANTE EL MES DE LA ENCUESTA]]/1000","v":18.309159999999999},361,14,4,18,14,4,18,6]
[43831,{"$f":"DAY(EOMONTH(Base[[#This Row],[FECHA]],0))","v":31},{"$f":"PROPER(TEXT(Base[[#This Row],[FECHA]],\"MMMM\"))","v":"Enero"},{"$f":"YEAR(Base[[#This Row],[FECHA]])","v":2020},"PUIOAJ-00000163","Eugenio Espejo","4 estrellas","Hotel",29,null,{"$f":"Base[[#This Row],[VENTAS POR ALOJAMIENTO DURANTE EL MES DE LA ENCUESTA]]/1000","v":0},10,25,18,43,306,18,324,15]
[43831,{"$f":"DAY(EOMONTH(Base[[#This Row],[FECHA]],0))","v":31},{"$f":"PROPER(TEXT(Base[[#This Row],[FECHA]],\"MMMM\"))","v":"Enero"},{"$f":"YEAR(Base[[#This Row],[FECHA]])","v":2020},"PUIOAJ-00000069","La Mariscal","5 estrellas","Hotel",275,1056381,{"$f":"Base[[#This Row],[VENTAS POR ALOJAMIENTO DURANTE EL MES DE LA ENCUESTA]]/1000","v":1056.3810000000001},4080,378,1370,1748,1112,3331,4443,449]
[43831,{"$f":"DAY(EOMONTH(Base[[#This Row],[FECHA]],0))","v":31},{"$f":"PROPER(TEXT(Base[[#This Row],[FECHA]],\"MMMM\"))","v":"Enero"},{"$f":"YEAR(Base[[#This Row],[FECHA]])","v":2020},"PUIOAJ-00000111","La Delicia","3 estrellas","Hotel",12,21266.15,{"$f":"Base[[#This Row],[VENTAS POR ALOJAMIENTO DURANTE EL MES DE LA ENCUESTA]]/1000","v":21.266150000000003},39,13,51,64,125,187,312,8]
[43831,{"$f":"DAY(EOMONTH(Base[[#This Row],[FECHA]],0))","v":31},{"$f":"PROPER(TEXT(Base[[#This Row],[FECHA]],\"MMMM\"))","v":"Enero"},{"$f":"YEAR(Base[[#This Row],[FECHA]])","v":2020},"PUIOAJ-00000430","Tumbaco","3 estrellas","Hotel",20,null,{"$f":"Base[[#This Row],[VENTAS POR ALOJAMIENTO DURANTE EL MES DE LA ENCUESTA]]/1000","v":0},0,null,null,null,40,0,40,1]
[43862,{"$f":"DAY(EOMONTH(Base[[#This Row],[FECHA]],0))","v":29},{"$f":"PROPER(TEXT(Base[[#This Row],[FECHA]],\"MMMM\"))","v":"Febrero"},{"$f":"YEAR(Base[[#This Row],[FECHA]])","v":2020},"PUIOAJ-00000520","La Delicia","3 estrellas","Hostería",14,6500,{"$f":"Base[[#This Row],[VENTAS POR ALOJAMIENTO DURANTE EL MES DE LA ENCUESTA]]/1000","v":6.5},12,9,5,14,9,5,14,10]
[43862,{"$f":"DAY(EOMONTH(Base[[#This Row],[FECHA]],0))","v":29},{"$f":"PROPER(TEXT(Base[[#This Row],[FECHA]],\"MMMM\"))","v":"Febrero"},{"$f":"YEAR(Base[[#This Row],[FECHA]])","v":2020},"PUIOAJ-00000156","Manuela Sáenz","4 estrellas","Hotel",49,14959,{"$f":"Base[[#This Row],[VENTAS POR ALOJAMIENTO DURANTE EL MES DE LA ENCUESTA]]/1000","v":14.959},316,243,149,392,256,227,483,44]
[43862,{"$f":"DAY(EOMONTH(Base[[#This Row],[FECHA]],0))","v":29},{"$f":"PROPER(TEXT(Base[[#This Row],[FECHA]],\"MMMM\"))","v":"Febrero"},{"$f":"YEAR(Base[[#This Row],[FECHA]])","v":2020},"PUIOAJ-00000290","La Delicia","4 estrellas","Lodge",16,22000,{"$f":"Base[[#This Row],[VENTAS POR ALOJAMIENTO DURANTE EL MES DE LA ENCUESTA]]/1000","v":22},102,25,230,255,36,276,312,24]
[43862,{"$f":"DAY(EOMONTH(Base[[#This Row],[FECHA]],0))","v":29},{"$f":"PROPER(TEXT(Base[[#This Row],[FECHA]],\"MMMM\"))","v":"Febrero"},{"$f":"YEAR(Base[[#This Row],[FECHA]])","v":2020},"PUIOAJ-00001434","La Mariscal","3 estrellas","Hotel",8,1500,{"$f":"Base[[#This Row],[VENTAS POR ALOJAMIENTO DURANTE EL MES DE LA ENCUESTA]]/1000","v":1.5},40,null,null,0,null,null,null,4]
[43862,{"$f":"DAY(EOMONTH(Base[[#This Row],[FECHA]],0))","v":29},{"$f":"PROPER(TEXT(Base[[#This Row],[FECHA]],\"MMMM\"))","v":"Febrero"},{"$f":"YEAR(Base[[#This Row],[FECHA]])","v":2020},"PUIOAJ-00000423","Tumbaco","5 estrellas","Hostería",7,5247.36,{"$f":"Base[[#This Row],[VENTAS POR ALOJAMIENTO DURANTE EL MES DE LA ENCUESTA]]/1000","v":5.2473599999999996},53,null,null,null,null,null,null,4]
[43862,{"$f":"DAY(EOMONTH(Base[[#This Row],[FECHA]],0))","v":29},{"$f":"PROPER(TEXT(Base[[#This Row],[FECHA]],\"MMMM\"))","v":"Febrero"},{"$f":"YEAR(Base[[#This Row],[FECHA]])","v":2020},"PUIOAJ-00000350","La Mariscal","3 estrellas","Hotel",40,2097,{"$f":"Base[[#This Row],[VENTAS POR ALOJAMIENTO DURANTE EL MES DE LA ENCUESTA]]/1000","v":2.097},40,2,17,19,4,36,40,2]
[43862,{"$f":"DAY(EOMONTH(Base[[#This Row],[FECHA]],0))","v":29},{"$f":"PROPER(TEXT(Base[[#This Row],[FECHA]],\"MMMM\"))","v":"Febrero"},{"$f":"YEAR(Base[[#This Row],[FECHA]])","v":2020},"PUIOAJ-00000233","Eugenio Espejo","4 estrellas","Hotel",25,8550,{"$f":"Base[[#This Row],[VENTAS POR ALOJAMIENTO DURANTE EL MES DE LA ENCUESTA]]/1000","v":8.5500000000000007},58,10,35,45,167,45,212,0]
[43862,{"$f":"DAY(EOMONTH(Base[[#This Row],[FECHA]],0))","v":29},{"$f":"PROPER(TEXT(Base[[#This Row],[FECHA]],\"MMMM\"))","v":"Febrero"},{"$f":"YEAR(Base[[#This Row],[FECHA]])","v":2020},"PUIOAJ-00000110","Eugenio Espejo","3 estrellas","Hostería",17,0,{"$f":"Base[[#This Row],[VENTAS POR ALOJAMIENTO DURANTE EL MES DE LA ENCUESTA]]/1000","v":0},null,0,null,null,0,null,null,2]
[43862,{"$f":"DAY(EOMONTH(Base[[#This Row],[FECHA]],0))","v":29},{"$f":"PROPER(TEXT(Base[[#This Row],[FECHA]],\"MMMM\"))","v":"Febrero"},{"$f":"YEAR(Base[[#This Row],[FECHA]])","v":2020},"PUIOAJ-00001397","Tumbaco","5 estrellas","Lodge",203,5361,{"$f":"Base[[#This Row],[VENTAS POR ALOJAMIENTO DURANTE EL MES DE LA ENCUESTA]]/1000","v":5.3609999999999998},35,67,18,85,67,24,91,9]
[43862,{"$f":"DAY(EOMONTH(Base[[#This Row],[FECHA]],0))","v":29},{"$f":"PROPER(TEXT(Base[[#This Row],[FECHA]],\"MMMM\"))","v":"Febrero"},{"$f":"YEAR(Base[[#This Row],[FECHA]])","v":2020},"PUIOAJ-00001476","Manuela Sáenz","4 estrellas","Hotel",15,null,{"$f":"Base[[#This Row],[VENTAS POR ALOJAMIENTO DURANTE EL MES DE LA ENCUESTA]]/1000","v":0},150,16,262,278,16,262,278,8]
[43862,{"$f":"DAY(EOMONTH(Base[[#This Row],[FECHA]],0))","v":29},{"$f":"PROPER(TEXT(Base[[#This Row],[FECHA]],\"MMMM\"))","v":"Febrero"},{"$f":"YEAR(Base[[#This Row],[FECHA]])","v":2020},"PUIOAJ-00000152","Eugenio Espejo","4 estrellas","Hotel",152,209547,{"$f":"Base[[#This Row],[VENTAS POR ALOJAMIENTO DURANTE EL MES DE LA ENCUESTA]]/1000","v":209.547},3133,1177,811,1988,1177,811,1988,1]
[43862,{"$f":"DAY(EOMONTH(Base[[#This Row],[FECHA]],0))","v":29},{"$f":"PROPER(TEXT(Base[[#This Row],[FECHA]],\"MMMM\"))","v":"Febrero"},{"$f":"YEAR(Base[[#This Row],[FECHA]])","v":2020},"PUIOAJ-00000256","Manuela Sáenz","4 estrellas","Hotel",982,55076.55,{"$f":"Base[[#This Row],[VENTAS POR ALOJAMIENTO DURANTE EL MES DE LA ENCUESTA]]/1000","v":55.076550000000005},550,0,1163,1163,0,1163,1163,48]
[43862,{"$f":"DAY(EOMONTH(Base[[#This Row],[FECHA]],0))","v":29},{"$f":"PROPER(TEXT(Base[[#This Row],[FECHA]],\"MMMM\"))","v":"Febrero"},{"$f":"YEAR(Base[[#This Row],[FECHA]])","v":2020},"PUIOAJ-00000263","La Mariscal","4 estrellas","Hotel",44,35038,{"$f":"Base[[#This Row],[VENTAS POR ALOJAMIENTO DURANTE EL MES DE LA ENCUESTA]]/1000","v":35.037999999999997},571,52,903,955,52,903,955,18]
[43862,{"$f":"DAY(EOMONTH(Base[[#This Row],[FECHA]],0))","v":29},{"$f":"PROPER(TEXT(Base[[#This Row],[FECHA]],\"MMMM\"))","v":"Febrero"},{"$f":"YEAR(Base[[#This Row],[FECHA]])","v":2020},"PUIOAJ-00001368","La Delicia","4 estrellas","Hostería",9,596,{"$f":"Base[[#This Row],[VENTAS POR ALOJAMIENTO DURANTE EL MES DE LA ENCUESTA]]/1000","v":0.59599999999999997},40,40,0,40,40,0,40,6]
[43862,{"$f":"DAY(EOMONTH(Base[[#This Row],[FECHA]],0))","v":29},{"$f":"PROPER(TEXT(Base[[#This Row],[FECHA]],\"MMMM\"))","v":"Febrero"},{"$f":"YEAR(Base[[#This Row],[FECHA]])","v":2020},"PUIOAJ-00000370","Eugenio Espejo","4 estrellas","Hotel",30,76219.67,{"$f":"Base[[#This Row],[VENTAS POR ALOJAMIENTO DURANTE EL MES DE LA ENCUESTA]]/1000","v":76.219669999999994},671,133,806,939,133,806,939,0]
[43862,{"$f":"DAY(EOMONTH(Base[[#This Row],[FECHA]],0))","v":29},{"$f":"PROPER(TEXT(Base[[#This Row],[FECHA]],\"MMMM\"))","v":"Febrero"},{"$f":"YEAR(Base[[#This Row],[FECHA]])","v":2020},"PUIOAJ-00000374","Los Chillos","4 estrellas","Hostería",10,1338.3,{"$f":"Base[[#This Row],[VENTAS POR ALOJAMIENTO DURANTE EL MES DE LA ENCUESTA]]/1000","v":1.3383},18,36,0,36,36,0,36,9]
[43862,{"$f":"DAY(EOMONTH(Base[[#This Row],[FECHA]],0))","v":29},{"$f":"PROPER(TEXT(Base[[#This Row],[FECHA]],\"MMMM\"))","v":"Febrero"},{"$f":"YEAR(Base[[#This Row],[FECHA]])","v":2020},"PUIOAJ-00000072","La Mariscal","4 estrellas","Hotel",null,121353.66,{"$f":"Base[[#This Row],[VENTAS POR ALOJAMIENTO DURANTE EL MES DE LA ENCUESTA]]/1000","v":121.35366},1004,1187,302,1489,1187,302,1489,76]
[43862,{"$f":"DAY(EOMONTH(Base[[#This Row],[FECHA]],0))","v":29},{"$f":"PROPER(TEXT(Base[[#This Row],[FECHA]],\"MMMM\"))","v":"Febrero"},{"$f":"YEAR(Base[[#This Row],[FECHA]])","v":2020},"PUIOAJ-00000111","La Delicia","3 estrellas","Lodge",360,14539,{"$f":"Base[[#This Row],[VENTAS POR ALOJAMIENTO DURANTE EL MES DE LA ENCUESTA]]/1000","v":14.539},99,10,30,40,35,124,159,0]
[43862,{"$f":"DAY(EOMONTH(Base[[#This Row],[FECHA]],0))","v":29},{"$f":"PROPER(TEXT(Base[[#This Row],[FECHA]],\"MMMM\"))","v":"Febrero"},{"$f":"YEAR(Base[[#This Row],[FECHA]])","v":2020},"PUIOAJ-00001342","Manuela Sáenz","3 estrellas","Hotel",6,11840,{"$f":"Base[[#This Row],[VENTAS POR ALOJAMIENTO DURANTE EL MES DE LA ENCUESTA]]/1000","v":11.84},66,0,132,132,0,132,132,6]
[43862,{"$f":"DAY(EOMONTH(Base[[#This Row],[FECHA]],0))","v":29},{"$f":"PROPER(TEXT(Base[[#This Row],[FECHA]],\"MMMM\"))","v":"Febrero"},{"$f":"YEAR(Base[[#This Row],[FECHA]])","v":2020},"PUIOAJ-00000430","Tumbaco","3 estrellas","Hacienda Turística",21,0,{"$f":"Base[[#This Row],[VENTAS POR ALOJAMIENTO DURANTE EL MES DE LA ENCUESTA]]/1000","v":0},null,null,null,null,null,null,null,2]
[43891,{"$f":"DAY(EOMONTH(Base[[#This Row],[FECHA]],0))","v":31},{"$f":"PROPER(TEXT(Base[[#This Row],[FECHA]],\"MMMM\"))","v":"Marzo"},{"$f":"YEAR(Base[[#This Row],[FECHA]])","v":2020},"PUIOAJ-00000021","La Mariscal","3 estrellas","Hotel",1200,3200,{"$f":"Base[[#This Row],[VENTAS POR ALOJAMIENTO DURANTE EL MES DE LA ENCUESTA]]/1000","v":3.2},107,71,7,78,94,7,101,9]
[43891,{"$f":"DAY(EOMONTH(Base[[#This Row],[FECHA]],0))","v":31},{"$f":"PROPER(TEXT(Base[[#This Row],[FECHA]],\"MMMM\"))","v":"Marzo"},{"$f":"YEAR(Base[[#This Row],[FECHA]])","v":2020},"PUIOAJ-00000173","Eugenio Espejo","4 estrellas","Hotel",128,62709,{"$f":"Base[[#This Row],[VENTAS POR ALOJAMIENTO DURANTE EL MES DE LA ENCUESTA]]/1000","v":62.709000000000003},946,488,460,948,488,460,948,0]
[43891,{"$f":"DAY(EOMONTH(Base[[#This Row],[FECHA]],0))","v":31},{"$f":"PROPER(TEXT(Base[[#This Row],[FECHA]],\"MMMM\"))","v":"Marzo"},{"$f":"YEAR(Base[[#This Row],[FECHA]])","v":2020},"PUIOAJ-00000520","La Delicia","3 estrellas","Hostería",14,290,{"$f":"Base[[#This Row],[VENTAS POR ALOJAMIENTO DURANTE EL MES DE LA ENCUESTA]]/1000","v":0.28999999999999998},2,2,0,2,12,0,12,7]
[43891,{"$f":"DAY(EOMONTH(Base[[#This Row],[FECHA]],0))","v":31},{"$f":"PROPER(TEXT(Base[[#This Row],[FECHA]],\"MMMM\"))","v":"Marzo"},{"$f":"YEAR(Base[[#This Row],[FECHA]])","v":2020},"PUIOAJ-00000172","La Mariscal","3 estrellas","Hotel",20,4900,{"$f":"Base[[#This Row],[VENTAS POR ALOJAMIENTO DURANTE EL MES DE LA ENCUESTA]]/1000","v":4.9000000000000004},7,0,7,7,7,7,14,14]
[43891,{"$f":"DAY(EOMONTH(Base[[#This Row],[FECHA]],0))","v":31},{"$f":"PROPER(TEXT(Base[[#This Row],[FECHA]],\"MMMM\"))","v":"Marzo"},{"$f":"YEAR(Base[[#This Row],[FECHA]])","v":2020},"PUIOAJ-00001434","La Mariscal","3 estrellas","Hotel",9,90,{"$f":"Base[[#This Row],[VENTAS POR ALOJAMIENTO DURANTE EL MES DE LA ENCUESTA]]/1000","v":0.09},3,0,3,3,3,3,6,6]
[43891,{"$f":"DAY(EOMONTH(Base[[#This Row],[FECHA]],0))","v":31},{"$f":"PROPER(TEXT(Base[[#This Row],[FECHA]],\"MMMM\"))","v":"Marzo"},{"$f":"YEAR(Base[[#This Row],[FECHA]])","v":2020},"PUIOAJ-00000622","Manuela Sáenz","4 estrellas","Hotel",360,4498.55,{"$f":"Base[[#This Row],[VENTAS POR ALOJAMIENTO DURANTE EL MES DE LA ENCUESTA]]/1000","v":4.4985499999999998},29,0,66,66,0,66,66,8]
[43891,{"$f":"DAY(EOMONTH(Base[[#This Row],[FECHA]],0))","v":31},{"$f":"PROPER(TEXT(Base[[#This Row],[FECHA]],\"MMMM\"))","v":"Marzo"},{"$f":"YEAR(Base[[#This Row],[FECHA]])","v":2020},"PUIOAJ-00001685","Eugenio Espejo","3 estrellas","Hostal",10,6184,{"$f":"Base[[#This Row],[VENTAS POR ALOJAMIENTO DURANTE EL MES DE LA ENCUESTA]]/1000","v":6.1840000000000002},87,0,187,187,0,187,187,6]
[43891,{"$f":"DAY(EOMONTH(Base[[#This Row],[FECHA]],0))","v":31},{"$f":"PROPER(TEXT(Base[[#This Row],[FECHA]],\"MMMM\"))","v":"Marzo"},{"$f":"YEAR(Base[[#This Row],[FECHA]])","v":2020},"PUIOAJ-00000350","La Mariscal","3 estrellas","Hotel",306,216,{"$f":"Base[[#This Row],[VENTAS POR ALOJAMIENTO DURANTE EL MES DE LA ENCUESTA]]/1000","v":0.216},4,1,3,4,1,3,4,2]
[43891,{"$f":"DAY(EOMONTH(Base[[#This Row],[FECHA]],0))","v":31},{"$f":"PROPER(TEXT(Base[[#This Row],[FECHA]],\"MMMM\"))","v":"Marzo"},{"$f":"YEAR(Base[[#This Row],[FECHA]])","v":2020},"PUIOAJ-00000039","La Mariscal","3 estrellas","Hotel",600,8190,{"$f":"Base[[#This Row],[VENTAS POR ALOJAMIENTO DURANTE EL MES DE LA ENCUESTA]]/1000","v":8.19},167,3,141,144,8,231,239,8]
[43891,{"$f":"DAY(EOMONTH(Base[[#This Row],[FECHA]],0))","v":31},{"$f":"PROPER(TEXT(Base[[#This Row],[FECHA]],\"MMMM\"))","v":"Marzo"},{"$f":"YEAR(Base[[#This Row],[FECHA]])","v":2020},"PUIOAJ-00000233","Eugenio Espejo","4 estrellas","Hotel",24,1500,{"$f":"Base[[#This Row],[VENTAS POR ALOJAMIENTO DURANTE EL MES DE LA ENCUESTA]]/1000","v":1.5},9,2,10,12,2,10,12,0]
[43891,{"$f":"DAY(EOMONTH(Base[[#This Row],[FECHA]],0))","v":31},{"$f":"PROPER(TEXT(Base[[#This Row],[FECHA]],\"MMMM\"))","v":"Marzo"},{"$f":"YEAR(Base[[#This Row],[FECHA]])","v":2020},"PUIOAJ-00001397","Tumbaco","5 estrellas","Lodge",217,2331.92,{"$f":"Base[[#This Row],[VENTAS POR ALOJAMIENTO DURANTE EL MES DE LA ENCUESTA]]/1000","v":2.3319200000000002},20,18,9,27,30,13,43,8]
[43891,{"$f":"DAY(EOMONTH(Base[[#This Row],[FECHA]],0))","v":31},{"$f":"PROPER(TEXT(Base[[#This Row],[FECHA]],\"MMMM\"))","v":"Marzo"},{"$f":"YEAR(Base[[#This Row],[FECHA]])","v":2020},"PUIOAJ-00000223","La Mariscal","4 estrellas","Hotel",4371,100393.94,{"$f":"Base[[#This Row],[VENTAS POR ALOJAMIENTO DURANTE EL MES DE LA ENCUESTA]]/1000","v":100.39394},1136,556,883,1439,556,883,1439,56]
[43891,{"$f":"DAY(EOMONTH(Base[[#This Row],[FECHA]],0))","v":31},{"$f":"PROPER(TEXT(Base[[#This Row],[FECHA]],\"MMMM\"))","v":"Marzo"},{"$f":"YEAR(Base[[#This Row],[FECHA]])","v":2020},"PUIOAJ-00004644","Tumbaco","3 estrellas","Hostería",6,0,{"$f":"Base[[#This Row],[VENTAS POR ALOJAMIENTO DURANTE EL MES DE LA ENCUESTA]]/1000","v":0},null,0,0,null,0,0,null,2]
[43891,{"$f":"DAY(EOMONTH(Base[[#This Row],[FECHA]],0))","v":31},{"$f":"PROPER(TEXT(Base[[#This Row],[FECHA]],\"MMMM\"))","v":"Marzo"},{"$f":"YEAR(Base[[#This Row],[FECHA]])","v":2020},"PUIOAJ-00000171","La Mariscal","3 estrellas","Hotel",40,10600.34,{"$f":"Base[[#This Row],[VENTAS POR ALOJAMIENTO DURANTE EL MES DE LA ENCUESTA]]/1000","v":10.600340000000001},176,22,154,176,161,154,315,25]
[43891,{"$f":"DAY(EOMONTH(Base[[#This Row],[FECHA]],0))","v":31},{"$f":"PROPER(TEXT(Base[[#This Row],[FECHA]],\"MMMM\"))","v":"Marzo"},{"$f":"YEAR(Base[[#This Row],[FECHA]])","v":2020},"PUIOAJ-00001431","Manuela Sáenz","5 estrellas","Hotel",780,6900,{"$f":"Base[[#This Row],[VENTAS POR ALOJAMIENTO DURANTE EL MES DE LA ENCUESTA]]/1000","v":6.9},88,8,80,88,8,80,88,19]
[43891,{"$f":"DAY(EOMONTH(Base[[#This Row],[FECHA]],0))","v":31},{"$f":"PROPER(TEXT(Base[[#This Row],[FECHA]],\"MMMM\"))","v":"Marzo"},{"$f":"YEAR(Base[[#This Row],[FECHA]])","v":2020},"PUIOAJ-00001673","La Mariscal","4 estrellas","Hotel",55,45000,{"$f":"Base[[#This Row],[VENTAS POR ALOJAMIENTO DURANTE EL MES DE LA ENCUESTA]]/1000","v":45},241,300,12,312,700,113,813,17]
[43891,{"$f":"DAY(EOMONTH(Base[[#This Row],[FECHA]],0))","v":31},{"$f":"PROPER(TEXT(Base[[#This Row],[FECHA]],\"MMMM\"))","v":"Marzo"},{"$f":"YEAR(Base[[#This Row],[FECHA]])","v":2020},"PUIOAJ-00001342","Manuela Sáenz","3 estrellas","Hotel",186,6913,{"$f":"Base[[#This Row],[VENTAS POR ALOJAMIENTO DURANTE EL MES DE LA ENCUESTA]]/1000","v":6.9130000000000003},46,0,73,73,0,73,73,7]
[43891,{"$f":"DAY(EOMONTH(Base[[#This Row],[FECHA]],0))","v":31},{"$f":"PROPER(TEXT(Base[[#This Row],[FECHA]],\"MMMM\"))","v":"Marzo"},{"$f":"YEAR(Base[[#This Row],[FECHA]])","v":2020},"PUIOAJ-00001368","La Delicia","4 estrellas","Hostería",20,0,{"$f":"Base[[#This Row],[VENTAS POR ALOJAMIENTO DURANTE EL MES DE LA ENCUESTA]]/1000","v":0},null,0,0,null,0,0,null,5]
[43891,{"$f":"DAY(EOMONTH(Base[[#This Row],[FECHA]],0))","v":31},{"$f":"PROPER(TEXT(Base[[#This Row],[FECHA]],\"MMMM\"))","v":"Marzo"},{"$f":"YEAR(Base[[#This Row],[FECHA]])","v":2020},"PUIOAJ-00001488","Eugenio Espejo","3 estrellas","Hostería",5,0,{"$f":"Base[[#This Row],[VENTAS POR ALOJAMIENTO DURANTE EL MES DE LA ENCUESTA]]/1000","v":0},null,0,0,null,0,0,null,3]
[43891,{"$f":"DAY(EOMONTH(Base[[#This Row],[FECHA]],0))","v":31},{"$f":"PROPER(TEXT(Base[[#This Row],[FECHA]],\"MMMM\"))","v":"Marzo"},{"$f":"YEAR(Base[[#This Row],[FECHA]])","v":2020},"PUIOAJ-00000374","Los Chillos","4 estrellas","Hostería",10,526.14,{"$f":"Base[[#This Row],[VENTAS POR ALOJAMIENTO DURANTE EL MES DE LA ENCUESTA]]/1000","v":0.52613999999999994},8,15,0,15,15,3,18,7]
[43891,{"$f":"DAY(EOMONTH(Base[[#This Row],[FECHA]],0))","v":31},{"$f":"PROPER(TEXT(Base[[#This Row],[FECHA]],\"MMMM\"))","v":"Marzo"},{"$f":"YEAR(Base[[#This Row],[FECHA]])","v":2020},"PUIOAJ-00000072","La Mariscal","4 estrellas","Hotel",1951,37870,{"$f":"Base[[#This Row],[VENTAS POR ALOJAMIENTO DURANTE EL MES DE LA ENCUESTA]]/1000","v":37.869999999999997},715,757,291,1048,757,291,1048,73]
[43891,{"$f":"DAY(EOMONTH(Base[[#This Row],[FECHA]],0))","v":31},{"$f":"PROPER(TEXT(Base[[#This Row],[FECHA]],\"MMMM\"))","v":"Marzo"},{"$f":"YEAR(Base[[#This Row],[FECHA]])","v":2020},"PUIOAJ-00000112","Eugenio Espejo","3 estrellas","Hostería",20,25000,{"$f":"Base[[#This Row],[VENTAS POR ALOJAMIENTO DURANTE EL MES DE LA ENCUESTA]]/1000","v":25},21,0,26,26,0,42,42,13]
[43891,{"$f":"DAY(EOMONTH(Base[[#This Row],[FECHA]],0))","v":31},{"$f":"PROPER(TEXT(Base[[#This Row],[FECHA]],\"MMMM\"))","v":"Marzo"},{"$f":"YEAR(Base[[#This Row],[FECHA]])","v":2020},"PUIOAJ-00001468","La Mariscal","3 estrellas","Hostal",25,0,{"$f":"Base[[#This Row],[VENTAS POR ALOJAMIENTO DURANTE EL MES DE LA ENCUESTA]]/1000","v":0},0,0,0,0,0,0,null,0]
[43922,{"$f":"DAY(EOMONTH(Base[[#This Row],[FECHA]],0))","v":30},{"$f":"PROPER(TEXT(Base[[#This Row],[FECHA]],\"MMMM\"))","v":"Abril"},{"$f":"YEAR(Base[[#This Row],[FECHA]])","v":2020},"PUIOAJ-00000021","La Mariscal","3 estrellas","Hotel",1200,0,{"$f":"Base[[#This Row],[VENTAS POR ALOJAMIENTO DURANTE EL MES DE LA ENCUESTA]]/1000","v":0},0,0,0,0,0,0,null,9]
[43922,{"$f":"DAY(EOMONTH(Base[[#This Row],[FECHA]],0))","v":30},{"$f":"PROPER(TEXT(Base[[#This Row],[FECHA]],\"MMMM\"))","v":"Abril"},{"$f":"YEAR(Base[[#This Row],[FECHA]])","v":2020},"PUIOAJ-00000173","Eugenio Espejo","4 estrellas","Hotel",128,15915,{"$f":"Base[[#This Row],[VENTAS POR ALOJAMIENTO DURANTE EL MES DE LA ENCUESTA]]/1000","v":15.914999999999999},207,11,0,11,23,0,23,76]
[43922,{"$f":"DAY(EOMONTH(Base[[#This Row],[FECHA]],0))","v":30},{"$f":"PROPER(TEXT(Base[[#This Row],[FECHA]],\"MMMM\"))","v":"Abril"},{"$f":"YEAR(Base[[#This Row],[FECHA]])","v":2020},"PUIOAJ-00000520","La Delicia","3 estrellas","Hostería",12,0,{"$f":"Base[[#This Row],[VENTAS POR ALOJAMIENTO DURANTE EL MES DE LA ENCUESTA]]/1000","v":0},null,0,0,null,0,0,null,6]
[43922,{"$f":"DAY(EOMONTH(Base[[#This Row],[FECHA]],0))","v":30},{"$f":"PROPER(TEXT(Base[[#This Row],[FECHA]],\"MMMM\"))","v":"Abril"},{"$f":"YEAR(Base[[#This Row],[FECHA]])","v":2020},"PUIOAJ-00000035","Eugenio Espejo","3 estrellas","Hotel",12,0,{"$f":"Base[[#This Row],[VENTAS POR ALOJAMIENTO DURANTE EL MES DE LA ENCUESTA]]/1000","v":0},null,0,0,null,0,0,null,3]
[43922,{"$f":"DAY(EOMONTH(Base[[#This Row],[FECHA]],0))","v":30},{"$f":"PROPER(TEXT(Base[[#This Row],[FECHA]],\"MMMM\"))","v":"Abril"},{"$f":"YEAR(Base[[#This Row],[FECHA]])","v":2020},"PUIOAJ-00000622","Manuela Sáenz","4 estrellas","Hotel",360,0,{"$f":"Base[[#This Row],[VENTAS POR ALOJAMIENTO DURANTE EL MES DE LA ENCUESTA]]/1000","v":0},null,0,0,null,0,0,null,6]
[43922,{"$f":"DAY(EOMONTH(Base[[#This Row],[FECHA]],0))","v":30},{"$f":"PROPER(TEXT(Base[[#This Row],[FECHA]],\"MMMM\"))","v":"Abril"},{"$f":"YEAR(Base[[#This Row],[FECHA]])","v":2020},"PUIOAJ-00000423","Tumbaco","5 estrellas","Hostería",7,0,{"$f":"Base[[#This Row],[VENTAS POR ALOJAMIENTO DURANTE EL MES DE LA ENCUESTA]]/1000","v":0},null,0,0,null,0,0,null,1]
[43922,{"$f":"DAY(EOMONTH(Base[[#This Row],[FECHA]],0))","v":30},{"$f":"PROPER(TEXT(Base[[#This Row],[FECHA]],\"MMMM\"))","v":"Abril"},{"$f":"YEAR(Base[[#This Row],[FECHA]])","v":2020},"PUIOAJ-00000350","La Mariscal","3 estrellas","Hotel",0,0,{"$f":"Base[[#This Row],[VENTAS POR ALOJAMIENTO DURANTE EL MES DE LA ENCUESTA]]/1000","v":0},0,0,0,0,0,0,null,3]
[43922,{"$f":"DAY(EOMONTH(Base[[#This Row],[FECHA]],0))","v":30},{"$f":"PROPER(TEXT(Base[[#This Row],[FECHA]],\"MMMM\"))","v":"Abril"},{"$f":"YEAR(Base[[#This Row],[FECHA]])","v":2020},"PUIOAJ-00000039","La Mariscal","3 estrellas","Hotel",20,0,{"$f":"Base[[#This Row],[VENTAS POR ALOJAMIENTO DURANTE EL MES DE LA ENCUESTA]]/1000","v":0},0,0,0,0,0,0,null,8]
[43922,{"$f":"DAY(EOMONTH(Base[[#This Row],[FECHA]],0))","v":30},{"$f":"PROPER(TEXT(Base[[#This Row],[FECHA]],\"MMMM\"))","v":"Abril"},{"$f":"YEAR(Base[[#This Row],[FECHA]])","v":2020},"PUIOAJ-00001445","Tumbaco","5 estrellas","Hotel",94,0,{"$f":"Base[[#This Row],[VENTAS POR ALOJAMIENTO DURANTE EL MES DE LA ENCUESTA]]/1000","v":0},null,84,0,84,84,0,84,43]
[43922,{"$f":"DAY(EOMONTH(Base[[#This Row],[FECHA]],0))","v":30},{"$f":"PROPER(TEXT(Base[[#This Row],[FECHA]],\"MMMM\"))","v":"Abril"},{"$f":"YEAR(Base[[#This Row],[FECHA]])","v":2020},"PUIOAJ-00000256","Manuela Sáenz","4 estrellas","Hotel",960,0,{"$f":"Base[[#This Row],[VENTAS POR ALOJAMIENTO DURANTE EL MES DE LA ENCUESTA]]/1000","v":0},null,0,0,null,0,0,null,46]
[43922,{"$f":"DAY(EOMONTH(Base[[#This Row],[FECHA]],0))","v":30},{"$f":"PROPER(TEXT(Base[[#This Row],[FECHA]],\"MMMM\"))","v":"Abril"},{"$f":"YEAR(Base[[#This Row],[FECHA]])","v":2020},"PUIOAJ-00000233","Eugenio Espejo","4 estrellas","Hotel",24,0,{"$f":"Base[[#This Row],[VENTAS POR ALOJAMIENTO DURANTE EL MES DE LA ENCUESTA]]/1000","v":0},null,0,0,null,0,0,null,0]
[43922,{"$f":"DAY(EOMONTH(Base[[#This Row],[FECHA]],0))","v":30},{"$f":"PROPER(TEXT(Base[[#This Row],[FECHA]],\"MMMM\"))","v":"Abril"},{"$f":"YEAR(Base[[#This Row],[FECHA]])","v":2020},"PUIOAJ-00001397","Tumbaco","5 estrellas","Lodge",210,0,{"$f":"Base[[#This Row],[VENTAS POR ALOJAMIENTO DURANTE EL MES DE LA ENCUESTA]]/1000","v":0},null,0,0,null,0,0,null,3]
[43922,{"$f":"DAY(EOMONTH(Base[[#This Row],[FECHA]],0))","v":30},{"$f":"PROPER(TEXT(Base[[#This Row],[FECHA]],\"MMMM\"))","v":"Abril"},{"$f":"YEAR(Base[[#This Row],[FECHA]])","v":2020},"PUIOAJ-00004644","Tumbaco","3 estrellas","Hostería",6,0,{"$f":"Base[[#This Row],[VENTAS POR ALOJAMIENTO DURANTE EL MES DE LA ENCUESTA]]/1000","v":0},null,0,0,null,0,0,null,2]
[43922,{"$f":"DAY(EOMONTH(Base[[#This Row],[FECHA]],0))","v":30},{"$f":"PROPER(TEXT(Base[[#This Row],[FECHA]],\"MMMM\"))","v":"Abril"},{"$f":"YEAR(Base[[#This Row],[FECHA]])","v":2020},"PUIOAJ-00000171","La Mariscal","3 estrellas","Hotel",40,15960,{"$f":"Base[[#This Row],[VENTAS POR ALOJAMIENTO DURANTE EL MES DE LA ENCUESTA]]/1000","v":15.96},403,0,300,300,0,410,410,20]
[43922,{"$f":"DAY(EOMONTH(Base[[#This Row],[FECHA]],0))","v":30},{"$f":"PROPER(TEXT(Base[[#This Row],[FECHA]],\"MMMM\"))","v":"Abril"},{"$f":"YEAR(Base[[#This Row],[FECHA]])","v":2020},"PUIOAJ-00000152","Eugenio Espejo","4 estrellas","Hotel",4560,0,{"$f":"Base[[#This Row],[VENTAS POR ALOJAMIENTO DURANTE EL MES DE LA ENCUESTA]]/1000","v":0},null,0,0,null,0,0,null,0]
[43922,{"$f":"DAY(EOMONTH(Base[[#This Row],[FECHA]],0))","v":30},{"$f":"PROPER(TEXT(Base[[#This Row],[FECHA]],\"MMMM\"))","v":"Abril"},{"$f":"YEAR(Base[[#This Row],[FECHA]])","v":2020},"PUIOAJ-00000374","Los Chillos","4 estrellas","Hostería",10,35,{"$f":"Base[[#This Row],[VENTAS POR ALOJAMIENTO DURANTE EL MES DE LA ENCUESTA]]/1000","v":3.5000000000000003E-2},1,1,0,1,1,0,1,2]
[43922,{"$f":"DAY(EOMONTH(Base[[#This Row],[FECHA]],0))","v":30},{"$f":"PROPER(TEXT(Base[[#This Row],[FECHA]],\"MMMM\"))","v":"Abril"},{"$f":"YEAR(Base[[#This Row],[FECHA]])","v":2020},"PUIOAJ-00000072","La Mariscal","4 estrellas","Hotel",86,308,{"$f":"Base[[#This Row],[VENTAS POR ALOJAMIENTO DURANTE EL MES DE LA ENCUESTA]]/1000","v":0.308},6,6,0,6,6,0,6,69]
[43922,{"$f":"DAY(EOMONTH(Base[[#This Row],[FECHA]],0))","v":30},{"$f":"PROPER(TEXT(Base[[#This Row],[FECHA]],\"MMMM\"))","v":"Abril"},{"$f":"YEAR(Base[[#This Row],[FECHA]])","v":2020},"PUIOAJ-00000112","Eugenio Espejo","3 estrellas","Hostería",20,0,{"$f":"Base[[#This Row],[VENTAS POR ALOJAMIENTO DURANTE EL MES DE LA ENCUESTA]]/1000","v":0},null,0,0,null,0,0,null,11]
[43922,{"$f":"DAY(EOMONTH(Base[[#This Row],[FECHA]],0))","v":30},{"$f":"PROPER(TEXT(Base[[#This Row],[FECHA]],\"MMMM\"))","v":"Abril"},{"$f":"YEAR(Base[[#This Row],[FECHA]])","v":2020},"PUIOAJ-00001342","Manuela Sáenz","3 estrellas","Hotel",180,0,{"$f":"Base[[#This Row],[VENTAS POR ALOJAMIENTO DURANTE EL MES DE LA ENCUESTA]]/1000","v":0},null,0,0,null,0,0,null,6]
[43952,{"$f":"DAY(EOMONTH(Base[[#This Row],[FECHA]],0))","v":31},{"$f":"PROPER(TEXT(Base[[#This Row],[FECHA]],\"MMMM\"))","v":"Mayo"},{"$f":"YEAR(Base[[#This Row],[FECHA]])","v":2020},"PUIOAJ-00000449","Eugenio Espejo","3 estrellas","Hostal",9,799,{"$f":"Base[[#This Row],[VENTAS POR ALOJAMIENTO DURANTE EL MES DE LA ENCUESTA]]/1000","v":0.79900000000000004},14,1,1,2,14,14,28,6]
[43952,{"$f":"DAY(EOMONTH(Base[[#This Row],[FECHA]],0))","v":31},{"$f":"PROPER(TEXT(Base[[#This Row],[FECHA]],\"MMMM\"))","v":"Mayo"},{"$f":"YEAR(Base[[#This Row],[FECHA]])","v":2020},"PUIOAJ-00004601","Eugenio Espejo","3 estrellas","Hotel",12,8619,{"$f":"Base[[#This Row],[VENTAS POR ALOJAMIENTO DURANTE EL MES DE LA ENCUESTA]]/1000","v":8.6189999999999998},20,31,0,31,31,0,31,12]
[43952,{"$f":"DAY(EOMONTH(Base[[#This Row],[FECHA]],0))","v":31},{"$f":"PROPER(TEXT(Base[[#This Row],[FECHA]],\"MMMM\"))","v":"Mayo"},{"$f":"YEAR(Base[[#This Row],[FECHA]])","v":2020},"PUIOAJ-00000035","Eugenio Espejo","3 estrellas","Hotel",12,null,{"$f":"Base[[#This Row],[VENTAS POR ALOJAMIENTO DURANTE EL MES DE LA ENCUESTA]]/1000","v":0},null,null,null,null,null,null,null,4]
[43952,{"$f":"DAY(EOMONTH(Base[[#This Row],[FECHA]],0))","v":31},{"$f":"PROPER(TEXT(Base[[#This Row],[FECHA]],\"MMMM\"))","v":"Mayo"},{"$f":"YEAR(Base[[#This Row],[FECHA]])","v":2020},"PUIOAJ-00000290","La Delicia","4 estrellas","Lodge",17,null,{"$f":"Base[[#This Row],[VENTAS POR ALOJAMIENTO DURANTE EL MES DE LA ENCUESTA]]/1000","v":0},null,null,null,null,null,null,null,50]
[43952,{"$f":"DAY(EOMONTH(Base[[#This Row],[FECHA]],0))","v":31},{"$f":"PROPER(TEXT(Base[[#This Row],[FECHA]],\"MMMM\"))","v":"Mayo"},{"$f":"YEAR(Base[[#This Row],[FECHA]])","v":2020},"PUIOAJ-00001482","La Mariscal","3 estrellas","Hotel",15,3,{"$f":"Base[[#This Row],[VENTAS POR ALOJAMIENTO DURANTE EL MES DE LA ENCUESTA]]/1000","v":3.0000000000000001E-3},104,11,0,11,78,0,78,28]
[43952,{"$f":"DAY(EOMONTH(Base[[#This Row],[FECHA]],0))","v":31},{"$f":"PROPER(TEXT(Base[[#This Row],[FECHA]],\"MMMM\"))","v":"Mayo"},{"$f":"YEAR(Base[[#This Row],[FECHA]])","v":2020},"PUIOAJ-00000423","Tumbaco","5 estrellas","Hostería",7,null,{"$f":"Base[[#This Row],[VENTAS POR ALOJAMIENTO DURANTE EL MES DE LA ENCUESTA]]/1000","v":0},null,null,null,null,null,null,null,3]
[43952,{"$f":"DAY(EOMONTH(Base[[#This Row],[FECHA]],0))","v":31},{"$f":"PROPER(TEXT(Base[[#This Row],[FECHA]],\"MMMM\"))","v":"Mayo"},{"$f":"YEAR(Base[[#This Row],[FECHA]])","v":2020},"PUIOAJ-00000435","Manuela Sáenz","3 estrellas","Hostal",6,null,{"$f":"Base[[#This Row],[VENTAS POR ALOJAMIENTO DURANTE EL MES DE LA ENCUESTA]]/1000","v":0},null,null,null,null,null,null,null,2]
[43952,{"$f":"DAY(EOMONTH(Base[[#This Row],[FECHA]],0))","v":31},{"$f":"PROPER(TEXT(Base[[#This Row],[FECHA]],\"MMMM\"))","v":"Mayo"},{"$f":"YEAR(Base[[#This Row],[FECHA]])","v":2020},"PUIOAJ-00000350","La Mariscal","3 estrellas","Hotel",1,null,{"$f":"Base[[#This Row],[VENTAS POR ALOJAMIENTO DURANTE EL MES DE LA ENCUESTA]]/1000","v":0},null,null,null,0,null,null,null,2]
[43952,{"$f":"DAY(EOMONTH(Base[[#This Row],[FECHA]],0))","v":31},{"$f":"PROPER(TEXT(Base[[#This Row],[FECHA]],\"MMMM\"))","v":"Mayo"},{"$f":"YEAR(Base[[#This Row],[FECHA]])","v":2020},"PUIOAJ-00000039","La Mariscal","3 estrellas","Hotel",0,null,{"$f":"Base[[#This Row],[VENTAS POR ALOJAMIENTO DURANTE EL MES DE LA ENCUESTA]]/1000","v":0},null,null,null,0,null,null,null,7]
[43952,{"$f":"DAY(EOMONTH(Base[[#This Row],[FECHA]],0))","v":31},{"$f":"PROPER(TEXT(Base[[#This Row],[FECHA]],\"MMMM\"))","v":"Mayo"},{"$f":"YEAR(Base[[#This Row],[FECHA]])","v":2020},"PUIOAJ-00001445","Tumbaco","5 estrellas","Hotel",94,null,{"$f":"Base[[#This Row],[VENTAS POR ALOJAMIENTO DURANTE EL MES DE LA ENCUESTA]]/1000","v":0},null,null,null,null,null,null,null,91]
[43952,{"$f":"DAY(EOMONTH(Base[[#This Row],[FECHA]],0))","v":31},{"$f":"PROPER(TEXT(Base[[#This Row],[FECHA]],\"MMMM\"))","v":"Mayo"},{"$f":"YEAR(Base[[#This Row],[FECHA]])","v":2020},"PUIOAJ-00000129","La Mariscal","3 estrellas","Hotel",0,null,{"$f":"Base[[#This Row],[VENTAS POR ALOJAMIENTO DURANTE EL MES DE LA ENCUESTA]]/1000","v":0},null,null,null,0,null,null,null,4]
[43952,{"$f":"DAY(EOMONTH(Base[[#This Row],[FECHA]],0))","v":31},{"$f":"PROPER(TEXT(Base[[#This Row],[FECHA]],\"MMMM\"))","v":"Mayo"},{"$f":"YEAR(Base[[#This Row],[FECHA]])","v":2020},"PUIOAJ-00001397","Tumbaco","5 estrellas","Lodge",7,null,{"$f":"Base[[#This Row],[VENTAS POR ALOJAMIENTO DURANTE EL MES DE LA ENCUESTA]]/1000","v":0},null,null,null,null,null,null,null,5]
[43952,{"$f":"DAY(EOMONTH(Base[[#This Row],[FECHA]],0))","v":31},{"$f":"PROPER(TEXT(Base[[#This Row],[FECHA]],\"MMMM\"))","v":"Mayo"},{"$f":"YEAR(Base[[#This Row],[FECHA]])","v":2020},"PUIOAJ-00000064","La Mariscal","5 estrellas","Hotel",255,90180,{"$f":"Base[[#This Row],[VENTAS POR ALOJAMIENTO DURANTE EL MES DE LA ENCUESTA]]/1000","v":90.18},1265,191,12,203,2690,145,2835,0]
[43952,{"$f":"DAY(EOMONTH(Base[[#This Row],[FECHA]],0))","v":31},{"$f":"PROPER(TEXT(Base[[#This Row],[FECHA]],\"MMMM\"))","v":"Mayo"},{"$f":"YEAR(Base[[#This Row],[FECHA]])","v":2020},"PUIOAJ-00000505","Tumbaco","3 estrellas","Hostal",9,null,{"$f":"Base[[#This Row],[VENTAS POR ALOJAMIENTO DURANTE EL MES DE LA ENCUESTA]]/1000","v":0},null,null,null,null,null,null,null,0]
[43952,{"$f":"DAY(EOMONTH(Base[[#This Row],[FECHA]],0))","v":31},{"$f":"PROPER(TEXT(Base[[#This Row],[FECHA]],\"MMMM\"))","v":"Mayo"},{"$f":"YEAR(Base[[#This Row],[FECHA]])","v":2020},"PUIOAJ-00000520","La Delicia","3 estrellas","Hostería",14,null,{"$f":"Base[[#This Row],[VENTAS POR ALOJAMIENTO DURANTE EL MES DE LA ENCUESTA]]/1000","v":0},null,null,null,null,null,null,null,11]
[43952,{"$f":"DAY(EOMONTH(Base[[#This Row],[FECHA]],0))","v":31},{"$f":"PROPER(TEXT(Base[[#This Row],[FECHA]],\"MMMM\"))","v":"Mayo"},{"$f":"YEAR(Base[[#This Row],[FECHA]])","v":2020},"PUIOAJ-00000108","Los Chillos","4 estrellas","Hostería",10,null,{"$f":"Base[[#This Row],[VENTAS POR ALOJAMIENTO DURANTE EL MES DE LA ENCUESTA]]/1000","v":0},null,null,null,null,null,null,null,7]
[43952,{"$f":"DAY(EOMONTH(Base[[#This Row],[FECHA]],0))","v":31},{"$f":"PROPER(TEXT(Base[[#This Row],[FECHA]],\"MMMM\"))","v":"Mayo"},{"$f":"YEAR(Base[[#This Row],[FECHA]])","v":2020},"PUIOAJ-00000381","La Delicia","3 estrellas","Hostería",8,null,{"$f":"Base[[#This Row],[VENTAS POR ALOJAMIENTO DURANTE EL MES DE LA ENCUESTA]]/1000","v":0},null,null,null,null,null,null,null,6]
[43952,{"$f":"DAY(EOMONTH(Base[[#This Row],[FECHA]],0))","v":31},{"$f":"PROPER(TEXT(Base[[#This Row],[FECHA]],\"MMMM\"))","v":"Mayo"},{"$f":"YEAR(Base[[#This Row],[FECHA]])","v":2020},"PUIOAJ-00000110","Eugenio Espejo","3 estrellas","Hostería",14,null,{"$f":"Base[[#This Row],[VENTAS POR ALOJAMIENTO DURANTE EL MES DE LA ENCUESTA]]/1000","v":0},null,null,null,null,null,null,null,2]
[43952,{"$f":"DAY(EOMONTH(Base[[#This Row],[FECHA]],0))","v":31},{"$f":"PROPER(TEXT(Base[[#This Row],[FECHA]],\"MMMM\"))","v":"Mayo"},{"$f":"YEAR(Base[[#This Row],[FECHA]])","v":2020},"PUIOAJ-00000374","Los Chillos","4 estrellas","Hostería",10,null,{"$f":"Base[[#This Row],[VENTAS POR ALOJAMIENTO DURANTE EL MES DE LA ENCUESTA]]/1000","v":0},null,null,null,null,null,null,null,3]
[43952,{"$f":"DAY(EOMONTH(Base[[#This Row],[FECHA]],0))","v":31},{"$f":"PROPER(TEXT(Base[[#This Row],[FECHA]],\"MMMM\"))","v":"Mayo"},{"$f":"YEAR(Base[[#This Row],[FECHA]])","v":2020},"PUIOAJ-00000112","Eugenio Espejo","3 estrellas","Hostería",20,null,{"$f":"Base[[#This Row],[VENTAS POR ALOJAMIENTO DURANTE EL MES DE LA ENCUESTA]]/1000","v":0},null,null,null,null,null,null,null,4]
[43952,{"$f":"DAY(EOMONTH(Base[[#This Row],[FECHA]],0))","v":31},{"$f":"PROPER(TEXT(Base[[#This Row],[FECHA]],\"MMMM\"))","v":"Mayo"},{"$f":"YEAR(Base[[#This Row],[FECHA]])","v":2020},"PUIOAJ-00000171","La Mariscal","3 estrellas","Hotel",40,24931,{"$f":"Base[[#This Row],[VENTAS POR ALOJAMIENTO DURANTE EL MES DE LA ENCUESTA]]/1000","v":24.931000000000001},954,71,0,71,954,0,954,51]
[43952,{"$f":"DAY(EOMONTH(Base[[#This Row],[FECHA]],0))","v":31},{"$f":"PROPER(TEXT(Base[[#This Row],[FECHA]],\"MMMM\"))","v":"Mayo"},{"$f":"YEAR(Base[[#This Row],[FECHA]])","v":2020},"PUIOAJ-00000173","Eugenio Espejo","4 estrellas","Hotel",128,17625,{"$f":"Base[[#This Row],[VENTAS POR ALOJAMIENTO DURANTE EL MES DE LA ENCUESTA]]/1000","v":17.625},316,316,0,316,316,0,316,90]
[43952,{"$f":"DAY(EOMONTH(Base[[#This Row],[FECHA]],0))","v":31},{"$f":"PROPER(TEXT(Base[[#This Row],[FECHA]],\"MMMM\"))","v":"Mayo"},{"$f":"YEAR(Base[[#This Row],[FECHA]])","v":2020},"PUIOAJ-00000611","La Mariscal","3 estrellas","Hotel",60,8000,{"$f":"Base[[#This Row],[VENTAS POR ALOJAMIENTO DURANTE EL MES DE LA ENCUESTA]]/1000","v":8},30,0,30,30,0,30,30,18]
[43952,{"$f":"DAY(EOMONTH(Base[[#This Row],[FECHA]],0))","v":31},{"$f":"PROPER(TEXT(Base[[#This Row],[FECHA]],\"MMMM\"))","v":"Mayo"},{"$f":"YEAR(Base[[#This Row],[FECHA]])","v":2020},"PUIOAJ-00000156","Manuela Sáenz","4 estrellas","Hotel",49,29114,{"$f":"Base[[#This Row],[VENTAS POR ALOJAMIENTO DURANTE EL MES DE LA ENCUESTA]]/1000","v":29.114000000000001},704,720,2,722,720,6,726,51]
[43952,{"$f":"DAY(EOMONTH(Base[[#This Row],[FECHA]],0))","v":31},{"$f":"PROPER(TEXT(Base[[#This Row],[FECHA]],\"MMMM\"))","v":"Mayo"},{"$f":"YEAR(Base[[#This Row],[FECHA]])","v":2020},"PUIOAJ-00001524","Manuela Sáenz","3 estrellas","Hotel",8,null,{"$f":"Base[[#This Row],[VENTAS POR ALOJAMIENTO DURANTE EL MES DE LA ENCUESTA]]/1000","v":0},null,null,null,null,null,null,null,0]
[43952,{"$f":"DAY(EOMONTH(Base[[#This Row],[FECHA]],0))","v":31},{"$f":"PROPER(TEXT(Base[[#This Row],[FECHA]],\"MMMM\"))","v":"Mayo"},{"$f":"YEAR(Base[[#This Row],[FECHA]])","v":2020},"PUIOAJ-00000024","Manuela Sáenz","4 estrellas","Hotel",18,null,{"$f":"Base[[#This Row],[VENTAS POR ALOJAMIENTO DURANTE EL MES DE LA ENCUESTA]]/1000","v":0},null,null,null,null,null,null,null,10]
[43952,{"$f":"DAY(EOMONTH(Base[[#This Row],[FECHA]],0))","v":31},{"$f":"PROPER(TEXT(Base[[#This Row],[FECHA]],\"MMMM\"))","v":"Mayo"},{"$f":"YEAR(Base[[#This Row],[FECHA]])","v":2020},"PUIOAJ-00000152","Eugenio Espejo","4 estrellas","Hotel",0,null,{"$f":"Base[[#This Row],[VENTAS POR ALOJAMIENTO DURANTE EL MES DE LA ENCUESTA]]/1000","v":0},null,null,null,null,0,0,null,30]
[43952,{"$f":"DAY(EOMONTH(Base[[#This Row],[FECHA]],0))","v":31},{"$f":"PROPER(TEXT(Base[[#This Row],[FECHA]],\"MMMM\"))","v":"Mayo"},{"$f":"YEAR(Base[[#This Row],[FECHA]])","v":2020},"PUIOAJ-00000233","Eugenio Espejo","4 estrellas","Hotel",24,null,{"$f":"Base[[#This Row],[VENTAS POR ALOJAMIENTO DURANTE EL MES DE LA ENCUESTA]]/1000","v":0},null,null,null,null,null,null,null,1]
[43952,{"$f":"DAY(EOMONTH(Base[[#This Row],[FECHA]],0))","v":31},{"$f":"PROPER(TEXT(Base[[#This Row],[FECHA]],\"MMMM\"))","v":"Mayo"},{"$f":"YEAR(Base[[#This Row],[FECHA]])","v":2020},"PUIOAJ-00001639","La Mariscal","3 estrellas","Hotel",17,null,{"$f":"Base[[#This Row],[VENTAS POR ALOJAMIENTO DURANTE EL MES DE LA ENCUESTA]]/1000","v":0},null,null,null,0,null,null,null,1]
[43952,{"$f":"DAY(EOMONTH(Base[[#This Row],[FECHA]],0))","v":31},{"$f":"PROPER(TEXT(Base[[#This Row],[FECHA]],\"MMMM\"))","v":"Mayo"},{"$f":"YEAR(Base[[#This Row],[FECHA]])","v":2020},"PUIOAJ-00001431","Manuela Sáenz","5 estrellas","Hotel",0,null,{"$f":"Base[[#This Row],[VENTAS POR ALOJAMIENTO DURANTE EL MES DE LA ENCUESTA]]/1000","v":0},null,null,null,null,null,null,null,28]
[43952,{"$f":"DAY(EOMONTH(Base[[#This Row],[FECHA]],0))","v":31},{"$f":"PROPER(TEXT(Base[[#This Row],[FECHA]],\"MMMM\"))","v":"Mayo"},{"$f":"YEAR(Base[[#This Row],[FECHA]])","v":2020},"PUIOAJ-00000072","La Mariscal","4 estrellas","Hotel",86,9790,{"$f":"Base[[#This Row],[VENTAS POR ALOJAMIENTO DURANTE EL MES DE LA ENCUESTA]]/1000","v":9.7899999999999991},208,288,0,288,288,0,288,150]
[43952,{"$f":"DAY(EOMONTH(Base[[#This Row],[FECHA]],0))","v":31},{"$f":"PROPER(TEXT(Base[[#This Row],[FECHA]],\"MMMM\"))","v":"Mayo"},{"$f":"YEAR(Base[[#This Row],[FECHA]])","v":2020},"PUIOAJ-00001636","Tumbaco","3 estrellas","Hotel",19,null,{"$f":"Base[[#This Row],[VENTAS POR ALOJAMIENTO DURANTE EL MES DE LA ENCUESTA]]/1000","v":0},null,null,null,null,null,null,null,14]
[43952,{"$f":"DAY(EOMONTH(Base[[#This Row],[FECHA]],0))","v":31},{"$f":"PROPER(TEXT(Base[[#This Row],[FECHA]],\"MMMM\"))","v":"Mayo"},{"$f":"YEAR(Base[[#This Row],[FECHA]])","v":2020},"PUIOAJ-00000126","Eugenio Espejo","3 estrellas","Hostal",25,12286.76,{"$f":"Base[[#This Row],[VENTAS POR ALOJAMIENTO DURANTE EL MES DE LA ENCUESTA]]/1000","v":12.286760000000001},34,43,0,43,43,0,43,16]
[43952,{"$f":"DAY(EOMONTH(Base[[#This Row],[FECHA]],0))","v":31},{"$f":"PROPER(TEXT(Base[[#This Row],[FECHA]],\"MMMM\"))","v":"Mayo"},{"$f":"YEAR(Base[[#This Row],[FECHA]])","v":2020},"PUIOAJ-00001488","Eugenio Espejo","3 estrellas","Hostería",0,null,{"$f":"Base[[#This Row],[VENTAS POR ALOJAMIENTO DURANTE EL MES DE LA ENCUESTA]]/1000","v":0},null,null,null,null,null,null,null,0]
[43952,{"$f":"DAY(EOMONTH(Base[[#This Row],[FECHA]],0))","v":31},{"$f":"PROPER(TEXT(Base[[#This Row],[FECHA]],\"MMMM\"))","v":"Mayo"},{"$f":"YEAR(Base[[#This Row],[FECHA]])","v":2020},"PUIOAJ-00000063","La Mariscal","5 estrellas","Hotel",144,null,{"$f":"Base[[#This Row],[VENTAS POR ALOJAMIENTO DURANTE EL MES DE LA ENCUESTA]]/1000","v":0},26,41,0,41,258,0,258,0]
[43952,{"$f":"DAY(EOMONTH(Base[[#This Row],[FECHA]],0))","v":31},{"$f":"PROPER(TEXT(Base[[#This Row],[FECHA]],\"MMMM\"))","v":"Mayo"},{"$f":"YEAR(Base[[#This Row],[FECHA]])","v":2020},"PUIOAJ-00000632","Eugenio Espejo","3 estrellas","Hostería",7,null,{"$f":"Base[[#This Row],[VENTAS POR ALOJAMIENTO DURANTE EL MES DE LA ENCUESTA]]/1000","v":0},null,null,null,null,null,null,null,11]
[43952,{"$f":"DAY(EOMONTH(Base[[#This Row],[FECHA]],0))","v":31},{"$f":"PROPER(TEXT(Base[[#This Row],[FECHA]],\"MMMM\"))","v":"Mayo"},{"$f":"YEAR(Base[[#This Row],[FECHA]])","v":2020},"PUIOAJ-00001540","Tumbaco","5 estrellas","Hacienda Turística",0,null,{"$f":"Base[[#This Row],[VENTAS POR ALOJAMIENTO DURANTE EL MES DE LA ENCUESTA]]/1000","v":0},null,null,null,null,null,null,null,14]
[43952,{"$f":"DAY(EOMONTH(Base[[#This Row],[FECHA]],0))","v":31},{"$f":"PROPER(TEXT(Base[[#This Row],[FECHA]],\"MMMM\"))","v":"Mayo"},{"$f":"YEAR(Base[[#This Row],[FECHA]])","v":2020},"PUIOAJ-00000608","Tumbaco","3 estrellas","Hostal",16,null,{"$f":"Base[[#This Row],[VENTAS POR ALOJAMIENTO DURANTE EL MES DE LA ENCUESTA]]/1000","v":0},null,null,null,null,null,null,null,2]
[43952,{"$f":"DAY(EOMONTH(Base[[#This Row],[FECHA]],0))","v":31},{"$f":"PROPER(TEXT(Base[[#This Row],[FECHA]],\"MMMM\"))","v":"Mayo"},{"$f":"YEAR(Base[[#This Row],[FECHA]])","v":2020},"PUIOAJ-00000072","La Mariscal","4 estrellas","Hotel",6,null,{"$f":"Base[[#This Row],[VENTAS POR ALOJAMIENTO DURANTE EL MES DE LA ENCUESTA]]/1000","v":0},null,null,null,0,0,0,null,11]
[43952,{"$f":"DAY(EOMONTH(Base[[#This Row],[FECHA]],0))","v":31},{"$f":"PROPER(TEXT(Base[[#This Row],[FECHA]],\"MMMM\"))","v":"Mayo"},{"$f":"YEAR(Base[[#This Row],[FECHA]])","v":2020},"PUIOAJ-00000430","Tumbaco","3 estrellas","Hacienda Turística",32,null,{"$f":"Base[[#This Row],[VENTAS POR ALOJAMIENTO DURANTE EL MES DE LA ENCUESTA]]/1000","v":0},null,null,null,null,null,null,null,1]
[43983,{"$f":"DAY(EOMONTH(Base[[#This Row],[FECHA]],0))","v":30},{"$f":"PROPER(TEXT(Base[[#This Row],[FECHA]],\"MMMM\"))","v":"Junio"},{"$f":"YEAR(Base[[#This Row],[FECHA]])","v":2020},"PUIOAJ-00000021","La Mariscal","3 estrellas","Hotel",20,null,{"$f":"Base[[#This Row],[VENTAS POR ALOJAMIENTO DURANTE EL MES DE LA ENCUESTA]]/1000","v":0},0,null,null,null,null,null,null,9]
[43983,{"$f":"DAY(EOMONTH(Base[[#This Row],[FECHA]],0))","v":30},{"$f":"PROPER(TEXT(Base[[#This Row],[FECHA]],\"MMMM\"))","v":"Junio"},{"$f":"YEAR(Base[[#This Row],[FECHA]])","v":2020},"PUIOAJ-00000067","Eugenio Espejo","5 estrellas","Hotel",116,21000,{"$f":"Base[[#This Row],[VENTAS POR ALOJAMIENTO DURANTE EL MES DE LA ENCUESTA]]/1000","v":21},535,84,0,84,535,0,535,50]
[43983,{"$f":"DAY(EOMONTH(Base[[#This Row],[FECHA]],0))","v":30},{"$f":"PROPER(TEXT(Base[[#This Row],[FECHA]],\"MMMM\"))","v":"Junio"},{"$f":"YEAR(Base[[#This Row],[FECHA]])","v":2020},"PUIOAJ-00000072","La Mariscal","4 estrellas","Hotel",86,6316,{"$f":"Base[[#This Row],[VENTAS POR ALOJAMIENTO DURANTE EL MES DE LA ENCUESTA]]/1000","v":6.3159999999999998},138,147,0,147,147,0,147,50]
[43983,{"$f":"DAY(EOMONTH(Base[[#This Row],[FECHA]],0))","v":30},{"$f":"PROPER(TEXT(Base[[#This Row],[FECHA]],\"MMMM\"))","v":"Junio"},{"$f":"YEAR(Base[[#This Row],[FECHA]])","v":2020},"PUIOAJ-00000126","Eugenio Espejo","3 estrellas","Hostal",25,1200,{"$f":"Base[[#This Row],[VENTAS POR ALOJAMIENTO DURANTE EL MES DE LA ENCUESTA]]/1000","v":1.2},55,55,0,55,55,0,55,7]
[43983,{"$f":"DAY(EOMONTH(Base[[#This Row],[FECHA]],0))","v":30},{"$f":"PROPER(TEXT(Base[[#This Row],[FECHA]],\"MMMM\"))","v":"Junio"},{"$f":"YEAR(Base[[#This Row],[FECHA]])","v":2020},"PUIOAJ-00000152","Eugenio Espejo","4 estrellas","Hotel",152,null,{"$f":"Base[[#This Row],[VENTAS POR ALOJAMIENTO DURANTE EL MES DE LA ENCUESTA]]/1000","v":0},0,null,null,null,null,null,null,30]
[43983,{"$f":"DAY(EOMONTH(Base[[#This Row],[FECHA]],0))","v":30},{"$f":"PROPER(TEXT(Base[[#This Row],[FECHA]],\"MMMM\"))","v":"Junio"},{"$f":"YEAR(Base[[#This Row],[FECHA]])","v":2020},"PUIOAJ-00000163","Eugenio Espejo","4 estrellas","Hotel",29,1000,{"$f":"Base[[#This Row],[VENTAS POR ALOJAMIENTO DURANTE EL MES DE LA ENCUESTA]]/1000","v":1},15,5,0,5,16,0,16,11]
[43983,{"$f":"DAY(EOMONTH(Base[[#This Row],[FECHA]],0))","v":30},{"$f":"PROPER(TEXT(Base[[#This Row],[FECHA]],\"MMMM\"))","v":"Junio"},{"$f":"YEAR(Base[[#This Row],[FECHA]])","v":2020},"PUIOAJ-00000164","La Mariscal","4 estrellas","Hotel",100,0,{"$f":"Base[[#This Row],[VENTAS POR ALOJAMIENTO DURANTE EL MES DE LA ENCUESTA]]/1000","v":0},2,2,0,2,14,0,14,45]
[43983,{"$f":"DAY(EOMONTH(Base[[#This Row],[FECHA]],0))","v":30},{"$f":"PROPER(TEXT(Base[[#This Row],[FECHA]],\"MMMM\"))","v":"Junio"},{"$f":"YEAR(Base[[#This Row],[FECHA]])","v":2020},"PUIOAJ-00000171","La Mariscal","3 estrellas","Hotel",40,2440.35,{"$f":"Base[[#This Row],[VENTAS POR ALOJAMIENTO DURANTE EL MES DE LA ENCUESTA]]/1000","v":2.44035},34,44,1,45,81,1,82,19]
[43983,{"$f":"DAY(EOMONTH(Base[[#This Row],[FECHA]],0))","v":30},{"$f":"PROPER(TEXT(Base[[#This Row],[FECHA]],\"MMMM\"))","v":"Junio"},{"$f":"YEAR(Base[[#This Row],[FECHA]])","v":2020},"PUIOAJ-00000172","La Mariscal","3 estrellas","Hotel",20,null,{"$f":"Base[[#This Row],[VENTAS POR ALOJAMIENTO DURANTE EL MES DE LA ENCUESTA]]/1000","v":0},null,0,0,0,0,0,null,5]
[43983,{"$f":"DAY(EOMONTH(Base[[#This Row],[FECHA]],0))","v":30},{"$f":"PROPER(TEXT(Base[[#This Row],[FECHA]],\"MMMM\"))","v":"Junio"},{"$f":"YEAR(Base[[#This Row],[FECHA]])","v":2020},"PUIOAJ-00000173","Eugenio Espejo","4 estrellas","Hotel",128,11168,{"$f":"Base[[#This Row],[VENTAS POR ALOJAMIENTO DURANTE EL MES DE LA ENCUESTA]]/1000","v":11.167999999999999},189,189,0,189,189,0,189,42]
[43983,{"$f":"DAY(EOMONTH(Base[[#This Row],[FECHA]],0))","v":30},{"$f":"PROPER(TEXT(Base[[#This Row],[FECHA]],\"MMMM\"))","v":"Junio"},{"$f":"YEAR(Base[[#This Row],[FECHA]])","v":2020},"PUIOAJ-00000181","Eugenio Espejo","4 estrellas","Hotel",90,7000,{"$f":"Base[[#This Row],[VENTAS POR ALOJAMIENTO DURANTE EL MES DE LA ENCUESTA]]/1000","v":7},112,112,0,112,112,0,112,40]
[43983,{"$f":"DAY(EOMONTH(Base[[#This Row],[FECHA]],0))","v":30},{"$f":"PROPER(TEXT(Base[[#This Row],[FECHA]],\"MMMM\"))","v":"Junio"},{"$f":"YEAR(Base[[#This Row],[FECHA]])","v":2020},"PUIOAJ-00000374","Los Chillos","4 estrellas","Hostería",10,416.9,{"$f":"Base[[#This Row],[VENTAS POR ALOJAMIENTO DURANTE EL MES DE LA ENCUESTA]]/1000","v":0.41689999999999999},4,6,0,6,11,0,11,2]
[43983,{"$f":"DAY(EOMONTH(Base[[#This Row],[FECHA]],0))","v":30},{"$f":"PROPER(TEXT(Base[[#This Row],[FECHA]],\"MMMM\"))","v":"Junio"},{"$f":"YEAR(Base[[#This Row],[FECHA]])","v":2020},"PUIOAJ-00000430","Tumbaco","3 estrellas","Hacienda Turística",20,null,{"$f":"Base[[#This Row],[VENTAS POR ALOJAMIENTO DURANTE EL MES DE LA ENCUESTA]]/1000","v":0},null,0,0,null,0,0,null,1]
[43983,{"$f":"DAY(EOMONTH(Base[[#This Row],[FECHA]],0))","v":30},{"$f":"PROPER(TEXT(Base[[#This Row],[FECHA]],\"MMMM\"))","v":"Junio"},{"$f":"YEAR(Base[[#This Row],[FECHA]])","v":2020},"PUIOAJ-00000520","La Delicia","3 estrellas","Hostería",10,150,{"$f":"Base[[#This Row],[VENTAS POR ALOJAMIENTO DURANTE EL MES DE LA ENCUESTA]]/1000","v":0.15},5,5,0,5,7,0,7,6]
[43983,{"$f":"DAY(EOMONTH(Base[[#This Row],[FECHA]],0))","v":30},{"$f":"PROPER(TEXT(Base[[#This Row],[FECHA]],\"MMMM\"))","v":"Junio"},{"$f":"YEAR(Base[[#This Row],[FECHA]])","v":2020},"PUIOAJ-00001342","Manuela Sáenz","3 estrellas","Hotel",6,null,{"$f":"Base[[#This Row],[VENTAS POR ALOJAMIENTO DURANTE EL MES DE LA ENCUESTA]]/1000","v":0},null,null,null,null,null,null,null,5]
[43983,{"$f":"DAY(EOMONTH(Base[[#This Row],[FECHA]],0))","v":30},{"$f":"PROPER(TEXT(Base[[#This Row],[FECHA]],\"MMMM\"))","v":"Junio"},{"$f":"YEAR(Base[[#This Row],[FECHA]])","v":2020},"PUIOAJ-00001482","La Mariscal","3 estrellas","Hotel",0,null,{"$f":"Base[[#This Row],[VENTAS POR ALOJAMIENTO DURANTE EL MES DE LA ENCUESTA]]/1000","v":0},null,0,0,0,0,0,null,12]
[43983,{"$f":"DAY(EOMONTH(Base[[#This Row],[FECHA]],0))","v":30},{"$f":"PROPER(TEXT(Base[[#This Row],[FECHA]],\"MMMM\"))","v":"Junio"},{"$f":"YEAR(Base[[#This Row],[FECHA]])","v":2020},"PUIOAJ-00001636","Tumbaco","3 estrellas","Hotel",18,7800,{"$f":"Base[[#This Row],[VENTAS POR ALOJAMIENTO DURANTE EL MES DE LA ENCUESTA]]/1000","v":7.8},176,4,0,4,4,0,4,6]
[43983,{"$f":"DAY(EOMONTH(Base[[#This Row],[FECHA]],0))","v":30},{"$f":"PROPER(TEXT(Base[[#This Row],[FECHA]],\"MMMM\"))","v":"Junio"},{"$f":"YEAR(Base[[#This Row],[FECHA]])","v":2020},"PUIOAJ-00004601","Eugenio Espejo","3 estrellas","Hotel",12,3005,{"$f":"Base[[#This Row],[VENTAS POR ALOJAMIENTO DURANTE EL MES DE LA ENCUESTA]]/1000","v":3.0049999999999999},12,11,0,11,100,0,100,6]
[43983,{"$f":"DAY(EOMONTH(Base[[#This Row],[FECHA]],0))","v":30},{"$f":"PROPER(TEXT(Base[[#This Row],[FECHA]],\"MMMM\"))","v":"Junio"},{"$f":"YEAR(Base[[#This Row],[FECHA]])","v":2020},"PUIOAJ-00000602","Tumbaco","5 estrellas","Hotel",150,24758,{"$f":"Base[[#This Row],[VENTAS POR ALOJAMIENTO DURANTE EL MES DE LA ENCUESTA]]/1000","v":24.757999999999999},270,120,0,120,270,0,270]
[44013,{"$f":"DAY(EOMONTH(Base[[#This Row],[FECHA]],0))","v":31},{"$f":"PROPER(TEXT(Base[[#This Row],[FECHA]],\"MMMM\"))","v":"Julio"},{"$f":"YEAR(Base[[#This Row],[FECHA]])","v":2020},"PUIOAJ-00000021","La Mariscal","3 estrellas","Hotel",40,null,{"$f":"Base[[#This Row],[VENTAS POR ALOJAMIENTO DURANTE EL MES DE LA ENCUESTA]]/1000","v":0},null,null,null,null,null,null,null,7]
[44013,{"$f":"DAY(EOMONTH(Base[[#This Row],[FECHA]],0))","v":31},{"$f":"PROPER(TEXT(Base[[#This Row],[FECHA]],\"MMMM\"))","v":"Julio"},{"$f":"YEAR(Base[[#This Row],[FECHA]])","v":2020},"PUIOAJ-00000024","Manuela Sáenz","4 estrellas","Hotel",18,null,{"$f":"Base[[#This Row],[VENTAS POR ALOJAMIENTO DURANTE EL MES DE LA ENCUESTA]]/1000","v":0},null,null,null,null,null,null,null,4]
[44013,{"$f":"DAY(EOMONTH(Base[[#This Row],[FECHA]],0))","v":31},{"$f":"PROPER(TEXT(Base[[#This Row],[FECHA]],\"MMMM\"))","v":"Julio"},{"$f":"YEAR(Base[[#This Row],[FECHA]])","v":2020},"PUIOAJ-00000233","Eugenio Espejo","4 estrellas","Hotel",24,null,{"$f":"Base[[#This Row],[VENTAS POR ALOJAMIENTO DURANTE EL MES DE LA ENCUESTA]]/1000","v":0}]
[44013,{"$f":"DAY(EOMONTH(Base[[#This Row],[FECHA]],0))","v":31},{"$f":"PROPER(TEXT(Base[[#This Row],[FECHA]],\"MMMM\"))","v":"Julio"},{"$f":"YEAR(Base[[#This Row],[FECHA]])","v":2020},"PUIOAJ-00000072","La Mariscal","4 estrellas","Hotel",86,3955,{"$f":"Base[[#This Row],[VENTAS POR ALOJAMIENTO DURANTE EL MES DE LA ENCUESTA]]/1000","v":3.9550000000000001},67,76,7,83,76,7,83,51]
[44013,{"$f":"DAY(EOMONTH(Base[[#This Row],[FECHA]],0))","v":31},{"$f":"PROPER(TEXT(Base[[#This Row],[FECHA]],\"MMMM\"))","v":"Julio"},{"$f":"YEAR(Base[[#This Row],[FECHA]])","v":2020},"PUIOAJ-00000073","Eugenio Espejo","3 estrellas","Hotel",60,2664.5,{"$f":"Base[[#This Row],[VENTAS POR ALOJAMIENTO DURANTE EL MES DE LA ENCUESTA]]/1000","v":2.6644999999999999},78,78,null,78,78,null,78,13]
[44013,{"$f":"DAY(EOMONTH(Base[[#This Row],[FECHA]],0))","v":31},{"$f":"PROPER(TEXT(Base[[#This Row],[FECHA]],\"MMMM\"))","v":"Julio"},{"$f":"YEAR(Base[[#This Row],[FECHA]])","v":2020},"PUIOAJ-00000111","La Delicia","3 estrellas","Lodge",12,null,{"$f":"Base[[#This Row],[VENTAS POR ALOJAMIENTO DURANTE EL MES DE LA ENCUESTA]]/1000","v":0},null,null,null,null,null,null,null,6]
[44013,{"$f":"DAY(EOMONTH(Base[[#This Row],[FECHA]],0))","v":31},{"$f":"PROPER(TEXT(Base[[#This Row],[FECHA]],\"MMMM\"))","v":"Julio"},{"$f":"YEAR(Base[[#This Row],[FECHA]])","v":2020},"PUIOAJ-00000112","Eugenio Espejo","3 estrellas","Hostería",20,500,{"$f":"Base[[#This Row],[VENTAS POR ALOJAMIENTO DURANTE EL MES DE LA ENCUESTA]]/1000","v":0.5},2,6,null,6,6,null,6,4]
[44013,{"$f":"DAY(EOMONTH(Base[[#This Row],[FECHA]],0))","v":31},{"$f":"PROPER(TEXT(Base[[#This Row],[FECHA]],\"MMMM\"))","v":"Julio"},{"$f":"YEAR(Base[[#This Row],[FECHA]])","v":2020},"PUIOAJ-00000152","Eugenio Espejo","4 estrellas","Hotel",142,null,{"$f":"Base[[#This Row],[VENTAS POR ALOJAMIENTO DURANTE EL MES DE LA ENCUESTA]]/1000","v":0},null,null,null,null,null,null,null,22]
[44013,{"$f":"DAY(EOMONTH(Base[[#This Row],[FECHA]],0))","v":31},{"$f":"PROPER(TEXT(Base[[#This Row],[FECHA]],\"MMMM\"))","v":"Julio"},{"$f":"YEAR(Base[[#This Row],[FECHA]])","v":2020},"PUIOAJ-00000171","La Mariscal","3 estrellas","Hotel",20,5348.15,{"$f":"Base[[#This Row],[VENTAS POR ALOJAMIENTO DURANTE EL MES DE LA ENCUESTA]]/1000","v":5.3481499999999995},46,59,null,59,148,null,148,18]
[44013,{"$f":"DAY(EOMONTH(Base[[#This Row],[FECHA]],0))","v":31},{"$f":"PROPER(TEXT(Base[[#This Row],[FECHA]],\"MMMM\"))","v":"Julio"},{"$f":"YEAR(Base[[#This Row],[FECHA]])","v":2020},"PUIOAJ-00000172","La Mariscal","3 estrellas","Hotel",20,null,{"$f":"Base[[#This Row],[VENTAS POR ALOJAMIENTO DURANTE EL MES DE LA ENCUESTA]]/1000","v":0},null,null,null,null,null,null,null,6]
[44013,{"$f":"DAY(EOMONTH(Base[[#This Row],[FECHA]],0))","v":31},{"$f":"PROPER(TEXT(Base[[#This Row],[FECHA]],\"MMMM\"))","v":"Julio"},{"$f":"YEAR(Base[[#This Row],[FECHA]])","v":2020},"PUIOAJ-00000180","Eugenio Espejo","3 estrellas","Hostal",44,910,{"$f":"Base[[#This Row],[VENTAS POR ALOJAMIENTO DURANTE EL MES DE LA ENCUESTA]]/1000","v":0.91},44,38,6,44,54,12,66,2]
[44013,{"$f":"DAY(EOMONTH(Base[[#This Row],[FECHA]],0))","v":31},{"$f":"PROPER(TEXT(Base[[#This Row],[FECHA]],\"MMMM\"))","v":"Julio"},{"$f":"YEAR(Base[[#This Row],[FECHA]])","v":2020},"PUIOAJ-00000281","Eugenio Espejo","3 estrellas","Hotel",10,1473.37,{"$f":"Base[[#This Row],[VENTAS POR ALOJAMIENTO DURANTE EL MES DE LA ENCUESTA]]/1000","v":1.4733699999999998},18,19,null,19,19,null,19,1]
[44013,{"$f":"DAY(EOMONTH(Base[[#This Row],[FECHA]],0))","v":31},{"$f":"PROPER(TEXT(Base[[#This Row],[FECHA]],\"MMMM\"))","v":"Julio"},{"$f":"YEAR(Base[[#This Row],[FECHA]])","v":2020},"PUIOAJ-00000350","La Mariscal","3 estrellas","Hotel",10,null,{"$f":"Base[[#This Row],[VENTAS POR ALOJAMIENTO DURANTE EL MES DE LA ENCUESTA]]/1000","v":0},null,null,null,null,null,null,null,3]
[44013,{"$f":"DAY(EOMONTH(Base[[#This Row],[FECHA]],0))","v":31},{"$f":"PROPER(TEXT(Base[[#This Row],[FECHA]],\"MMMM\"))","v":"Julio"},{"$f":"YEAR(Base[[#This Row],[FECHA]])","v":2020},"PUIOAJ-00000392","Manuela Sáenz","3 estrellas","Hotel",10,null,{"$f":"Base[[#This Row],[VENTAS POR ALOJAMIENTO DURANTE EL MES DE LA ENCUESTA]]/1000","v":0}]
[44013,{"$f":"DAY(EOMONTH(Base[[#This Row],[FECHA]],0))","v":31},{"$f":"PROPER(TEXT(Base[[#This Row],[FECHA]],\"MMMM\"))","v":"Julio"},{"$f":"YEAR(Base[[#This Row],[FECHA]])","v":2020},"PUIOAJ-00000423","Tumbaco","5 estrellas","Hostería",7,394.04,{"$f":"Base[[#This Row],[VENTAS POR ALOJAMIENTO DURANTE EL MES DE LA ENCUESTA]]/1000","v":0.39404},4,null,1,1,null,2,2,1]
[44013,{"$f":"DAY(EOMONTH(Base[[#This Row],[FECHA]],0))","v":31},{"$f":"PROPER(TEXT(Base[[#This Row],[FECHA]],\"MMMM\"))","v":"Julio"},{"$f":"YEAR(Base[[#This Row],[FECHA]])","v":2020},"PUIOAJ-00000430","Tumbaco","3 estrellas","Hacienda Turística",20,null,{"$f":"Base[[#This Row],[VENTAS POR ALOJAMIENTO DURANTE EL MES DE LA ENCUESTA]]/1000","v":0}]
[44013,{"$f":"DAY(EOMONTH(Base[[#This Row],[FECHA]],0))","v":31},{"$f":"PROPER(TEXT(Base[[#This Row],[FECHA]],\"MMMM\"))","v":"Julio"},{"$f":"YEAR(Base[[#This Row],[FECHA]])","v":2020},"PUIOAJ-00000435","Manuela Sáenz","3 estrellas","Hostal",6,null,{"$f":"Base[[#This Row],[VENTAS POR ALOJAMIENTO DURANTE EL MES DE LA ENCUESTA]]/1000","v":0},null,null,null,null,null,null,null,2]
[44013,{"$f":"DAY(EOMONTH(Base[[#This Row],[FECHA]],0))","v":31},{"$f":"PROPER(TEXT(Base[[#This Row],[FECHA]],\"MMMM\"))","v":"Julio"},{"$f":"YEAR(Base[[#This Row],[FECHA]])","v":2020},"PUIOAJ-00000449","Eugenio Espejo","3 estrellas","Hostal",10,null,{"$f":"Base[[#This Row],[VENTAS POR ALOJAMIENTO DURANTE EL MES DE LA ENCUESTA]]/1000","v":0},null,null,null,null,null,null,null,1]
[44013,{"$f":"DAY(EOMONTH(Base[[#This Row],[FECHA]],0))","v":31},{"$f":"PROPER(TEXT(Base[[#This Row],[FECHA]],\"MMMM\"))","v":"Julio"},{"$f":"YEAR(Base[[#This Row],[FECHA]])","v":2020},"PUIOAJ-00000520","La Delicia","3 estrellas","Hostería",10,81,{"$f":"Base[[#This Row],[VENTAS POR ALOJAMIENTO DURANTE EL MES DE LA ENCUESTA]]/1000","v":8.1000000000000003E-2},2,2,null,2,2,null,2,6]
[44013,{"$f":"DAY(EOMONTH(Base[[#This Row],[FECHA]],0))","v":31},{"$f":"PROPER(TEXT(Base[[#This Row],[FECHA]],\"MMMM\"))","v":"Julio"},{"$f":"YEAR(Base[[#This Row],[FECHA]])","v":2020},"PUIOAJ-00000622","Manuela Sáenz","4 estrellas","Hotel",12,336,{"$f":"Base[[#This Row],[VENTAS POR ALOJAMIENTO DURANTE EL MES DE LA ENCUESTA]]/1000","v":0.33600000000000002},3,3,null,3,3,null,3]
[44013,{"$f":"DAY(EOMONTH(Base[[#This Row],[FECHA]],0))","v":31},{"$f":"PROPER(TEXT(Base[[#This Row],[FECHA]],\"MMMM\"))","v":"Julio"},{"$f":"YEAR(Base[[#This Row],[FECHA]])","v":2020},"PUIOAJ-00001342","Manuela Sáenz","3 estrellas","Hotel",6,null,{"$f":"Base[[#This Row],[VENTAS POR ALOJAMIENTO DURANTE EL MES DE LA ENCUESTA]]/1000","v":0},null,null,null,null,null,null,null,5]
[44013,{"$f":"DAY(EOMONTH(Base[[#This Row],[FECHA]],0))","v":31},{"$f":"PROPER(TEXT(Base[[#This Row],[FECHA]],\"MMMM\"))","v":"Julio"},{"$f":"YEAR(Base[[#This Row],[FECHA]])","v":2020},"PUIOAJ-00001392","Manuela Sáenz","4 estrellas","Hotel",17,null,{"$f":"Base[[#This Row],[VENTAS POR ALOJAMIENTO DURANTE EL MES DE LA ENCUESTA]]/1000","v":0},null,null,null,null,null,null,null,1]
[44013,{"$f":"DAY(EOMONTH(Base[[#This Row],[FECHA]],0))","v":31},{"$f":"PROPER(TEXT(Base[[#This Row],[FECHA]],\"MMMM\"))","v":"Julio"},{"$f":"YEAR(Base[[#This Row],[FECHA]])","v":2020},"PUIOAJ-00001445","Tumbaco","5 estrellas","Hotel",94,9800,{"$f":"Base[[#This Row],[VENTAS POR ALOJAMIENTO DURANTE EL MES DE LA ENCUESTA]]/1000","v":9.8000000000000007},121,121,null,121,121,null,121,20]
[44013,{"$f":"DAY(EOMONTH(Base[[#This Row],[FECHA]],0))","v":31},{"$f":"PROPER(TEXT(Base[[#This Row],[FECHA]],\"MMMM\"))","v":"Julio"},{"$f":"YEAR(Base[[#This Row],[FECHA]])","v":2020},"PUIOAJ-00001468","La Mariscal","3 estrellas","Hostal",22,null,{"$f":"Base[[#This Row],[VENTAS POR ALOJAMIENTO DURANTE EL MES DE LA ENCUESTA]]/1000","v":0},null,null,null,null,null,null,null,2]
[44013,{"$f":"DAY(EOMONTH(Base[[#This Row],[FECHA]],0))","v":31},{"$f":"PROPER(TEXT(Base[[#This Row],[FECHA]],\"MMMM\"))","v":"Julio"},{"$f":"YEAR(Base[[#This Row],[FECHA]])","v":2020},"PUIOAJ-00001482","La Mariscal","3 estrellas","Hotel",14,null,{"$f":"Base[[#This Row],[VENTAS POR ALOJAMIENTO DURANTE EL MES DE LA ENCUESTA]]/1000","v":0},null,null,null,null,null,null,null,10]
[44013,{"$f":"DAY(EOMONTH(Base[[#This Row],[FECHA]],0))","v":31},{"$f":"PROPER(TEXT(Base[[#This Row],[FECHA]],\"MMMM\"))","v":"Julio"},{"$f":"YEAR(Base[[#This Row],[FECHA]])","v":2020},"PUIOAJ-00001516","Los Chillos","3 estrellas","Hostería",13,null,{"$f":"Base[[#This Row],[VENTAS POR ALOJAMIENTO DURANTE EL MES DE LA ENCUESTA]]/1000","v":0},2,1,1,2,1,1,2,7]
[44013,{"$f":"DAY(EOMONTH(Base[[#This Row],[FECHA]],0))","v":31},{"$f":"PROPER(TEXT(Base[[#This Row],[FECHA]],\"MMMM\"))","v":"Julio"},{"$f":"YEAR(Base[[#This Row],[FECHA]])","v":2020},"PUIOAJ-00001639","La Mariscal","3 estrellas","Hotel",17,null,{"$f":"Base[[#This Row],[VENTAS POR ALOJAMIENTO DURANTE EL MES DE LA ENCUESTA]]/1000","v":0}]
[44013,{"$f":"DAY(EOMONTH(Base[[#This Row],[FECHA]],0))","v":31},{"$f":"PROPER(TEXT(Base[[#This Row],[FECHA]],\"MMMM\"))","v":"Julio"},{"$f":"YEAR(Base[[#This Row],[FECHA]])","v":2020},"PUIOAJ-00004601","Eugenio Espejo","3 estrellas","Hotel",12,2315,{"$f":"Base[[#This Row],[VENTAS POR ALOJAMIENTO DURANTE EL MES DE LA ENCUESTA]]/1000","v":2.3149999999999999},20,15,5,20,15,5,20,6]
[44044,{"$f":"DAY(EOMONTH(Base[[#This Row],[FECHA]],0))","v":31},{"$f":"PROPER(TEXT(Base[[#This Row],[FECHA]],\"MMMM\"))","v":"Agosto"},{"$f":"YEAR(Base[[#This Row],[FECHA]])","v":2020},"PUIOAJ-00004601","Eugenio Espejo","3 estrellas","Hotel",12,3748,{"$f":"Base[[#This Row],[VENTAS POR ALOJAMIENTO DURANTE EL MES DE LA ENCUESTA]]/1000","v":3.7480000000000002},110,30,10,40,60,50,110,6]
[44044,{"$f":"DAY(EOMONTH(Base[[#This Row],[FECHA]],0))","v":31},{"$f":"PROPER(TEXT(Base[[#This Row],[FECHA]],\"MMMM\"))","v":"Agosto"},{"$f":"YEAR(Base[[#This Row],[FECHA]])","v":2020},"PUIOAJ-00000622","Manuela Sáenz","4 estrellas","Hotel",12,null,{"$f":"Base[[#This Row],[VENTAS POR ALOJAMIENTO DURANTE EL MES DE LA ENCUESTA]]/1000","v":0},null,null,null,null,null,null,null,5]
[44044,{"$f":"DAY(EOMONTH(Base[[#This Row],[FECHA]],0))","v":31},{"$f":"PROPER(TEXT(Base[[#This Row],[FECHA]],\"MMMM\"))","v":"Agosto"},{"$f":"YEAR(Base[[#This Row],[FECHA]])","v":2020},"PUIOAJ-00000435","Manuela Sáenz","3 estrellas","Hostal",6,null,{"$f":"Base[[#This Row],[VENTAS POR ALOJAMIENTO DURANTE EL MES DE LA ENCUESTA]]/1000","v":0}]
[44044,{"$f":"DAY(EOMONTH(Base[[#This Row],[FECHA]],0))","v":31},{"$f":"PROPER(TEXT(Base[[#This Row],[FECHA]],\"MMMM\"))","v":"Agosto"},{"$f":"YEAR(Base[[#This Row],[FECHA]])","v":2020},"PUIOAJ-00000350","La Mariscal","3 estrellas","Hotel",10,null,{"$f":"Base[[#This Row],[VENTAS POR ALOJAMIENTO DURANTE EL MES DE LA ENCUESTA]]/1000","v":0},null,null,null,null,null,null,null,1]
[44044,{"$f":"DAY(EOMONTH(Base[[#This Row],[FECHA]],0))","v":31},{"$f":"PROPER(TEXT(Base[[#This Row],[FECHA]],\"MMMM\"))","v":"Agosto"},{"$f":"YEAR(Base[[#This Row],[FECHA]])","v":2020},"PUIOAJ-00000039","La Mariscal","3 estrellas","Hotel",20,null,{"$f":"Base[[#This Row],[VENTAS POR ALOJAMIENTO DURANTE EL MES DE LA ENCUESTA]]/1000","v":0},null,null,null,null,null,null,null,2]
[44044,{"$f":"DAY(EOMONTH(Base[[#This Row],[FECHA]],0))","v":31},{"$f":"PROPER(TEXT(Base[[#This Row],[FECHA]],\"MMMM\"))","v":"Agosto"},{"$f":"YEAR(Base[[#This Row],[FECHA]])","v":2020},"PUIOAJ-00001445","Tumbaco","5 estrellas","Hotel",94,11921.89,{"$f":"Base[[#This Row],[VENTAS POR ALOJAMIENTO DURANTE EL MES DE LA ENCUESTA]]/1000","v":11.921889999999999},126,126,null,126,126,null,126,20]
[44044,{"$f":"DAY(EOMONTH(Base[[#This Row],[FECHA]],0))","v":31},{"$f":"PROPER(TEXT(Base[[#This Row],[FECHA]],\"MMMM\"))","v":"Agosto"},{"$f":"YEAR(Base[[#This Row],[FECHA]])","v":2020},"PUIOAJ-00000520","La Delicia","3 estrellas","Hostería",9,28,{"$f":"Base[[#This Row],[VENTAS POR ALOJAMIENTO DURANTE EL MES DE LA ENCUESTA]]/1000","v":2.8000000000000001E-2},1,1,null,1,1,null,1,6]
[44044,{"$f":"DAY(EOMONTH(Base[[#This Row],[FECHA]],0))","v":31},{"$f":"PROPER(TEXT(Base[[#This Row],[FECHA]],\"MMMM\"))","v":"Agosto"},{"$f":"YEAR(Base[[#This Row],[FECHA]])","v":2020},"PUIOAJ-00000381","La Delicia","3 estrellas","Hostería",8,null,{"$f":"Base[[#This Row],[VENTAS POR ALOJAMIENTO DURANTE EL MES DE LA ENCUESTA]]/1000","v":0},null,null,null,null,null,null,null,2]
[44044,{"$f":"DAY(EOMONTH(Base[[#This Row],[FECHA]],0))","v":31},{"$f":"PROPER(TEXT(Base[[#This Row],[FECHA]],\"MMMM\"))","v":"Agosto"},{"$f":"YEAR(Base[[#This Row],[FECHA]])","v":2020},"PUIOAJ-00000632","Eugenio Espejo","3 estrellas","Hostería",7,1125,{"$f":"Base[[#This Row],[VENTAS POR ALOJAMIENTO DURANTE EL MES DE LA ENCUESTA]]/1000","v":1.125},10,14,null,14,14,null,14,5]
[44044,{"$f":"DAY(EOMONTH(Base[[#This Row],[FECHA]],0))","v":31},{"$f":"PROPER(TEXT(Base[[#This Row],[FECHA]],\"MMMM\"))","v":"Agosto"},{"$f":"YEAR(Base[[#This Row],[FECHA]])","v":2020},"PUIOAJ-00000171","La Mariscal","3 estrellas","Hotel",20,6344.83,{"$f":"Base[[#This Row],[VENTAS POR ALOJAMIENTO DURANTE EL MES DE LA ENCUESTA]]/1000","v":6.34483},108,154,1,155,188,10,198,18]
[44044,{"$f":"DAY(EOMONTH(Base[[#This Row],[FECHA]],0))","v":31},{"$f":"PROPER(TEXT(Base[[#This Row],[FECHA]],\"MMMM\"))","v":"Agosto"},{"$f":"YEAR(Base[[#This Row],[FECHA]])","v":2020},"PUIOAJ-00000021","La Mariscal","3 estrellas","Hotel",41,1200,{"$f":"Base[[#This Row],[VENTAS POR ALOJAMIENTO DURANTE EL MES DE LA ENCUESTA]]/1000","v":1.2},39,23,null,23,39,null,39,5]
[44044,{"$f":"DAY(EOMONTH(Base[[#This Row],[FECHA]],0))","v":31},{"$f":"PROPER(TEXT(Base[[#This Row],[FECHA]],\"MMMM\"))","v":"Agosto"},{"$f":"YEAR(Base[[#This Row],[FECHA]])","v":2020},"PUIOAJ-00001468","La Mariscal","3 estrellas","Hostal",22,68.790000000000006,{"$f":"Base[[#This Row],[VENTAS POR ALOJAMIENTO DURANTE EL MES DE LA ENCUESTA]]/1000","v":6.8790000000000004E-2},1,1,null,1,1,null,1,2]
[44044,{"$f":"DAY(EOMONTH(Base[[#This Row],[FECHA]],0))","v":31},{"$f":"PROPER(TEXT(Base[[#This Row],[FECHA]],\"MMMM\"))","v":"Agosto"},{"$f":"YEAR(Base[[#This Row],[FECHA]])","v":2020},"PUIOAJ-00000070","Eugenio Espejo","5 estrellas","Hotel",128,115110,{"$f":"Base[[#This Row],[VENTAS POR ALOJAMIENTO DURANTE EL MES DE LA ENCUESTA]]/1000","v":115.11},1088,341,938,1279,341,938,1279,69]
[44044,{"$f":"DAY(EOMONTH(Base[[#This Row],[FECHA]],0))","v":31},{"$f":"PROPER(TEXT(Base[[#This Row],[FECHA]],\"MMMM\"))","v":"Agosto"},{"$f":"YEAR(Base[[#This Row],[FECHA]])","v":2020},"PUIOAJ-00000152","Eugenio Espejo","4 estrellas","Hotel",142,null,{"$f":"Base[[#This Row],[VENTAS POR ALOJAMIENTO DURANTE EL MES DE LA ENCUESTA]]/1000","v":0},null,null,null,null,null,null,null,20]
[44044,{"$f":"DAY(EOMONTH(Base[[#This Row],[FECHA]],0))","v":31},{"$f":"PROPER(TEXT(Base[[#This Row],[FECHA]],\"MMMM\"))","v":"Agosto"},{"$f":"YEAR(Base[[#This Row],[FECHA]])","v":2020},"PUIOAJ-00001639","La Mariscal","3 estrellas","Hotel",17,1356,{"$f":"Base[[#This Row],[VENTAS POR ALOJAMIENTO DURANTE EL MES DE LA ENCUESTA]]/1000","v":1.3560000000000001},12,8,null,8,24,null,24]
[44044,{"$f":"DAY(EOMONTH(Base[[#This Row],[FECHA]],0))","v":31},{"$f":"PROPER(TEXT(Base[[#This Row],[FECHA]],\"MMMM\"))","v":"Agosto"},{"$f":"YEAR(Base[[#This Row],[FECHA]])","v":2020},"PUIOAJ-00000073","Eugenio Espejo","3 estrellas","Hotel",60,2868.47,{"$f":"Base[[#This Row],[VENTAS POR ALOJAMIENTO DURANTE EL MES DE LA ENCUESTA]]/1000","v":2.8684699999999999},94,94,null,94,94,null,94,11]
[44044,{"$f":"DAY(EOMONTH(Base[[#This Row],[FECHA]],0))","v":31},{"$f":"PROPER(TEXT(Base[[#This Row],[FECHA]],\"MMMM\"))","v":"Agosto"},{"$f":"YEAR(Base[[#This Row],[FECHA]])","v":2020},"PUIOAJ-00000281","Eugenio Espejo","3 estrellas","Hotel",10,3000,{"$f":"Base[[#This Row],[VENTAS POR ALOJAMIENTO DURANTE EL MES DE LA ENCUESTA]]/1000","v":3},50,50,null,50,50,null,50,2]
[44044,{"$f":"DAY(EOMONTH(Base[[#This Row],[FECHA]],0))","v":31},{"$f":"PROPER(TEXT(Base[[#This Row],[FECHA]],\"MMMM\"))","v":"Agosto"},{"$f":"YEAR(Base[[#This Row],[FECHA]])","v":2020},"PUIOAJ-00001488","Eugenio Espejo","3 estrellas","Hostería",5,null,{"$f":"Base[[#This Row],[VENTAS POR ALOJAMIENTO DURANTE EL MES DE LA ENCUESTA]]/1000","v":0},null,null,null,null,null,null,null,3]
[44044,{"$f":"DAY(EOMONTH(Base[[#This Row],[FECHA]],0))","v":31},{"$f":"PROPER(TEXT(Base[[#This Row],[FECHA]],\"MMMM\"))","v":"Agosto"},{"$f":"YEAR(Base[[#This Row],[FECHA]])","v":2020},"PUIOAJ-00000256","Manuela Sáenz","4 estrellas","Hotel",32,null,{"$f":"Base[[#This Row],[VENTAS POR ALOJAMIENTO DURANTE EL MES DE LA ENCUESTA]]/1000","v":0}]
[44044,{"$f":"DAY(EOMONTH(Base[[#This Row],[FECHA]],0))","v":31},{"$f":"PROPER(TEXT(Base[[#This Row],[FECHA]],\"MMMM\"))","v":"Agosto"},{"$f":"YEAR(Base[[#This Row],[FECHA]])","v":2020},"PUIOAJ-00000112","Eugenio Espejo","3 estrellas","Hostería",22,1000,{"$f":"Base[[#This Row],[VENTAS POR ALOJAMIENTO DURANTE EL MES DE LA ENCUESTA]]/1000","v":1},12,12,null,12,12,null,12,4]
[44044,{"$f":"DAY(EOMONTH(Base[[#This Row],[FECHA]],0))","v":31},{"$f":"PROPER(TEXT(Base[[#This Row],[FECHA]],\"MMMM\"))","v":"Agosto"},{"$f":"YEAR(Base[[#This Row],[FECHA]])","v":2020},"PUIOAJ-00000163","Eugenio Espejo","4 estrellas","Hotel",28,1274,{"$f":"Base[[#This Row],[VENTAS POR ALOJAMIENTO DURANTE EL MES DE LA ENCUESTA]]/1000","v":1.274},26,10,16,26,10,16,26,10]
[44044,{"$f":"DAY(EOMONTH(Base[[#This Row],[FECHA]],0))","v":31},{"$f":"PROPER(TEXT(Base[[#This Row],[FECHA]],\"MMMM\"))","v":"Agosto"},{"$f":"YEAR(Base[[#This Row],[FECHA]])","v":2020},"PUIOAJ-00000111","La Delicia","3 estrellas","Lodge",10,1579.87,{"$f":"Base[[#This Row],[VENTAS POR ALOJAMIENTO DURANTE EL MES DE LA ENCUESTA]]/1000","v":1.5798699999999999},3,8,null,8,8,null,8,6]
[44044,{"$f":"DAY(EOMONTH(Base[[#This Row],[FECHA]],0))","v":31},{"$f":"PROPER(TEXT(Base[[#This Row],[FECHA]],\"MMMM\"))","v":"Agosto"},{"$f":"YEAR(Base[[#This Row],[FECHA]])","v":2020},"PUIOAJ-00001342","Manuela Sáenz","3 estrellas","Hotel",6,null,{"$f":"Base[[#This Row],[VENTAS POR ALOJAMIENTO DURANTE EL MES DE LA ENCUESTA]]/1000","v":0},null,null,null,null,null,null,null,5]
[44044,{"$f":"DAY(EOMONTH(Base[[#This Row],[FECHA]],0))","v":31},{"$f":"PROPER(TEXT(Base[[#This Row],[FECHA]],\"MMMM\"))","v":"Agosto"},{"$f":"YEAR(Base[[#This Row],[FECHA]])","v":2020},"PUIOAJ-00000430","Tumbaco","3 estrellas","Hacienda Turística",20,null,{"$f":"Base[[#This Row],[VENTAS POR ALOJAMIENTO DURANTE EL MES DE LA ENCUESTA]]/1000","v":0},null,null,null,null,null,null,null,1]
[44075,{"$f":"DAY(EOMONTH(Base[[#This Row],[FECHA]],0))","v":30},{"$f":"PROPER(TEXT(Base[[#This Row],[FECHA]],\"MMMM\"))","v":"Septiembre"},{"$f":"YEAR(Base[[#This Row],[FECHA]])","v":2020},"PUIOAJ-00000171","La Mariscal","3 estrellas","Hotel",20,210,{"$f":"Base[[#This Row],[VENTAS POR ALOJAMIENTO DURANTE EL MES DE LA ENCUESTA]]/1000","v":0.21},7,0,1,1,0,7,7,5]
[44075,{"$f":"DAY(EOMONTH(Base[[#This Row],[FECHA]],0))","v":30},{"$f":"PROPER(TEXT(Base[[#This Row],[FECHA]],\"MMMM\"))","v":"Septiembre"},{"$f":"YEAR(Base[[#This Row],[FECHA]])","v":2020},"PUIOAJ-00000350","Manuela Sáenz","3 estrellas","Hotel",15,null,{"$f":"Base[[#This Row],[VENTAS POR ALOJAMIENTO DURANTE EL MES DE LA ENCUESTA]]/1000","v":0},null,null,null,0,null,null,0,1]
[44075,{"$f":"DAY(EOMONTH(Base[[#This Row],[FECHA]],0))","v":30},{"$f":"PROPER(TEXT(Base[[#This Row],[FECHA]],\"MMMM\"))","v":"Septiembre"},{"$f":"YEAR(Base[[#This Row],[FECHA]])","v":2020},"PUIOAJ-00000039","Manuela Sáenz","3 estrellas","Hostal",6,null,{"$f":"Base[[#This Row],[VENTAS POR ALOJAMIENTO DURANTE EL MES DE LA ENCUESTA]]/1000","v":0},null,null,null,0,null,null,0,2]
[44075,{"$f":"DAY(EOMONTH(Base[[#This Row],[FECHA]],0))","v":30},{"$f":"PROPER(TEXT(Base[[#This Row],[FECHA]],\"MMMM\"))","v":"Septiembre"},{"$f":"YEAR(Base[[#This Row],[FECHA]])","v":2020},"PUIOAJ-00001468","Eugenio Espejo","3 estrellas","Hostería",7,270,{"$f":"Base[[#This Row],[VENTAS POR ALOJAMIENTO DURANTE EL MES DE LA ENCUESTA]]/1000","v":0.27},3,3,0,3,3,0,3,8]
[44075,{"$f":"DAY(EOMONTH(Base[[#This Row],[FECHA]],0))","v":30},{"$f":"PROPER(TEXT(Base[[#This Row],[FECHA]],\"MMMM\"))","v":"Septiembre"},{"$f":"YEAR(Base[[#This Row],[FECHA]])","v":2020},"PUIOAJ-00000072","Eugenio Espejo","4 estrellas","Hotel",46,11680.37,{"$f":"Base[[#This Row],[VENTAS POR ALOJAMIENTO DURANTE EL MES DE LA ENCUESTA]]/1000","v":11.68037},196,196,0,196,196,0,196,7]
[44075,{"$f":"DAY(EOMONTH(Base[[#This Row],[FECHA]],0))","v":30},{"$f":"PROPER(TEXT(Base[[#This Row],[FECHA]],\"MMMM\"))","v":"Septiembre"},{"$f":"YEAR(Base[[#This Row],[FECHA]])","v":2020},"PUIOAJ-00001368","Eugenio Espejo","3 estrellas","Hostería",20,1833.26,{"$f":"Base[[#This Row],[VENTAS POR ALOJAMIENTO DURANTE EL MES DE LA ENCUESTA]]/1000","v":1.8332599999999999},22,22,0,22,22,0,22,4]
[44075,{"$f":"DAY(EOMONTH(Base[[#This Row],[FECHA]],0))","v":30},{"$f":"PROPER(TEXT(Base[[#This Row],[FECHA]],\"MMMM\"))","v":"Septiembre"},{"$f":"YEAR(Base[[#This Row],[FECHA]])","v":2020},"PUIOAJ-00000163","Eugenio Espejo","4 estrellas","Hotel",23,2125.87,{"$f":"Base[[#This Row],[VENTAS POR ALOJAMIENTO DURANTE EL MES DE LA ENCUESTA]]/1000","v":2.1258699999999999},37,20,17,37,20,17,37,0]
[44075,{"$f":"DAY(EOMONTH(Base[[#This Row],[FECHA]],0))","v":30},{"$f":"PROPER(TEXT(Base[[#This Row],[FECHA]],\"MMMM\"))","v":"Septiembre"},{"$f":"YEAR(Base[[#This Row],[FECHA]])","v":2020},"PUIOAJ-00001468","La Mariscal","4 estrellas","Hotel",100,16940,{"$f":"Base[[#This Row],[VENTAS POR ALOJAMIENTO DURANTE EL MES DE LA ENCUESTA]]/1000","v":16.940000000000001},275,240,7,247,270,42,312,37]
[44075,{"$f":"DAY(EOMONTH(Base[[#This Row],[FECHA]],0))","v":30},{"$f":"PROPER(TEXT(Base[[#This Row],[FECHA]],\"MMMM\"))","v":"Septiembre"},{"$f":"YEAR(Base[[#This Row],[FECHA]])","v":2020},"PUIOAJ-00001468","La Mariscal","3 estrellas","Hostal",22,null,{"$f":"Base[[#This Row],[VENTAS POR ALOJAMIENTO DURANTE EL MES DE LA ENCUESTA]]/1000","v":0},null,null,null,0,null,null,0,2]
[44075,{"$f":"DAY(EOMONTH(Base[[#This Row],[FECHA]],0))","v":30},{"$f":"PROPER(TEXT(Base[[#This Row],[FECHA]],\"MMMM\"))","v":"Septiembre"},{"$f":"YEAR(Base[[#This Row],[FECHA]])","v":2020},"PUIOAJ-00000021","La Mariscal","5 estrellas","Hotel",124,46577.09,{"$f":"Base[[#This Row],[VENTAS POR ALOJAMIENTO DURANTE EL MES DE LA ENCUESTA]]/1000","v":46.577089999999998},521,33,55,88,88,433,521,20]
[44075,{"$f":"DAY(EOMONTH(Base[[#This Row],[FECHA]],0))","v":30},{"$f":"PROPER(TEXT(Base[[#This Row],[FECHA]],\"MMMM\"))","v":"Septiembre"},{"$f":"YEAR(Base[[#This Row],[FECHA]])","v":2020},"PUIOAJ-00000520","La Mariscal","3 estrellas","Hotel",48,null,{"$f":"Base[[#This Row],[VENTAS POR ALOJAMIENTO DURANTE EL MES DE LA ENCUESTA]]/1000","v":0},null,null,null,0,null,null,0,1]
[44075,{"$f":"DAY(EOMONTH(Base[[#This Row],[FECHA]],0))","v":30},{"$f":"PROPER(TEXT(Base[[#This Row],[FECHA]],\"MMMM\"))","v":"Septiembre"},{"$f":"YEAR(Base[[#This Row],[FECHA]])","v":2020},"PUIOAJ-00001648","La Delicia","3 estrellas","Hostería",9,134,{"$f":"Base[[#This Row],[VENTAS POR ALOJAMIENTO DURANTE EL MES DE LA ENCUESTA]]/1000","v":0.13400000000000001},4,2,3,5,2,3,5,5]
[44075,{"$f":"DAY(EOMONTH(Base[[#This Row],[FECHA]],0))","v":30},{"$f":"PROPER(TEXT(Base[[#This Row],[FECHA]],\"MMMM\"))","v":"Septiembre"},{"$f":"YEAR(Base[[#This Row],[FECHA]])","v":2020},"PUIOAJ-00000520","Eugenio Espejo","5 estrellas","Hotel",128,71209.600000000006,{"$f":"Base[[#This Row],[VENTAS POR ALOJAMIENTO DURANTE EL MES DE LA ENCUESTA]]/1000","v":71.209600000000009},748,349,618,967,349,618,967,65]
[44075,{"$f":"DAY(EOMONTH(Base[[#This Row],[FECHA]],0))","v":30},{"$f":"PROPER(TEXT(Base[[#This Row],[FECHA]],\"MMMM\"))","v":"Septiembre"},{"$f":"YEAR(Base[[#This Row],[FECHA]])","v":2020},"PUIOAJ-00000430","Tumbaco","3 estrellas","Hacienda Turística",20,null,{"$f":"Base[[#This Row],[VENTAS POR ALOJAMIENTO DURANTE EL MES DE LA ENCUESTA]]/1000","v":0},null,null,null,0,null,null,0,1]
[44075,{"$f":"DAY(EOMONTH(Base[[#This Row],[FECHA]],0))","v":30},{"$f":"PROPER(TEXT(Base[[#This Row],[FECHA]],\"MMMM\"))","v":"Septiembre"},{"$f":"YEAR(Base[[#This Row],[FECHA]])","v":2020},"PUIOAJ-00000350","La Mariscal","4 estrellas","Hotel",86,7995.93,{"$f":"Base[[#This Row],[VENTAS POR ALOJAMIENTO DURANTE EL MES DE LA ENCUESTA]]/1000","v":7.9959300000000004},141,82,59,141,94,93,187,34]
[44075,{"$f":"DAY(EOMONTH(Base[[#This Row],[FECHA]],0))","v":30},{"$f":"PROPER(TEXT(Base[[#This Row],[FECHA]],\"MMMM\"))","v":"Septiembre"},{"$f":"YEAR(Base[[#This Row],[FECHA]])","v":2020},"PUIOAJ-00000423","La Mariscal","3 estrellas","Hotel",17,800,{"$f":"Base[[#This Row],[VENTAS POR ALOJAMIENTO DURANTE EL MES DE LA ENCUESTA]]/1000","v":0.8},40,40,0,40,40,0,40,0]
[44075,{"$f":"DAY(EOMONTH(Base[[#This Row],[FECHA]],0))","v":30},{"$f":"PROPER(TEXT(Base[[#This Row],[FECHA]],\"MMMM\"))","v":"Septiembre"},{"$f":"YEAR(Base[[#This Row],[FECHA]])","v":2020},"PUIOAJ-00000350","La Mariscal","3 estrellas","Hotel",20,1800,{"$f":"Base[[#This Row],[VENTAS POR ALOJAMIENTO DURANTE EL MES DE LA ENCUESTA]]/1000","v":1.8},60,60,0,60,75,0,75,5]
[44075,{"$f":"DAY(EOMONTH(Base[[#This Row],[FECHA]],0))","v":30},{"$f":"PROPER(TEXT(Base[[#This Row],[FECHA]],\"MMMM\"))","v":"Septiembre"},{"$f":"YEAR(Base[[#This Row],[FECHA]])","v":2020},"PUIOAJ-00000423","La Delicia","3 estrellas","Hostería",8,152.76,{"$f":"Base[[#This Row],[VENTAS POR ALOJAMIENTO DURANTE EL MES DE LA ENCUESTA]]/1000","v":0.15275999999999998},4,7,0,7,7,0,7,3]
[44075,{"$f":"DAY(EOMONTH(Base[[#This Row],[FECHA]],0))","v":30},{"$f":"PROPER(TEXT(Base[[#This Row],[FECHA]],\"MMMM\"))","v":"Septiembre"},{"$f":"YEAR(Base[[#This Row],[FECHA]])","v":2020},"PUIOAJ-00001516","Eugenio Espejo","3 estrellas","Hostal",17,null,{"$f":"Base[[#This Row],[VENTAS POR ALOJAMIENTO DURANTE EL MES DE LA ENCUESTA]]/1000","v":0},null,null,null,0,null,null,0,0]
[44075,{"$f":"DAY(EOMONTH(Base[[#This Row],[FECHA]],0))","v":30},{"$f":"PROPER(TEXT(Base[[#This Row],[FECHA]],\"MMMM\"))","v":"Septiembre"},{"$f":"YEAR(Base[[#This Row],[FECHA]])","v":2020},"PUIOAJ-00000209","Tumbaco","5 estrellas","Hostería",7,1760,{"$f":"Base[[#This Row],[VENTAS POR ALOJAMIENTO DURANTE EL MES DE LA ENCUESTA]]/1000","v":1.76},20,6,14,20,6,14,20,1]
[44075,{"$f":"DAY(EOMONTH(Base[[#This Row],[FECHA]],0))","v":30},{"$f":"PROPER(TEXT(Base[[#This Row],[FECHA]],\"MMMM\"))","v":"Septiembre"},{"$f":"YEAR(Base[[#This Row],[FECHA]])","v":2020},"PUIOAJ-00000374","La Mariscal","4 estrellas","Hotel",141,19.893000000000001,{"$f":"Base[[#This Row],[VENTAS POR ALOJAMIENTO DURANTE EL MES DE LA ENCUESTA]]/1000","v":1.9893000000000001E-2},236,77,164,241,77,164,241,22]
[44075,{"$f":"DAY(EOMONTH(Base[[#This Row],[FECHA]],0))","v":30},{"$f":"PROPER(TEXT(Base[[#This Row],[FECHA]],\"MMMM\"))","v":"Septiembre"},{"$f":"YEAR(Base[[#This Row],[FECHA]])","v":2020},"PUIOAJ-00000075","Eugenio Espejo","4 estrellas","Hotel",142,null,{"$f":"Base[[#This Row],[VENTAS POR ALOJAMIENTO DURANTE EL MES DE LA ENCUESTA]]/1000","v":0},null,null,null,0,null,null,0,0]
[44075,{"$f":"DAY(EOMONTH(Base[[#This Row],[FECHA]],0))","v":30},{"$f":"PROPER(TEXT(Base[[#This Row],[FECHA]],\"MMMM\"))","v":"Septiembre"},{"$f":"YEAR(Base[[#This Row],[FECHA]])","v":2020},"PUIOAJ-00000374","Eugenio Espejo","3 estrellas","Hotel",12,4300,{"$f":"Base[[#This Row],[VENTAS POR ALOJAMIENTO DURANTE EL MES DE LA ENCUESTA]]/1000","v":4.3},97,85,12,97,85,12,97,6]
[44075,{"$f":"DAY(EOMONTH(Base[[#This Row],[FECHA]],0))","v":30},{"$f":"PROPER(TEXT(Base[[#This Row],[FECHA]],\"MMMM\"))","v":"Septiembre"},{"$f":"YEAR(Base[[#This Row],[FECHA]])","v":2020},"PUIOAJ-00000171","Manuela Sáenz","4 estrellas","Hotel",18,null,{"$f":"Base[[#This Row],[VENTAS POR ALOJAMIENTO DURANTE EL MES DE LA ENCUESTA]]/1000","v":0},null,null,null,0,null,null,0,4]
[44075,{"$f":"DAY(EOMONTH(Base[[#This Row],[FECHA]],0))","v":30},{"$f":"PROPER(TEXT(Base[[#This Row],[FECHA]],\"MMMM\"))","v":"Septiembre"},{"$f":"YEAR(Base[[#This Row],[FECHA]])","v":2020},"PUIOAJ-00000152","La Mariscal","3 estrellas","Hotel",20,7776,{"$f":"Base[[#This Row],[VENTAS POR ALOJAMIENTO DURANTE EL MES DE LA ENCUESTA]]/1000","v":7.7759999999999998},133,202,1,203,244,3,247,18]
[44105,{"$f":"DAY(EOMONTH(Base[[#This Row],[FECHA]],0))","v":31},{"$f":"PROPER(TEXT(Base[[#This Row],[FECHA]],\"MMMM\"))","v":"Octubre"},{"$f":"YEAR(Base[[#This Row],[FECHA]])","v":2020},"PUIOAJ-00001642","Eugenio Espejo","3 estrellas","Hotel",151,52506.49,{"$f":"Base[[#This Row],[VENTAS POR ALOJAMIENTO DURANTE EL MES DE LA ENCUESTA]]/1000","v":52.506489999999999},1112,780,332,1112,780,332,1112,14]
[44105,{"$f":"DAY(EOMONTH(Base[[#This Row],[FECHA]],0))","v":31},{"$f":"PROPER(TEXT(Base[[#This Row],[FECHA]],\"MMMM\"))","v":"Octubre"},{"$f":"YEAR(Base[[#This Row],[FECHA]])","v":2020},"PUIOAJ-00000622","Manuela Sáenz","4 estrellas","Hotel",12,183,{"$f":"Base[[#This Row],[VENTAS POR ALOJAMIENTO DURANTE EL MES DE LA ENCUESTA]]/1000","v":0.183},1,0,2,2,0,2,2,0]
[44105,{"$f":"DAY(EOMONTH(Base[[#This Row],[FECHA]],0))","v":31},{"$f":"PROPER(TEXT(Base[[#This Row],[FECHA]],\"MMMM\"))","v":"Octubre"},{"$f":"YEAR(Base[[#This Row],[FECHA]])","v":2020},"PUIOAJ-00000163","Eugenio Espejo","4 estrellas","Hotel",24,3500,{"$f":"Base[[#This Row],[VENTAS POR ALOJAMIENTO DURANTE EL MES DE LA ENCUESTA]]/1000","v":3.5},42,24,20,44,24,20,44,6]
[44105,{"$f":"DAY(EOMONTH(Base[[#This Row],[FECHA]],0))","v":31},{"$f":"PROPER(TEXT(Base[[#This Row],[FECHA]],\"MMMM\"))","v":"Octubre"},{"$f":"YEAR(Base[[#This Row],[FECHA]])","v":2020},"PUIOAJ-00001468","La Mariscal","3 estrellas","Hostal",22,null,{"$f":"Base[[#This Row],[VENTAS POR ALOJAMIENTO DURANTE EL MES DE LA ENCUESTA]]/1000","v":0},null,null,null,0,null,0,0,2]
[44105,{"$f":"DAY(EOMONTH(Base[[#This Row],[FECHA]],0))","v":31},{"$f":"PROPER(TEXT(Base[[#This Row],[FECHA]],\"MMMM\"))","v":"Octubre"},{"$f":"YEAR(Base[[#This Row],[FECHA]])","v":2020},"PUIOAJ-00000233","Eugenio Espejo","4 estrellas","Hotel",24,null,{"$f":"Base[[#This Row],[VENTAS POR ALOJAMIENTO DURANTE EL MES DE LA ENCUESTA]]/1000","v":0},null,null,null,0,null,0,0,0]
[44105,{"$f":"DAY(EOMONTH(Base[[#This Row],[FECHA]],0))","v":31},{"$f":"PROPER(TEXT(Base[[#This Row],[FECHA]],\"MMMM\"))","v":"Octubre"},{"$f":"YEAR(Base[[#This Row],[FECHA]])","v":2020},"PUIOAJ-00000112","Eugenio Espejo","3 estrellas","Hostería",22,200,{"$f":"Base[[#This Row],[VENTAS POR ALOJAMIENTO DURANTE EL MES DE LA ENCUESTA]]/1000","v":0.2},4,2,2,4,2,2,4,4]
[44105,{"$f":"DAY(EOMONTH(Base[[#This Row],[FECHA]],0))","v":31},{"$f":"PROPER(TEXT(Base[[#This Row],[FECHA]],\"MMMM\"))","v":"Octubre"},{"$f":"YEAR(Base[[#This Row],[FECHA]])","v":2020},"PUIOAJ-00004601","Eugenio Espejo","3 estrellas","Hotel",12,3700,{"$f":"Base[[#This Row],[VENTAS POR ALOJAMIENTO DURANTE EL MES DE LA ENCUESTA]]/1000","v":3.7},149,106,31,137,112,37,149,5]
[44105,{"$f":"DAY(EOMONTH(Base[[#This Row],[FECHA]],0))","v":31},{"$f":"PROPER(TEXT(Base[[#This Row],[FECHA]],\"MMMM\"))","v":"Octubre"},{"$f":"YEAR(Base[[#This Row],[FECHA]])","v":2020},"PUIOAJ-00000430","Tumbaco","3 estrellas","Hacienda Turística",20,null,{"$f":"Base[[#This Row],[VENTAS POR ALOJAMIENTO DURANTE EL MES DE LA ENCUESTA]]/1000","v":0},null,null,null,0,null,0,0,1]
[44105,{"$f":"DAY(EOMONTH(Base[[#This Row],[FECHA]],0))","v":31},{"$f":"PROPER(TEXT(Base[[#This Row],[FECHA]],\"MMMM\"))","v":"Octubre"},{"$f":"YEAR(Base[[#This Row],[FECHA]])","v":2020},"PUIOAJ-00001639","La Mariscal","3 estrellas","Hotel",17,1200,{"$f":"Base[[#This Row],[VENTAS POR ALOJAMIENTO DURANTE EL MES DE LA ENCUESTA]]/1000","v":1.2},25,25,0,25,25,0,25,0]
[44105,{"$f":"DAY(EOMONTH(Base[[#This Row],[FECHA]],0))","v":31},{"$f":"PROPER(TEXT(Base[[#This Row],[FECHA]],\"MMMM\"))","v":"Octubre"},{"$f":"YEAR(Base[[#This Row],[FECHA]])","v":2020},"PUIOAJ-00000152","Eugenio Espejo","4 estrellas","Hotel",152,69700,{"$f":"Base[[#This Row],[VENTAS POR ALOJAMIENTO DURANTE EL MES DE LA ENCUESTA]]/1000","v":69.7},1267,890,377,1267,890,377,1267]
[44105,{"$f":"DAY(EOMONTH(Base[[#This Row],[FECHA]],0))","v":31},{"$f":"PROPER(TEXT(Base[[#This Row],[FECHA]],\"MMMM\"))","v":"Octubre"},{"$f":"YEAR(Base[[#This Row],[FECHA]])","v":2020},"PUIOAJ-00000263","La Mariscal","4 estrellas","Hotel",31,900,{"$f":"Base[[#This Row],[VENTAS POR ALOJAMIENTO DURANTE EL MES DE LA ENCUESTA]]/1000","v":0.9},15,2,28,30,2,28,30,1]
[44105,{"$f":"DAY(EOMONTH(Base[[#This Row],[FECHA]],0))","v":31},{"$f":"PROPER(TEXT(Base[[#This Row],[FECHA]],\"MMMM\"))","v":"Octubre"},{"$f":"YEAR(Base[[#This Row],[FECHA]])","v":2020},"PUIOAJ-00000171","La Mariscal","3 estrellas","Hotel",20,7903.37,{"$f":"Base[[#This Row],[VENTAS POR ALOJAMIENTO DURANTE EL MES DE LA ENCUESTA]]/1000","v":7.9033699999999998},135,241,0,241,267,0,267,17]
[44105,{"$f":"DAY(EOMONTH(Base[[#This Row],[FECHA]],0))","v":31},{"$f":"PROPER(TEXT(Base[[#This Row],[FECHA]],\"MMMM\"))","v":"Octubre"},{"$f":"YEAR(Base[[#This Row],[FECHA]])","v":2020},"PUIOAJ-00000435","Manuela Sáenz","3 estrellas","Hostal",6,null,{"$f":"Base[[#This Row],[VENTAS POR ALOJAMIENTO DURANTE EL MES DE LA ENCUESTA]]/1000","v":0},null,null,null,0,null,null,0,2]
[44105,{"$f":"DAY(EOMONTH(Base[[#This Row],[FECHA]],0))","v":31},{"$f":"PROPER(TEXT(Base[[#This Row],[FECHA]],\"MMMM\"))","v":"Octubre"},{"$f":"YEAR(Base[[#This Row],[FECHA]])","v":2020},"PUIOAJ-00000520","La Delicia","3 estrellas","Hostería",9,329,{"$f":"Base[[#This Row],[VENTAS POR ALOJAMIENTO DURANTE EL MES DE LA ENCUESTA]]/1000","v":0.32900000000000001},6,4,1,5,4,2,6,6]
[44105,{"$f":"DAY(EOMONTH(Base[[#This Row],[FECHA]],0))","v":31},{"$f":"PROPER(TEXT(Base[[#This Row],[FECHA]],\"MMMM\"))","v":"Octubre"},{"$f":"YEAR(Base[[#This Row],[FECHA]])","v":2020},"PUIOAJ-00000021","La Mariscal","3 estrellas","Hotel",40,2535,{"$f":"Base[[#This Row],[VENTAS POR ALOJAMIENTO DURANTE EL MES DE LA ENCUESTA]]/1000","v":2.5350000000000001},137,91,0,91,137,0,137,7]
[44105,{"$f":"DAY(EOMONTH(Base[[#This Row],[FECHA]],0))","v":31},{"$f":"PROPER(TEXT(Base[[#This Row],[FECHA]],\"MMMM\"))","v":"Octubre"},{"$f":"YEAR(Base[[#This Row],[FECHA]])","v":2020},"PUIOAJ-00000449","Eugenio Espejo","3 estrellas","Hostal",15,null,{"$f":"Base[[#This Row],[VENTAS POR ALOJAMIENTO DURANTE EL MES DE LA ENCUESTA]]/1000","v":0},null,null,null,0,null,null,0,1]
[44105,{"$f":"DAY(EOMONTH(Base[[#This Row],[FECHA]],0))","v":31},{"$f":"PROPER(TEXT(Base[[#This Row],[FECHA]],\"MMMM\"))","v":"Octubre"},{"$f":"YEAR(Base[[#This Row],[FECHA]])","v":2020},"PUIOAJ-00000172","La Mariscal","3 estrellas","Hotel",20,null,{"$f":"Base[[#This Row],[VENTAS POR ALOJAMIENTO DURANTE EL MES DE LA ENCUESTA]]/1000","v":0},null,null,null,0,null,null,0,4]
[44105,{"$f":"DAY(EOMONTH(Base[[#This Row],[FECHA]],0))","v":31},{"$f":"PROPER(TEXT(Base[[#This Row],[FECHA]],\"MMMM\"))","v":"Octubre"},{"$f":"YEAR(Base[[#This Row],[FECHA]])","v":2020},"PUIOAJ-00000085","Manuela Sáenz","3 estrellas","Hotel",20,null,{"$f":"Base[[#This Row],[VENTAS POR ALOJAMIENTO DURANTE EL MES DE LA ENCUESTA]]/1000","v":0},null,null,null,0,null,null,0,0]
[44105,{"$f":"DAY(EOMONTH(Base[[#This Row],[FECHA]],0))","v":31},{"$f":"PROPER(TEXT(Base[[#This Row],[FECHA]],\"MMMM\"))","v":"Octubre"},{"$f":"YEAR(Base[[#This Row],[FECHA]])","v":2020},"PUIOAJ-00000278","Manuela Sáenz","3 estrellas","Hotel",14,null,{"$f":"Base[[#This Row],[VENTAS POR ALOJAMIENTO DURANTE EL MES DE LA ENCUESTA]]/1000","v":0},null,null,null,0,null,null,0,1]
[44105,{"$f":"DAY(EOMONTH(Base[[#This Row],[FECHA]],0))","v":31},{"$f":"PROPER(TEXT(Base[[#This Row],[FECHA]],\"MMMM\"))","v":"Octubre"},{"$f":"YEAR(Base[[#This Row],[FECHA]])","v":2020},"PUIOAJ-00000374","Los Chillos","4 estrellas","Hostería",12,2607,{"$f":"Base[[#This Row],[VENTAS POR ALOJAMIENTO DURANTE EL MES DE LA ENCUESTA]]/1000","v":2.6070000000000002},33,48,18,66,48,18,66,3]
[44105,{"$f":"DAY(EOMONTH(Base[[#This Row],[FECHA]],0))","v":31},{"$f":"PROPER(TEXT(Base[[#This Row],[FECHA]],\"MMMM\"))","v":"Octubre"},{"$f":"YEAR(Base[[#This Row],[FECHA]])","v":2020},"PUIOAJ-00000140","La Delicia","3 estrellas","Hostería",12,null,{"$f":"Base[[#This Row],[VENTAS POR ALOJAMIENTO DURANTE EL MES DE LA ENCUESTA]]/1000","v":0},null,null,null,0,null,null,0,0]
[44105,{"$f":"DAY(EOMONTH(Base[[#This Row],[FECHA]],0))","v":31},{"$f":"PROPER(TEXT(Base[[#This Row],[FECHA]],\"MMMM\"))","v":"Octubre"},{"$f":"YEAR(Base[[#This Row],[FECHA]])","v":2020},"PUIOAJ-00000072","La Mariscal","4 estrellas","Hotel",86,11043.45,{"$f":"Base[[#This Row],[VENTAS POR ALOJAMIENTO DURANTE EL MES DE LA ENCUESTA]]/1000","v":11.04345},210,231,52,283,231,52,283,33]
[44105,{"$f":"DAY(EOMONTH(Base[[#This Row],[FECHA]],0))","v":31},{"$f":"PROPER(TEXT(Base[[#This Row],[FECHA]],\"MMMM\"))","v":"Octubre"},{"$f":"YEAR(Base[[#This Row],[FECHA]])","v":2020},"PUIOAJ-00000223","La Mariscal","4 estrellas","Hotel",141,22699,{"$f":"Base[[#This Row],[VENTAS POR ALOJAMIENTO DURANTE EL MES DE LA ENCUESTA]]/1000","v":22.699000000000002},320,200,120,320,200,120,320,20]
[44105,{"$f":"DAY(EOMONTH(Base[[#This Row],[FECHA]],0))","v":31},{"$f":"PROPER(TEXT(Base[[#This Row],[FECHA]],\"MMMM\"))","v":"Octubre"},{"$f":"YEAR(Base[[#This Row],[FECHA]])","v":2020},"PUIOAJ-00000068","La Mariscal","5 estrellas","Hotel",124,39074.01,{"$f":"Base[[#This Row],[VENTAS POR ALOJAMIENTO DURANTE EL MES DE LA ENCUESTA]]/1000","v":39.074010000000001},541,100,77,177,300,241,541,29]
[44105,{"$f":"DAY(EOMONTH(Base[[#This Row],[FECHA]],0))","v":31},{"$f":"PROPER(TEXT(Base[[#This Row],[FECHA]],\"MMMM\"))","v":"Octubre"},{"$f":"YEAR(Base[[#This Row],[FECHA]])","v":2020},"PUIOAJ-00000304","Eugenio Espejo","3 estrellas","Hostal",16,null,{"$f":"Base[[#This Row],[VENTAS POR ALOJAMIENTO DURANTE EL MES DE LA ENCUESTA]]/1000","v":0},null,null,null,0,null,null,0,0]
[44105,{"$f":"DAY(EOMONTH(Base[[#This Row],[FECHA]],0))","v":31},{"$f":"PROPER(TEXT(Base[[#This Row],[FECHA]],\"MMMM\"))","v":"Octubre"},{"$f":"YEAR(Base[[#This Row],[FECHA]])","v":2020},"PUIOAJ-00000299","Manuela Sáenz","4 estrellas","Hotel",31,10000,{"$f":"Base[[#This Row],[VENTAS POR ALOJAMIENTO DURANTE EL MES DE LA ENCUESTA]]/1000","v":10},54,18,36,54,18,36,54]
[44105,{"$f":"DAY(EOMONTH(Base[[#This Row],[FECHA]],0))","v":31},{"$f":"PROPER(TEXT(Base[[#This Row],[FECHA]],\"MMMM\"))","v":"Octubre"},{"$f":"YEAR(Base[[#This Row],[FECHA]])","v":2020},"PUIOAJ-00000073","Eugenio Espejo","3 estrellas","Hotel",60,10689.93,{"$f":"Base[[#This Row],[VENTAS POR ALOJAMIENTO DURANTE EL MES DE LA ENCUESTA]]/1000","v":10.68993},155,167,7,174,263,7,270,13]
[44105,{"$f":"DAY(EOMONTH(Base[[#This Row],[FECHA]],0))","v":31},{"$f":"PROPER(TEXT(Base[[#This Row],[FECHA]],\"MMMM\"))","v":"Octubre"},{"$f":"YEAR(Base[[#This Row],[FECHA]])","v":2020},"PUIOAJ-00000008","La Delicia","5 estrellas","Lodge",18,51600,{"$f":"Base[[#This Row],[VENTAS POR ALOJAMIENTO DURANTE EL MES DE LA ENCUESTA]]/1000","v":51.6},344,331,13,344,331,13,344]
[44136,{"$f":"DAY(EOMONTH(Base[[#This Row],[FECHA]],0))","v":30},{"$f":"PROPER(TEXT(Base[[#This Row],[FECHA]],\"MMMM\"))","v":"Noviembre"},{"$f":"YEAR(Base[[#This Row],[FECHA]])","v":2020},"PUIOAJ-00000024","Manuela Sáenz","4 estrellas","Hotel",18,null,{"$f":"Base[[#This Row],[VENTAS POR ALOJAMIENTO DURANTE EL MES DE LA ENCUESTA]]/1000","v":0},null,null,null,0,null,null,0,7]
[44136,{"$f":"DAY(EOMONTH(Base[[#This Row],[FECHA]],0))","v":30},{"$f":"PROPER(TEXT(Base[[#This Row],[FECHA]],\"MMMM\"))","v":"Noviembre"},{"$f":"YEAR(Base[[#This Row],[FECHA]])","v":2020},"PUIOAJ-00000008","La Delicia","5 estrellas","Lodge",24,60300,{"$f":"Base[[#This Row],[VENTAS POR ALOJAMIENTO DURANTE EL MES DE LA ENCUESTA]]/1000","v":60.3},402,357,45,402,357,45,402]
[44136,{"$f":"DAY(EOMONTH(Base[[#This Row],[FECHA]],0))","v":30},{"$f":"PROPER(TEXT(Base[[#This Row],[FECHA]],\"MMMM\"))","v":"Noviembre"},{"$f":"YEAR(Base[[#This Row],[FECHA]])","v":2020},"PUIOAJ-00000070","Eugenio Espejo","5 estrellas","Hotel",210,130928,{"$f":"Base[[#This Row],[VENTAS POR ALOJAMIENTO DURANTE EL MES DE LA ENCUESTA]]/1000","v":130.928},1336,481,855,1336,481,855,1336,112]
[44136,{"$f":"DAY(EOMONTH(Base[[#This Row],[FECHA]],0))","v":30},{"$f":"PROPER(TEXT(Base[[#This Row],[FECHA]],\"MMMM\"))","v":"Noviembre"},{"$f":"YEAR(Base[[#This Row],[FECHA]])","v":2020},"PUIOAJ-00000068","La Mariscal","5 estrellas","Hotel",124,48872.39,{"$f":"Base[[#This Row],[VENTAS POR ALOJAMIENTO DURANTE EL MES DE LA ENCUESTA]]/1000","v":48.872390000000003},695,239,167,406,528,167,695,29]
[44136,{"$f":"DAY(EOMONTH(Base[[#This Row],[FECHA]],0))","v":30},{"$f":"PROPER(TEXT(Base[[#This Row],[FECHA]],\"MMMM\"))","v":"Noviembre"},{"$f":"YEAR(Base[[#This Row],[FECHA]])","v":2020},"PUIOAJ-00000072","La Mariscal","4 estrellas","Hotel",86,12979.13,{"$f":"Base[[#This Row],[VENTAS POR ALOJAMIENTO DURANTE EL MES DE LA ENCUESTA]]/1000","v":12.97913},242,163,79,242,163,79,242,32]
[44136,{"$f":"DAY(EOMONTH(Base[[#This Row],[FECHA]],0))","v":30},{"$f":"PROPER(TEXT(Base[[#This Row],[FECHA]],\"MMMM\"))","v":"Noviembre"},{"$f":"YEAR(Base[[#This Row],[FECHA]])","v":2020},"PUIOAJ-00000073","Eugenio Espejo","3 estrellas","Hotel",60,4403.62,{"$f":"Base[[#This Row],[VENTAS POR ALOJAMIENTO DURANTE EL MES DE LA ENCUESTA]]/1000","v":4.4036200000000001},108,125,9,134,125,13,138,12]
[44136,{"$f":"DAY(EOMONTH(Base[[#This Row],[FECHA]],0))","v":30},{"$f":"PROPER(TEXT(Base[[#This Row],[FECHA]],\"MMMM\"))","v":"Noviembre"},{"$f":"YEAR(Base[[#This Row],[FECHA]])","v":2020},"PUIOAJ-00000111","La Delicia","3 estrellas","Lodge",10,150,{"$f":"Base[[#This Row],[VENTAS POR ALOJAMIENTO DURANTE EL MES DE LA ENCUESTA]]/1000","v":0.15},1,1,0,1,1,0,1,2]
[44136,{"$f":"DAY(EOMONTH(Base[[#This Row],[FECHA]],0))","v":30},{"$f":"PROPER(TEXT(Base[[#This Row],[FECHA]],\"MMMM\"))","v":"Noviembre"},{"$f":"YEAR(Base[[#This Row],[FECHA]])","v":2020},"PUIOAJ-00000112","Eugenio Espejo","3 estrellas","Hostería",23,300,{"$f":"Base[[#This Row],[VENTAS POR ALOJAMIENTO DURANTE EL MES DE LA ENCUESTA]]/1000","v":0.3},9,6,3,9,6,3,9,4]
[44136,{"$f":"DAY(EOMONTH(Base[[#This Row],[FECHA]],0))","v":30},{"$f":"PROPER(TEXT(Base[[#This Row],[FECHA]],\"MMMM\"))","v":"Noviembre"},{"$f":"YEAR(Base[[#This Row],[FECHA]])","v":2020},"PUIOAJ-00000152","Eugenio Espejo","4 estrellas","Hotel",142,null,{"$f":"Base[[#This Row],[VENTAS POR ALOJAMIENTO DURANTE EL MES DE LA ENCUESTA]]/1000","v":0},null,null,null,0,null,null,0,30]
[44136,{"$f":"DAY(EOMONTH(Base[[#This Row],[FECHA]],0))","v":30},{"$f":"PROPER(TEXT(Base[[#This Row],[FECHA]],\"MMMM\"))","v":"Noviembre"},{"$f":"YEAR(Base[[#This Row],[FECHA]])","v":2020},"PUIOAJ-00000163","Eugenio Espejo","4 estrellas","Hotel",26,5000,{"$f":"Base[[#This Row],[VENTAS POR ALOJAMIENTO DURANTE EL MES DE LA ENCUESTA]]/1000","v":5},50,12,42,54,12,42,54,12]
[44136,{"$f":"DAY(EOMONTH(Base[[#This Row],[FECHA]],0))","v":30},{"$f":"PROPER(TEXT(Base[[#This Row],[FECHA]],\"MMMM\"))","v":"Noviembre"},{"$f":"YEAR(Base[[#This Row],[FECHA]])","v":2020},"PUIOAJ-00000164","La Mariscal","4 estrellas","Hotel",100,23450,{"$f":"Base[[#This Row],[VENTAS POR ALOJAMIENTO DURANTE EL MES DE LA ENCUESTA]]/1000","v":23.45},350,501,2,503,595,2,597,38]
[44136,{"$f":"DAY(EOMONTH(Base[[#This Row],[FECHA]],0))","v":30},{"$f":"PROPER(TEXT(Base[[#This Row],[FECHA]],\"MMMM\"))","v":"Noviembre"},{"$f":"YEAR(Base[[#This Row],[FECHA]])","v":2020},"PUIOAJ-00000171","La Mariscal","3 estrellas","Hotel",20,6799,{"$f":"Base[[#This Row],[VENTAS POR ALOJAMIENTO DURANTE EL MES DE LA ENCUESTA]]/1000","v":6.7990000000000004},131,199,0,199,233,0,233,17]
[44136,{"$f":"DAY(EOMONTH(Base[[#This Row],[FECHA]],0))","v":30},{"$f":"PROPER(TEXT(Base[[#This Row],[FECHA]],\"MMMM\"))","v":"Noviembre"},{"$f":"YEAR(Base[[#This Row],[FECHA]])","v":2020},"PUIOAJ-00000223","La Mariscal","4 estrellas","Hotel",141,31366.720000000001,{"$f":"Base[[#This Row],[VENTAS POR ALOJAMIENTO DURANTE EL MES DE LA ENCUESTA]]/1000","v":31.366720000000001},394,276,118,394,276,118,394,20]
[44136,{"$f":"DAY(EOMONTH(Base[[#This Row],[FECHA]],0))","v":30},{"$f":"PROPER(TEXT(Base[[#This Row],[FECHA]],\"MMMM\"))","v":"Noviembre"},{"$f":"YEAR(Base[[#This Row],[FECHA]])","v":2020},"PUIOAJ-00000263","La Mariscal","4 estrellas","Hotel",31,1750,{"$f":"Base[[#This Row],[VENTAS POR ALOJAMIENTO DURANTE EL MES DE LA ENCUESTA]]/1000","v":1.75},35,75,0,75,75,0,75,3]
[44136,{"$f":"DAY(EOMONTH(Base[[#This Row],[FECHA]],0))","v":30},{"$f":"PROPER(TEXT(Base[[#This Row],[FECHA]],\"MMMM\"))","v":"Noviembre"},{"$f":"YEAR(Base[[#This Row],[FECHA]])","v":2020},"PUIOAJ-00000299","Manuela Sáenz","4 estrellas","Hotel",31,15000,{"$f":"Base[[#This Row],[VENTAS POR ALOJAMIENTO DURANTE EL MES DE LA ENCUESTA]]/1000","v":15},79,28,51,79,28,51,79]
[44136,{"$f":"DAY(EOMONTH(Base[[#This Row],[FECHA]],0))","v":30},{"$f":"PROPER(TEXT(Base[[#This Row],[FECHA]],\"MMMM\"))","v":"Noviembre"},{"$f":"YEAR(Base[[#This Row],[FECHA]])","v":2020},"PUIOAJ-00000381","La Delicia","3 estrellas","Hostería",6,800,{"$f":"Base[[#This Row],[VENTAS POR ALOJAMIENTO DURANTE EL MES DE LA ENCUESTA]]/1000","v":0.8},36,18,18,36,18,18,36,3]
[44136,{"$f":"DAY(EOMONTH(Base[[#This Row],[FECHA]],0))","v":30},{"$f":"PROPER(TEXT(Base[[#This Row],[FECHA]],\"MMMM\"))","v":"Noviembre"},{"$f":"YEAR(Base[[#This Row],[FECHA]])","v":2020},"PUIOAJ-00000430","Tumbaco","3 estrellas","Hacienda Turística",20,null,{"$f":"Base[[#This Row],[VENTAS POR ALOJAMIENTO DURANTE EL MES DE LA ENCUESTA]]/1000","v":0},null,null,null,0,null,null,0,1]
[44136,{"$f":"DAY(EOMONTH(Base[[#This Row],[FECHA]],0))","v":30},{"$f":"PROPER(TEXT(Base[[#This Row],[FECHA]],\"MMMM\"))","v":"Noviembre"},{"$f":"YEAR(Base[[#This Row],[FECHA]])","v":2020},"PUIOAJ-00000435","Manuela Sáenz","3 estrellas","Hostal",6,null,{"$f":"Base[[#This Row],[VENTAS POR ALOJAMIENTO DURANTE EL MES DE LA ENCUESTA]]/1000","v":0},null,null,null,0,null,null,0,2]
[44136,{"$f":"DAY(EOMONTH(Base[[#This Row],[FECHA]],0))","v":30},{"$f":"PROPER(TEXT(Base[[#This Row],[FECHA]],\"MMMM\"))","v":"Noviembre"},{"$f":"YEAR(Base[[#This Row],[FECHA]])","v":2020},"PUIOAJ-00000520","La Delicia","3 estrellas","Hostería",12,744,{"$f":"Base[[#This Row],[VENTAS POR ALOJAMIENTO DURANTE EL MES DE LA ENCUESTA]]/1000","v":0.74399999999999999},34,5,3,8,10,28,38,6]
[44136,{"$f":"DAY(EOMONTH(Base[[#This Row],[FECHA]],0))","v":30},{"$f":"PROPER(TEXT(Base[[#This Row],[FECHA]],\"MMMM\"))","v":"Noviembre"},{"$f":"YEAR(Base[[#This Row],[FECHA]])","v":2020},"PUIOAJ-00001673","La Mariscal","4 estrellas","Hotel",55,9882,{"$f":"Base[[#This Row],[VENTAS POR ALOJAMIENTO DURANTE EL MES DE LA ENCUESTA]]/1000","v":9.8819999999999997},192,192,0,192,192,0,192,4]
[44136,{"$f":"DAY(EOMONTH(Base[[#This Row],[FECHA]],0))","v":30},{"$f":"PROPER(TEXT(Base[[#This Row],[FECHA]],\"MMMM\"))","v":"Noviembre"},{"$f":"YEAR(Base[[#This Row],[FECHA]])","v":2020},"PUIOAJ-00004601","Eugenio Espejo","3 estrellas","Hotel",12,5700,{"$f":"Base[[#This Row],[VENTAS POR ALOJAMIENTO DURANTE EL MES DE LA ENCUESTA]]/1000","v":5.7},261,145,38,183,185,76,261,5]
[44166,{"$f":"DAY(EOMONTH(Base[[#This Row],[FECHA]],0))","v":31},{"$f":"PROPER(TEXT(Base[[#This Row],[FECHA]],\"MMMM\"))","v":"Diciembre"},{"$f":"YEAR(Base[[#This Row],[FECHA]])","v":2020},"PUIOAJ-00000126","Eugenio Espejo","3 estrellas","Hostal",9,630,{"$f":"Base[[#This Row],[VENTAS POR ALOJAMIENTO DURANTE EL MES DE LA ENCUESTA]]/1000","v":0.63},9,9,0,9,9,0,9,1]
[44166,{"$f":"DAY(EOMONTH(Base[[#This Row],[FECHA]],0))","v":31},{"$f":"PROPER(TEXT(Base[[#This Row],[FECHA]],\"MMMM\"))","v":"Diciembre"},{"$f":"YEAR(Base[[#This Row],[FECHA]])","v":2020},"PUIOAJ-00000263","La Mariscal","4 estrellas","Hotel",31,4032,{"$f":"Base[[#This Row],[VENTAS POR ALOJAMIENTO DURANTE EL MES DE LA ENCUESTA]]/1000","v":4.032},84,9,170,179,9,170,179,5]
[44166,{"$f":"DAY(EOMONTH(Base[[#This Row],[FECHA]],0))","v":31},{"$f":"PROPER(TEXT(Base[[#This Row],[FECHA]],\"MMMM\"))","v":"Diciembre"},{"$f":"YEAR(Base[[#This Row],[FECHA]])","v":2020},"PUIOAJ-00000527","Tumbaco","5 estrellas","Hostería",45,33594.6,{"$f":"Base[[#This Row],[VENTAS POR ALOJAMIENTO DURANTE EL MES DE LA ENCUESTA]]/1000","v":33.5946},438,418,20,438,418,20,438,25]
[44166,{"$f":"DAY(EOMONTH(Base[[#This Row],[FECHA]],0))","v":31},{"$f":"PROPER(TEXT(Base[[#This Row],[FECHA]],\"MMMM\"))","v":"Diciembre"},{"$f":"YEAR(Base[[#This Row],[FECHA]])","v":2020},"PUIOAJ-00000112","Eugenio Espejo","3 estrellas","Hostería",23,300,{"$f":"Base[[#This Row],[VENTAS POR ALOJAMIENTO DURANTE EL MES DE LA ENCUESTA]]/1000","v":0.3},3,12,0,12,12,0,12,4]
[44166,{"$f":"DAY(EOMONTH(Base[[#This Row],[FECHA]],0))","v":31},{"$f":"PROPER(TEXT(Base[[#This Row],[FECHA]],\"MMMM\"))","v":"Diciembre"},{"$f":"YEAR(Base[[#This Row],[FECHA]])","v":2020},"PUIOAJ-00001639","La Mariscal","3 estrellas","Hotel",17,850,{"$f":"Base[[#This Row],[VENTAS POR ALOJAMIENTO DURANTE EL MES DE LA ENCUESTA]]/1000","v":0.85},40,34,6,40,64,12,76,0]
[44166,{"$f":"DAY(EOMONTH(Base[[#This Row],[FECHA]],0))","v":31},{"$f":"PROPER(TEXT(Base[[#This Row],[FECHA]],\"MMMM\"))","v":"Diciembre"},{"$f":"YEAR(Base[[#This Row],[FECHA]])","v":2020},"PUIOAJ-00001445","Tumbaco","5 estrellas","Hotel",94,56369,{"$f":"Base[[#This Row],[VENTAS POR ALOJAMIENTO DURANTE EL MES DE LA ENCUESTA]]/1000","v":56.369},656,394,394,788,394,394,788,20]
[44166,{"$f":"DAY(EOMONTH(Base[[#This Row],[FECHA]],0))","v":31},{"$f":"PROPER(TEXT(Base[[#This Row],[FECHA]],\"MMMM\"))","v":"Diciembre"},{"$f":"YEAR(Base[[#This Row],[FECHA]])","v":2020},"PUIOAJ-00001642","Eugenio Espejo","3 estrellas","Hotel",151,58000,{"$f":"Base[[#This Row],[VENTAS POR ALOJAMIENTO DURANTE EL MES DE LA ENCUESTA]]/1000","v":58},1300,1200,50,1250,1200,100,1300,22]
[44166,{"$f":"DAY(EOMONTH(Base[[#This Row],[FECHA]],0))","v":31},{"$f":"PROPER(TEXT(Base[[#This Row],[FECHA]],\"MMMM\"))","v":"Diciembre"},{"$f":"YEAR(Base[[#This Row],[FECHA]])","v":2020},"PUIOAJ-00000070","Eugenio Espejo","5 estrellas","Hotel",128,118620,{"$f":"Base[[#This Row],[VENTAS POR ALOJAMIENTO DURANTE EL MES DE LA ENCUESTA]]/1000","v":118.62},1318,462,1146,1608,462,1146,1608,112]
[44166,{"$f":"DAY(EOMONTH(Base[[#This Row],[FECHA]],0))","v":31},{"$f":"PROPER(TEXT(Base[[#This Row],[FECHA]],\"MMMM\"))","v":"Diciembre"},{"$f":"YEAR(Base[[#This Row],[FECHA]])","v":2020},"PUIOAJ-00000520","La Delicia","3 estrellas","Hostería",10,358,{"$f":"Base[[#This Row],[VENTAS POR ALOJAMIENTO DURANTE EL MES DE LA ENCUESTA]]/1000","v":0.35799999999999998},12,3,1,4,3,10,13]
[44166,{"$f":"DAY(EOMONTH(Base[[#This Row],[FECHA]],0))","v":31},{"$f":"PROPER(TEXT(Base[[#This Row],[FECHA]],\"MMMM\"))","v":"Diciembre"},{"$f":"YEAR(Base[[#This Row],[FECHA]])","v":2020},"PUIOAJ-00000111","La Delicia","3 estrellas","Lodge",6,920.54,{"$f":"Base[[#This Row],[VENTAS POR ALOJAMIENTO DURANTE EL MES DE LA ENCUESTA]]/1000","v":0.92053999999999991},9,0,4,4,0,9,9,2]
[44166,{"$f":"DAY(EOMONTH(Base[[#This Row],[FECHA]],0))","v":31},{"$f":"PROPER(TEXT(Base[[#This Row],[FECHA]],\"MMMM\"))","v":"Diciembre"},{"$f":"YEAR(Base[[#This Row],[FECHA]])","v":2020},"PUIOAJ-00000021","La Mariscal","3 estrellas","Hotel",41,1250,{"$f":"Base[[#This Row],[VENTAS POR ALOJAMIENTO DURANTE EL MES DE LA ENCUESTA]]/1000","v":1.25},49,76,0,76,89,0,89,4]
[44166,{"$f":"DAY(EOMONTH(Base[[#This Row],[FECHA]],0))","v":31},{"$f":"PROPER(TEXT(Base[[#This Row],[FECHA]],\"MMMM\"))","v":"Diciembre"},{"$f":"YEAR(Base[[#This Row],[FECHA]])","v":2020},"PUIOAJ-00000068","La Mariscal","5 estrellas","Hotel",124,41317.47,{"$f":"Base[[#This Row],[VENTAS POR ALOJAMIENTO DURANTE EL MES DE LA ENCUESTA]]/1000","v":41.31747},832,200,632,832,200,1017,1217,29]
[44166,{"$f":"DAY(EOMONTH(Base[[#This Row],[FECHA]],0))","v":31},{"$f":"PROPER(TEXT(Base[[#This Row],[FECHA]],\"MMMM\"))","v":"Diciembre"},{"$f":"YEAR(Base[[#This Row],[FECHA]])","v":2020},"PUIOAJ-00000171","La Mariscal","3 estrellas","Hotel",20,13353,{"$f":"Base[[#This Row],[VENTAS POR ALOJAMIENTO DURANTE EL MES DE LA ENCUESTA]]/1000","v":13.353},272,204,0,204,373,0,373,16]
[44166,{"$f":"DAY(EOMONTH(Base[[#This Row],[FECHA]],0))","v":31},{"$f":"PROPER(TEXT(Base[[#This Row],[FECHA]],\"MMMM\"))","v":"Diciembre"},{"$f":"YEAR(Base[[#This Row],[FECHA]])","v":2020},"PUIOAJ-00001673","La Mariscal","4 estrellas","Hotel",55,9800,{"$f":"Base[[#This Row],[VENTAS POR ALOJAMIENTO DURANTE EL MES DE LA ENCUESTA]]/1000","v":9.8000000000000007},192,269,0,269,282,0,282,4]
[44166,{"$f":"DAY(EOMONTH(Base[[#This Row],[FECHA]],0))","v":31},{"$f":"PROPER(TEXT(Base[[#This Row],[FECHA]],\"MMMM\"))","v":"Diciembre"},{"$f":"YEAR(Base[[#This Row],[FECHA]])","v":2020},"PUIOAJ-00000024","Manuela Sáenz","4 estrellas","Hotel",18,null,{"$f":"Base[[#This Row],[VENTAS POR ALOJAMIENTO DURANTE EL MES DE LA ENCUESTA]]/1000","v":0},null,null,null,null,null,null,null,7]
[44166,{"$f":"DAY(EOMONTH(Base[[#This Row],[FECHA]],0))","v":31},{"$f":"PROPER(TEXT(Base[[#This Row],[FECHA]],\"MMMM\"))","v":"Diciembre"},{"$f":"YEAR(Base[[#This Row],[FECHA]])","v":2020},"PUIOAJ-00000430","Tumbaco","3 estrellas","Hacienda Turística",20,null,{"$f":"Base[[#This Row],[VENTAS POR ALOJAMIENTO DURANTE EL MES DE LA ENCUESTA]]/1000","v":0},null,null,null,null,null,null,null,1]
[44166,{"$f":"DAY(EOMONTH(Base[[#This Row],[FECHA]],0))","v":31},{"$f":"PROPER(TEXT(Base[[#This Row],[FECHA]],\"MMMM\"))","v":"Diciembre"},{"$f":"YEAR(Base[[#This Row],[FECHA]])","v":2020},"PUIOAJ-00000435","Manuela Sáenz","3 estrellas","Hostal",6,1800,{"$f":"Base[[#This Row],[VENTAS POR ALOJAMIENTO DURANTE EL MES DE LA ENCUESTA]]/1000","v":1.8},15,0,15,15,0,25,25,2]
[44166,{"$f":"DAY(EOMONTH(Base[[#This Row],[FECHA]],0))","v":31},{"$f":"PROPER(TEXT(Base[[#This Row],[FECHA]],\"MMMM\"))","v":"Diciembre"},{"$f":"YEAR(Base[[#This Row],[FECHA]])","v":2020},"PUIOAJ-00004839","Manuela Sáenz","4 estrellas","Hotel",8,220,{"$f":"Base[[#This Row],[VENTAS POR ALOJAMIENTO DURANTE EL MES DE LA ENCUESTA]]/1000","v":0.22},2,0,2,2,0,2,2]
[44166,{"$f":"DAY(EOMONTH(Base[[#This Row],[FECHA]],0))","v":31},{"$f":"PROPER(TEXT(Base[[#This Row],[FECHA]],\"MMMM\"))","v":"Diciembre"},{"$f":"YEAR(Base[[#This Row],[FECHA]])","v":2020},"PUIOAJ-00001397","Tumbaco","5 estrellas","Lodge",8,13700,{"$f":"Base[[#This Row],[VENTAS POR ALOJAMIENTO DURANTE EL MES DE LA ENCUESTA]]/1000","v":13.7},43,69,7,76,69,7,76,6]
[44166,{"$f":"DAY(EOMONTH(Base[[#This Row],[FECHA]],0))","v":31},{"$f":"PROPER(TEXT(Base[[#This Row],[FECHA]],\"MMMM\"))","v":"Diciembre"},{"$f":"YEAR(Base[[#This Row],[FECHA]])","v":2020},"PUIOAJ-00000172","La Mariscal","3 estrellas","Hotel",20,2000,{"$f":"Base[[#This Row],[VENTAS POR ALOJAMIENTO DURANTE EL MES DE LA ENCUESTA]]/1000","v":2},5,3,5,8,3,5,8,8]
[44166,{"$f":"DAY(EOMONTH(Base[[#This Row],[FECHA]],0))","v":31},{"$f":"PROPER(TEXT(Base[[#This Row],[FECHA]],\"MMMM\"))","v":"Diciembre"},{"$f":"YEAR(Base[[#This Row],[FECHA]])","v":2020},"PUIOAJ-00001468","La Mariscal","3 estrellas","Hostal",22,null,{"$f":"Base[[#This Row],[VENTAS POR ALOJAMIENTO DURANTE EL MES DE LA ENCUESTA]]/1000","v":0},null,null,null,null,null,null,null,2]
[44166,{"$f":"DAY(EOMONTH(Base[[#This Row],[FECHA]],0))","v":31},{"$f":"PROPER(TEXT(Base[[#This Row],[FECHA]],\"MMMM\"))","v":"Diciembre"},{"$f":"YEAR(Base[[#This Row],[FECHA]])","v":2020},"PUIOAJ-00000073","Eugenio Espejo","3 estrellas","Hotel",60,9804.31,{"$f":"Base[[#This Row],[VENTAS POR ALOJAMIENTO DURANTE EL MES DE LA ENCUESTA]]/1000","v":9.8043099999999992},195,165,9,174,197,18,215,13]
[44166,{"$f":"DAY(EOMONTH(Base[[#This Row],[FECHA]],0))","v":31},{"$f":"PROPER(TEXT(Base[[#This Row],[FECHA]],\"MMMM\"))","v":"Diciembre"},{"$f":"YEAR(Base[[#This Row],[FECHA]])","v":2020},"PUIOAJ-00000374","Los Chillos","4 estrellas","Hostería",13,2580,{"$f":"Base[[#This Row],[VENTAS POR ALOJAMIENTO DURANTE EL MES DE LA ENCUESTA]]/1000","v":2.58},38,71,2,73,71,2,73,4]
[44166,{"$f":"DAY(EOMONTH(Base[[#This Row],[FECHA]],0))","v":31},{"$f":"PROPER(TEXT(Base[[#This Row],[FECHA]],\"MMMM\"))","v":"Diciembre"},{"$f":"YEAR(Base[[#This Row],[FECHA]])","v":2020},"PUIOAJ-00000491","Manuela Sáenz","4 estrellas","Hotel",22,null,{"$f":"Base[[#This Row],[VENTAS POR ALOJAMIENTO DURANTE EL MES DE LA ENCUESTA]]/1000","v":0},null,null,null,null,null,null,null,5]
[44166,{"$f":"DAY(EOMONTH(Base[[#This Row],[FECHA]],0))","v":31},{"$f":"PROPER(TEXT(Base[[#This Row],[FECHA]],\"MMMM\"))","v":"Diciembre"},{"$f":"YEAR(Base[[#This Row],[FECHA]])","v":2020},"PUIOAJ-00000223","La Mariscal","4 estrellas","Hotel",141,30052.959999999999,{"$f":"Base[[#This Row],[VENTAS POR ALOJAMIENTO DURANTE EL MES DE LA ENCUESTA]]/1000","v":30.052959999999999},388,271,117,388,271,117,388,20]
[44197,{"$f":"DAY(EOMONTH(Base[[#This Row],[FECHA]],0))","v":31},{"$f":"PROPER(TEXT(Base[[#This Row],[FECHA]],\"MMMM\"))","v":"Enero"},{"$f":"YEAR(Base[[#This Row],[FECHA]])","v":2021},"PUIOAJ-00000021","La Mariscal","3 estrellas","Hotel",20,1800,{"$f":"Base[[#This Row],[VENTAS POR ALOJAMIENTO DURANTE EL MES DE LA ENCUESTA]]/1000","v":1.8},58,51,0,51,65,0,65,6]
[44197,{"$f":"DAY(EOMONTH(Base[[#This Row],[FECHA]],0))","v":31},{"$f":"PROPER(TEXT(Base[[#This Row],[FECHA]],\"MMMM\"))","v":"Enero"},{"$f":"YEAR(Base[[#This Row],[FECHA]])","v":2021},"PUIOAJ-00000024","Manuela Sáenz","4 estrellas","Hotel",18,null,{"$f":"Base[[#This Row],[VENTAS POR ALOJAMIENTO DURANTE EL MES DE LA ENCUESTA]]/1000","v":0},null,null,null,0,null,null,0,4]
[44197,{"$f":"DAY(EOMONTH(Base[[#This Row],[FECHA]],0))","v":31},{"$f":"PROPER(TEXT(Base[[#This Row],[FECHA]],\"MMMM\"))","v":"Enero"},{"$f":"YEAR(Base[[#This Row],[FECHA]])","v":2021},"PUIOAJ-00000063","La Mariscal","5 estrellas","Hotel",144,29054,{"$f":"Base[[#This Row],[VENTAS POR ALOJAMIENTO DURANTE EL MES DE LA ENCUESTA]]/1000","v":29.053999999999998},393,151,175,326,205,387,592,0]
[44197,{"$f":"DAY(EOMONTH(Base[[#This Row],[FECHA]],0))","v":31},{"$f":"PROPER(TEXT(Base[[#This Row],[FECHA]],\"MMMM\"))","v":"Enero"},{"$f":"YEAR(Base[[#This Row],[FECHA]])","v":2021},"PUIOAJ-00000070","Eugenio Espejo","5 estrellas","Hotel",128,157472,{"$f":"Base[[#This Row],[VENTAS POR ALOJAMIENTO DURANTE EL MES DE LA ENCUESTA]]/1000","v":157.47200000000001},1406,502,1101,1603,502,1101,1603,110]
[44197,{"$f":"DAY(EOMONTH(Base[[#This Row],[FECHA]],0))","v":31},{"$f":"PROPER(TEXT(Base[[#This Row],[FECHA]],\"MMMM\"))","v":"Enero"},{"$f":"YEAR(Base[[#This Row],[FECHA]])","v":2021},"PUIOAJ-00000073","Eugenio Espejo","3 estrellas","Hotel",60,4127.2,{"$f":"Base[[#This Row],[VENTAS POR ALOJAMIENTO DURANTE EL MES DE LA ENCUESTA]]/1000","v":4.1272000000000002},97,132,8,140,132,8,140,12]
[44197,{"$f":"DAY(EOMONTH(Base[[#This Row],[FECHA]],0))","v":31},{"$f":"PROPER(TEXT(Base[[#This Row],[FECHA]],\"MMMM\"))","v":"Enero"},{"$f":"YEAR(Base[[#This Row],[FECHA]])","v":2021},"PUIOAJ-00000111","La Delicia","3 estrellas","Lodge",6,1800,{"$f":"Base[[#This Row],[VENTAS POR ALOJAMIENTO DURANTE EL MES DE LA ENCUESTA]]/1000","v":1.8},10,2,5,7,5,5,10,1]
[44197,{"$f":"DAY(EOMONTH(Base[[#This Row],[FECHA]],0))","v":31},{"$f":"PROPER(TEXT(Base[[#This Row],[FECHA]],\"MMMM\"))","v":"Enero"},{"$f":"YEAR(Base[[#This Row],[FECHA]])","v":2021},"PUIOAJ-00000112","Eugenio Espejo","3 estrellas","Hostería",23,300,{"$f":"Base[[#This Row],[VENTAS POR ALOJAMIENTO DURANTE EL MES DE LA ENCUESTA]]/1000","v":0.3},3,6,0,6,6,0,6,4]
[44197,{"$f":"DAY(EOMONTH(Base[[#This Row],[FECHA]],0))","v":31},{"$f":"PROPER(TEXT(Base[[#This Row],[FECHA]],\"MMMM\"))","v":"Enero"},{"$f":"YEAR(Base[[#This Row],[FECHA]])","v":2021},"PUIOAJ-00000164","La Mariscal","4 estrellas","Hotel",100,31500,{"$f":"Base[[#This Row],[VENTAS POR ALOJAMIENTO DURANTE EL MES DE LA ENCUESTA]]/1000","v":31.5},450,450,70,520,450,70,520,36]
[44197,{"$f":"DAY(EOMONTH(Base[[#This Row],[FECHA]],0))","v":31},{"$f":"PROPER(TEXT(Base[[#This Row],[FECHA]],\"MMMM\"))","v":"Enero"},{"$f":"YEAR(Base[[#This Row],[FECHA]])","v":2021},"PUIOAJ-00000171","La Mariscal","3 estrellas","Hotel",20,12367,{"$f":"Base[[#This Row],[VENTAS POR ALOJAMIENTO DURANTE EL MES DE LA ENCUESTA]]/1000","v":12.367000000000001},104,111,3,114,165,7,172,16]
[44197,{"$f":"DAY(EOMONTH(Base[[#This Row],[FECHA]],0))","v":31},{"$f":"PROPER(TEXT(Base[[#This Row],[FECHA]],\"MMMM\"))","v":"Enero"},{"$f":"YEAR(Base[[#This Row],[FECHA]])","v":2021},"PUIOAJ-00000172","La Mariscal","3 estrellas","Hotel",20,1300,{"$f":"Base[[#This Row],[VENTAS POR ALOJAMIENTO DURANTE EL MES DE LA ENCUESTA]]/1000","v":1.3},9,3,0,3,9,0,9,5]
[44197,{"$f":"DAY(EOMONTH(Base[[#This Row],[FECHA]],0))","v":31},{"$f":"PROPER(TEXT(Base[[#This Row],[FECHA]],\"MMMM\"))","v":"Enero"},{"$f":"YEAR(Base[[#This Row],[FECHA]])","v":2021},"PUIOAJ-00000223","La Mariscal","4 estrellas","Hotel",141,35789,{"$f":"Base[[#This Row],[VENTAS POR ALOJAMIENTO DURANTE EL MES DE LA ENCUESTA]]/1000","v":35.789000000000001},450,225,225,450,225,225,450,20]
[44197,{"$f":"DAY(EOMONTH(Base[[#This Row],[FECHA]],0))","v":31},{"$f":"PROPER(TEXT(Base[[#This Row],[FECHA]],\"MMMM\"))","v":"Enero"},{"$f":"YEAR(Base[[#This Row],[FECHA]])","v":2021},"PUIOAJ-00000256","Manuela Sáenz","4 estrellas","Hotel",32,null,{"$f":"Base[[#This Row],[VENTAS POR ALOJAMIENTO DURANTE EL MES DE LA ENCUESTA]]/1000","v":0},null,null,null,0,null,null,0,3]
[44197,{"$f":"DAY(EOMONTH(Base[[#This Row],[FECHA]],0))","v":31},{"$f":"PROPER(TEXT(Base[[#This Row],[FECHA]],\"MMMM\"))","v":"Enero"},{"$f":"YEAR(Base[[#This Row],[FECHA]])","v":2021},"PUIOAJ-00000263","La Mariscal","4 estrellas","Hotel",44,7366,{"$f":"Base[[#This Row],[VENTAS POR ALOJAMIENTO DURANTE EL MES DE LA ENCUESTA]]/1000","v":7.3659999999999997},142,2,131,133,4,280,284,6]
[44197,{"$f":"DAY(EOMONTH(Base[[#This Row],[FECHA]],0))","v":31},{"$f":"PROPER(TEXT(Base[[#This Row],[FECHA]],\"MMMM\"))","v":"Enero"},{"$f":"YEAR(Base[[#This Row],[FECHA]])","v":2021},"PUIOAJ-00000278","Manuela Sáenz","3 estrellas","Hotel",14,450,{"$f":"Base[[#This Row],[VENTAS POR ALOJAMIENTO DURANTE EL MES DE LA ENCUESTA]]/1000","v":0.45},3,0,4,4,0,4,4,2]
[44197,{"$f":"DAY(EOMONTH(Base[[#This Row],[FECHA]],0))","v":31},{"$f":"PROPER(TEXT(Base[[#This Row],[FECHA]],\"MMMM\"))","v":"Enero"},{"$f":"YEAR(Base[[#This Row],[FECHA]])","v":2021},"PUIOAJ-00000298","Eugenio Espejo","3 estrellas","Hotel",35,null,{"$f":"Base[[#This Row],[VENTAS POR ALOJAMIENTO DURANTE EL MES DE LA ENCUESTA]]/1000","v":0},null,null,null,0,null,null,0,1]
[44197,{"$f":"DAY(EOMONTH(Base[[#This Row],[FECHA]],0))","v":31},{"$f":"PROPER(TEXT(Base[[#This Row],[FECHA]],\"MMMM\"))","v":"Enero"},{"$f":"YEAR(Base[[#This Row],[FECHA]])","v":2021},"PUIOAJ-00000374","Los Chillos","4 estrellas","Hostería",13,1600,{"$f":"Base[[#This Row],[VENTAS POR ALOJAMIENTO DURANTE EL MES DE LA ENCUESTA]]/1000","v":1.6},32,62,2,64,62,2,64,4]
[44197,{"$f":"DAY(EOMONTH(Base[[#This Row],[FECHA]],0))","v":31},{"$f":"PROPER(TEXT(Base[[#This Row],[FECHA]],\"MMMM\"))","v":"Enero"},{"$f":"YEAR(Base[[#This Row],[FECHA]])","v":2021},"PUIOAJ-00000430","Tumbaco","3 estrellas","Hacienda Turística",20,null,{"$f":"Base[[#This Row],[VENTAS POR ALOJAMIENTO DURANTE EL MES DE LA ENCUESTA]]/1000","v":0},null,null,null,0,null,null,0,1]
[44197,{"$f":"DAY(EOMONTH(Base[[#This Row],[FECHA]],0))","v":31},{"$f":"PROPER(TEXT(Base[[#This Row],[FECHA]],\"MMMM\"))","v":"Enero"},{"$f":"YEAR(Base[[#This Row],[FECHA]])","v":2021},"PUIOAJ-00000435","Manuela Sáenz","3 estrellas","Hostal",6,1400,{"$f":"Base[[#This Row],[VENTAS POR ALOJAMIENTO DURANTE EL MES DE LA ENCUESTA]]/1000","v":1.4},11,0,6,6,0,13,13,2]
[44197,{"$f":"DAY(EOMONTH(Base[[#This Row],[FECHA]],0))","v":31},{"$f":"PROPER(TEXT(Base[[#This Row],[FECHA]],\"MMMM\"))","v":"Enero"},{"$f":"YEAR(Base[[#This Row],[FECHA]])","v":2021},"PUIOAJ-00000520","La Delicia","3 estrellas","Hostería",9,686,{"$f":"Base[[#This Row],[VENTAS POR ALOJAMIENTO DURANTE EL MES DE LA ENCUESTA]]/1000","v":0.68600000000000005},11,8,1,9,8,7,15,9]
[44197,{"$f":"DAY(EOMONTH(Base[[#This Row],[FECHA]],0))","v":31},{"$f":"PROPER(TEXT(Base[[#This Row],[FECHA]],\"MMMM\"))","v":"Enero"},{"$f":"YEAR(Base[[#This Row],[FECHA]])","v":2021},"PUIOAJ-00000566","Eugenio Espejo","3 estrellas","Hostal",9,null,{"$f":"Base[[#This Row],[VENTAS POR ALOJAMIENTO DURANTE EL MES DE LA ENCUESTA]]/1000","v":0},null,null,null,0,null,null,0,1]
[44197,{"$f":"DAY(EOMONTH(Base[[#This Row],[FECHA]],0))","v":31},{"$f":"PROPER(TEXT(Base[[#This Row],[FECHA]],\"MMMM\"))","v":"Enero"},{"$f":"YEAR(Base[[#This Row],[FECHA]])","v":2021},"PUIOAJ-00001397","Tumbaco","5 estrellas","Lodge",7,4232,{"$f":"Base[[#This Row],[VENTAS POR ALOJAMIENTO DURANTE EL MES DE LA ENCUESTA]]/1000","v":4.2320000000000002},32,46,20,66,49,25,74,7]
[44197,{"$f":"DAY(EOMONTH(Base[[#This Row],[FECHA]],0))","v":31},{"$f":"PROPER(TEXT(Base[[#This Row],[FECHA]],\"MMMM\"))","v":"Enero"},{"$f":"YEAR(Base[[#This Row],[FECHA]])","v":2021},"PUIOAJ-00001468","La Mariscal","3 estrellas","Hostal",22,null,{"$f":"Base[[#This Row],[VENTAS POR ALOJAMIENTO DURANTE EL MES DE LA ENCUESTA]]/1000","v":0},null,null,null,0,null,null,0,2]
[44197,{"$f":"DAY(EOMONTH(Base[[#This Row],[FECHA]],0))","v":31},{"$f":"PROPER(TEXT(Base[[#This Row],[FECHA]],\"MMMM\"))","v":"Enero"},{"$f":"YEAR(Base[[#This Row],[FECHA]])","v":2021},"PUIOAJ-00001516","Los Chillos","3 estrellas","Hostería",13,null,{"$f":"Base[[#This Row],[VENTAS POR ALOJAMIENTO DURANTE EL MES DE LA ENCUESTA]]/1000","v":0},null,null,null,0,null,null,0,0]
[44197,{"$f":"DAY(EOMONTH(Base[[#This Row],[FECHA]],0))","v":31},{"$f":"PROPER(TEXT(Base[[#This Row],[FECHA]],\"MMMM\"))","v":"Enero"},{"$f":"YEAR(Base[[#This Row],[FECHA]])","v":2021},"PUIOAJ-00001543","Los Chillos","4 estrellas","Hacienda Turística",6,null,{"$f":"Base[[#This Row],[VENTAS POR ALOJAMIENTO DURANTE EL MES DE LA ENCUESTA]]/1000","v":0},null,null,null,0,null,null,0,2]
[44197,{"$f":"DAY(EOMONTH(Base[[#This Row],[FECHA]],0))","v":31},{"$f":"PROPER(TEXT(Base[[#This Row],[FECHA]],\"MMMM\"))","v":"Enero"},{"$f":"YEAR(Base[[#This Row],[FECHA]])","v":2021},"PUIOAJ-00001639","La Mariscal","3 estrellas","Hotel",17,2000,{"$f":"Base[[#This Row],[VENTAS POR ALOJAMIENTO DURANTE EL MES DE LA ENCUESTA]]/1000","v":2},100,100,0,100,100,0,100,0]
[44197,{"$f":"DAY(EOMONTH(Base[[#This Row],[FECHA]],0))","v":31},{"$f":"PROPER(TEXT(Base[[#This Row],[FECHA]],\"MMMM\"))","v":"Enero"},{"$f":"YEAR(Base[[#This Row],[FECHA]])","v":2021},"PUIOAJ-00001664","La Mariscal","3 estrellas","Hotel",15,140,{"$f":"Base[[#This Row],[VENTAS POR ALOJAMIENTO DURANTE EL MES DE LA ENCUESTA]]/1000","v":0.14000000000000001},4,0,4,4,4,0,4,7]
[44197,{"$f":"DAY(EOMONTH(Base[[#This Row],[FECHA]],0))","v":31},{"$f":"PROPER(TEXT(Base[[#This Row],[FECHA]],\"MMMM\"))","v":"Enero"},{"$f":"YEAR(Base[[#This Row],[FECHA]])","v":2021},"PUIOAJ-00001673","La Mariscal","4 estrellas","Hotel",55,8000,{"$f":"Base[[#This Row],[VENTAS POR ALOJAMIENTO DURANTE EL MES DE LA ENCUESTA]]/1000","v":8},168,150,18,168,150,18,168,14]
[44197,{"$f":"DAY(EOMONTH(Base[[#This Row],[FECHA]],0))","v":31},{"$f":"PROPER(TEXT(Base[[#This Row],[FECHA]],\"MMMM\"))","v":"Enero"},{"$f":"YEAR(Base[[#This Row],[FECHA]])","v":2021},"PUIOAJ-00004839","Manuela Sáenz","4 estrellas","Hotel",8,86,{"$f":"Base[[#This Row],[VENTAS POR ALOJAMIENTO DURANTE EL MES DE LA ENCUESTA]]/1000","v":8.5999999999999993E-2},1,1,1,2,1,1,2,1]
[44228,{"$f":"DAY(EOMONTH(Base[[#This Row],[FECHA]],0))","v":28},{"$f":"PROPER(TEXT(Base[[#This Row],[FECHA]],\"MMMM\"))","v":"Febrero"},{"$f":"YEAR(Base[[#This Row],[FECHA]])","v":2021},"PUIOAJ-00000024","Manuela Sáenz","4 estrellas","Hotel",18,null,{"$f":"Base[[#This Row],[VENTAS POR ALOJAMIENTO DURANTE EL MES DE LA ENCUESTA]]/1000","v":0},null,null,null,0,null,null,0,4]
[44228,{"$f":"DAY(EOMONTH(Base[[#This Row],[FECHA]],0))","v":28},{"$f":"PROPER(TEXT(Base[[#This Row],[FECHA]],\"MMMM\"))","v":"Febrero"},{"$f":"YEAR(Base[[#This Row],[FECHA]])","v":2021},"PUIOAJ-00000021","La Mariscal","3 estrellas","Hotel",20,3210,{"$f":"Base[[#This Row],[VENTAS POR ALOJAMIENTO DURANTE EL MES DE LA ENCUESTA]]/1000","v":3.21},106,89,9,98,97,14,111,5]
[44228,{"$f":"DAY(EOMONTH(Base[[#This Row],[FECHA]],0))","v":28},{"$f":"PROPER(TEXT(Base[[#This Row],[FECHA]],\"MMMM\"))","v":"Febrero"},{"$f":"YEAR(Base[[#This Row],[FECHA]])","v":2021},"PUIOAJ-00000067","Eugenio Espejo","4 estrellas","Hotel",60,15328.62,{"$f":"Base[[#This Row],[VENTAS POR ALOJAMIENTO DURANTE EL MES DE LA ENCUESTA]]/1000","v":15.328620000000001},264,136,21,157,202,62,264,0]
[44228,{"$f":"DAY(EOMONTH(Base[[#This Row],[FECHA]],0))","v":28},{"$f":"PROPER(TEXT(Base[[#This Row],[FECHA]],\"MMMM\"))","v":"Febrero"},{"$f":"YEAR(Base[[#This Row],[FECHA]])","v":2021},"PUIOAJ-00000070","Eugenio Espejo","5 estrellas","Hotel",128,83340,{"$f":"Base[[#This Row],[VENTAS POR ALOJAMIENTO DURANTE EL MES DE LA ENCUESTA]]/1000","v":83.34},926,548,678,1226,548,678,1226,110]
[44228,{"$f":"DAY(EOMONTH(Base[[#This Row],[FECHA]],0))","v":28},{"$f":"PROPER(TEXT(Base[[#This Row],[FECHA]],\"MMMM\"))","v":"Febrero"},{"$f":"YEAR(Base[[#This Row],[FECHA]])","v":2021},"PUIOAJ-00000073","Eugenio Espejo","3 estrellas","Hotel",60,4871.18,{"$f":"Base[[#This Row],[VENTAS POR ALOJAMIENTO DURANTE EL MES DE LA ENCUESTA]]/1000","v":4.8711800000000007},111,118,21,139,170,21,191,13]
[44228,{"$f":"DAY(EOMONTH(Base[[#This Row],[FECHA]],0))","v":28},{"$f":"PROPER(TEXT(Base[[#This Row],[FECHA]],\"MMMM\"))","v":"Febrero"},{"$f":"YEAR(Base[[#This Row],[FECHA]])","v":2021},"PUIOAJ-00000111","La Delicia","3 estrellas","Lodge",6,1362,{"$f":"Base[[#This Row],[VENTAS POR ALOJAMIENTO DURANTE EL MES DE LA ENCUESTA]]/1000","v":1.3620000000000001},5,5,2,7,5,3,8,5]
[44228,{"$f":"DAY(EOMONTH(Base[[#This Row],[FECHA]],0))","v":28},{"$f":"PROPER(TEXT(Base[[#This Row],[FECHA]],\"MMMM\"))","v":"Febrero"},{"$f":"YEAR(Base[[#This Row],[FECHA]])","v":2021},"PUIOAJ-00000112","Eugenio Espejo","3 estrellas","Hostería",23,500,{"$f":"Base[[#This Row],[VENTAS POR ALOJAMIENTO DURANTE EL MES DE LA ENCUESTA]]/1000","v":0.5},4,2,5,7,2,5,7,4]
[44228,{"$f":"DAY(EOMONTH(Base[[#This Row],[FECHA]],0))","v":28},{"$f":"PROPER(TEXT(Base[[#This Row],[FECHA]],\"MMMM\"))","v":"Febrero"},{"$f":"YEAR(Base[[#This Row],[FECHA]])","v":2021},"PUIOAJ-00000115","Tumbaco","4 estrellas","Hotel",78,30185.599999999999,{"$f":"Base[[#This Row],[VENTAS POR ALOJAMIENTO DURANTE EL MES DE LA ENCUESTA]]/1000","v":30.185599999999997},370,278,154,432,278,154,432,44]
[44228,{"$f":"DAY(EOMONTH(Base[[#This Row],[FECHA]],0))","v":28},{"$f":"PROPER(TEXT(Base[[#This Row],[FECHA]],\"MMMM\"))","v":"Febrero"},{"$f":"YEAR(Base[[#This Row],[FECHA]])","v":2021},"PUIOAJ-00000126","Eugenio Espejo","3 estrellas","Hostal",25,3139.41,{"$f":"Base[[#This Row],[VENTAS POR ALOJAMIENTO DURANTE EL MES DE LA ENCUESTA]]/1000","v":3.1394099999999998},28,28,0,28,28,0,28,1]
[44228,{"$f":"DAY(EOMONTH(Base[[#This Row],[FECHA]],0))","v":28},{"$f":"PROPER(TEXT(Base[[#This Row],[FECHA]],\"MMMM\"))","v":"Febrero"},{"$f":"YEAR(Base[[#This Row],[FECHA]])","v":2021},"PUIOAJ-00000163","Eugenio Espejo","4 estrellas","Hotel",24,2000,{"$f":"Base[[#This Row],[VENTAS POR ALOJAMIENTO DURANTE EL MES DE LA ENCUESTA]]/1000","v":2},22,15,7,22,15,7,22,12]
[44228,{"$f":"DAY(EOMONTH(Base[[#This Row],[FECHA]],0))","v":28},{"$f":"PROPER(TEXT(Base[[#This Row],[FECHA]],\"MMMM\"))","v":"Febrero"},{"$f":"YEAR(Base[[#This Row],[FECHA]])","v":2021},"PUIOAJ-00000164","La Mariscal","4 estrellas","Hotel",100,40600,{"$f":"Base[[#This Row],[VENTAS POR ALOJAMIENTO DURANTE EL MES DE LA ENCUESTA]]/1000","v":40.6},580,798,97,895,798,620,1418,35]
[44228,{"$f":"DAY(EOMONTH(Base[[#This Row],[FECHA]],0))","v":28},{"$f":"PROPER(TEXT(Base[[#This Row],[FECHA]],\"MMMM\"))","v":"Febrero"},{"$f":"YEAR(Base[[#This Row],[FECHA]])","v":2021},"PUIOAJ-00000181","Eugenio Espejo","4 estrellas","Hotel",90,64538.48,{"$f":"Base[[#This Row],[VENTAS POR ALOJAMIENTO DURANTE EL MES DE LA ENCUESTA]]/1000","v":64.538480000000007},1076,1509,168,1677,1509,168,1677,35]
[44228,{"$f":"DAY(EOMONTH(Base[[#This Row],[FECHA]],0))","v":28},{"$f":"PROPER(TEXT(Base[[#This Row],[FECHA]],\"MMMM\"))","v":"Febrero"},{"$f":"YEAR(Base[[#This Row],[FECHA]])","v":2021},"PUIOAJ-00000209","La Mariscal","3 estrellas","Hotel",15,null,{"$f":"Base[[#This Row],[VENTAS POR ALOJAMIENTO DURANTE EL MES DE LA ENCUESTA]]/1000","v":0},null,null,null,0,null,null,0,0]
[44228,{"$f":"DAY(EOMONTH(Base[[#This Row],[FECHA]],0))","v":28},{"$f":"PROPER(TEXT(Base[[#This Row],[FECHA]],\"MMMM\"))","v":"Febrero"},{"$f":"YEAR(Base[[#This Row],[FECHA]])","v":2021},"PUIOAJ-00000223","La Mariscal","4 estrellas","Hotel",141,39696.160000000003,{"$f":"Base[[#This Row],[VENTAS POR ALOJAMIENTO DURANTE EL MES DE LA ENCUESTA]]/1000","v":39.696160000000006},494,326,168,494,326,168,494,20]
[44228,{"$f":"DAY(EOMONTH(Base[[#This Row],[FECHA]],0))","v":28},{"$f":"PROPER(TEXT(Base[[#This Row],[FECHA]],\"MMMM\"))","v":"Febrero"},{"$f":"YEAR(Base[[#This Row],[FECHA]])","v":2021},"PUIOAJ-00000263","La Mariscal","4 estrellas","Hotel",44,2500,{"$f":"Base[[#This Row],[VENTAS POR ALOJAMIENTO DURANTE EL MES DE LA ENCUESTA]]/1000","v":2.5},44,0,80,80,0,80,80,8]
[44228,{"$f":"DAY(EOMONTH(Base[[#This Row],[FECHA]],0))","v":28},{"$f":"PROPER(TEXT(Base[[#This Row],[FECHA]],\"MMMM\"))","v":"Febrero"},{"$f":"YEAR(Base[[#This Row],[FECHA]])","v":2021},"PUIOAJ-00000374","Los Chillos","4 estrellas","Hostería",14,2344.08,{"$f":"Base[[#This Row],[VENTAS POR ALOJAMIENTO DURANTE EL MES DE LA ENCUESTA]]/1000","v":2.3440799999999999},35,72,10,82,72,10,82,4]
[44228,{"$f":"DAY(EOMONTH(Base[[#This Row],[FECHA]],0))","v":28},{"$f":"PROPER(TEXT(Base[[#This Row],[FECHA]],\"MMMM\"))","v":"Febrero"},{"$f":"YEAR(Base[[#This Row],[FECHA]])","v":2021},"PUIOAJ-00000381","La Delicia","3 estrellas","Hostería",8,1744.84,{"$f":"Base[[#This Row],[VENTAS POR ALOJAMIENTO DURANTE EL MES DE LA ENCUESTA]]/1000","v":1.7448399999999999},19,38,0,38,38,0,38,7]
[44228,{"$f":"DAY(EOMONTH(Base[[#This Row],[FECHA]],0))","v":28},{"$f":"PROPER(TEXT(Base[[#This Row],[FECHA]],\"MMMM\"))","v":"Febrero"},{"$f":"YEAR(Base[[#This Row],[FECHA]])","v":2021},"PUIOAJ-00000430","Tumbaco","3 estrellas","Hacienda Turística",20,null,{"$f":"Base[[#This Row],[VENTAS POR ALOJAMIENTO DURANTE EL MES DE LA ENCUESTA]]/1000","v":0},null,null,null,0,null,null,0,1]
[44228,{"$f":"DAY(EOMONTH(Base[[#This Row],[FECHA]],0))","v":28},{"$f":"PROPER(TEXT(Base[[#This Row],[FECHA]],\"MMMM\"))","v":"Febrero"},{"$f":"YEAR(Base[[#This Row],[FECHA]])","v":2021},"PUIOAJ-00000435","Manuela Sáenz","3 estrellas","Hostal",20,1200,{"$f":"Base[[#This Row],[VENTAS POR ALOJAMIENTO DURANTE EL MES DE LA ENCUESTA]]/1000","v":1.2},30,3,0,3,30,0,30,6]
[44228,{"$f":"DAY(EOMONTH(Base[[#This Row],[FECHA]],0))","v":28},{"$f":"PROPER(TEXT(Base[[#This Row],[FECHA]],\"MMMM\"))","v":"Febrero"},{"$f":"YEAR(Base[[#This Row],[FECHA]])","v":2021},"PUIOAJ-00000435","Manuela Sáenz","3 estrellas","Hostal",6,800,{"$f":"Base[[#This Row],[VENTAS POR ALOJAMIENTO DURANTE EL MES DE LA ENCUESTA]]/1000","v":0.8},6,0,6,6,0,8,8,2]
[44228,{"$f":"DAY(EOMONTH(Base[[#This Row],[FECHA]],0))","v":28},{"$f":"PROPER(TEXT(Base[[#This Row],[FECHA]],\"MMMM\"))","v":"Febrero"},{"$f":"YEAR(Base[[#This Row],[FECHA]])","v":2021},"PUIOAJ-00000520","La Delicia","3 estrellas","Hostería",12,28,{"$f":"Base[[#This Row],[VENTAS POR ALOJAMIENTO DURANTE EL MES DE LA ENCUESTA]]/1000","v":2.8000000000000001E-2},1,1,0,1,1,0,1,8]
[44228,{"$f":"DAY(EOMONTH(Base[[#This Row],[FECHA]],0))","v":28},{"$f":"PROPER(TEXT(Base[[#This Row],[FECHA]],\"MMMM\"))","v":"Febrero"},{"$f":"YEAR(Base[[#This Row],[FECHA]])","v":2021},"PUIOAJ-00001397","Tumbaco","5 estrellas","Lodge",7,4788,{"$f":"Base[[#This Row],[VENTAS POR ALOJAMIENTO DURANTE EL MES DE LA ENCUESTA]]/1000","v":4.7880000000000003},33,82,0,82,91,0,91,9]
[44228,{"$f":"DAY(EOMONTH(Base[[#This Row],[FECHA]],0))","v":28},{"$f":"PROPER(TEXT(Base[[#This Row],[FECHA]],\"MMMM\"))","v":"Febrero"},{"$f":"YEAR(Base[[#This Row],[FECHA]])","v":2021},"PUIOAJ-00001468","La Mariscal","3 estrellas","Hostal",22,null,{"$f":"Base[[#This Row],[VENTAS POR ALOJAMIENTO DURANTE EL MES DE LA ENCUESTA]]/1000","v":0},null,null,null,0,null,null,0,2]
[44228,{"$f":"DAY(EOMONTH(Base[[#This Row],[FECHA]],0))","v":28},{"$f":"PROPER(TEXT(Base[[#This Row],[FECHA]],\"MMMM\"))","v":"Febrero"},{"$f":"YEAR(Base[[#This Row],[FECHA]])","v":2021},"PUIOAJ-00001543","Los Chillos","4 estrellas","Hacienda Turística",6,168,{"$f":"Base[[#This Row],[VENTAS POR ALOJAMIENTO DURANTE EL MES DE LA ENCUESTA]]/1000","v":0.16800000000000001},6,1,0,1,6,0,6,2]
[44228,{"$f":"DAY(EOMONTH(Base[[#This Row],[FECHA]],0))","v":28},{"$f":"PROPER(TEXT(Base[[#This Row],[FECHA]],\"MMMM\"))","v":"Febrero"},{"$f":"YEAR(Base[[#This Row],[FECHA]])","v":2021},"PUIOAJ-00001673","La Mariscal","4 estrellas","Hotel",55,6600,{"$f":"Base[[#This Row],[VENTAS POR ALOJAMIENTO DURANTE EL MES DE LA ENCUESTA]]/1000","v":6.6},83,83,0,83,83,0,83,16]
[44228,{"$f":"DAY(EOMONTH(Base[[#This Row],[FECHA]],0))","v":28},{"$f":"PROPER(TEXT(Base[[#This Row],[FECHA]],\"MMMM\"))","v":"Febrero"},{"$f":"YEAR(Base[[#This Row],[FECHA]])","v":2021},"PUIOAJ-00004601","Eugenio Espejo","3 estrellas","Hotel",12,7880,{"$f":"Base[[#This Row],[VENTAS POR ALOJAMIENTO DURANTE EL MES DE LA ENCUESTA]]/1000","v":7.88},197,120,35,155,142,55,197,5]
[44256,{"$f":"DAY(EOMONTH(Base[[#This Row],[FECHA]],0))","v":31},{"$f":"PROPER(TEXT(Base[[#This Row],[FECHA]],\"MMMM\"))","v":"Marzo"},{"$f":"YEAR(Base[[#This Row],[FECHA]])","v":2021},"PUIOAJ-00000008","La Delicia","5 estrellas","Lodge",24,93000,{"$f":"Base[[#This Row],[VENTAS POR ALOJAMIENTO DURANTE EL MES DE LA ENCUESTA]]/1000","v":93},206,340,78,418,340,78,418,0]
[44256,{"$f":"DAY(EOMONTH(Base[[#This Row],[FECHA]],0))","v":31},{"$f":"PROPER(TEXT(Base[[#This Row],[FECHA]],\"MMMM\"))","v":"Marzo"},{"$f":"YEAR(Base[[#This Row],[FECHA]])","v":2021},"PUIOAJ-00000017","Eugenio Espejo","4 estrellas","Hotel",46,20248.34,{"$f":"Base[[#This Row],[VENTAS POR ALOJAMIENTO DURANTE EL MES DE LA ENCUESTA]]/1000","v":20.248339999999999},402,186,14,200,388,14,402,14]
[44256,{"$f":"DAY(EOMONTH(Base[[#This Row],[FECHA]],0))","v":31},{"$f":"PROPER(TEXT(Base[[#This Row],[FECHA]],\"MMMM\"))","v":"Marzo"},{"$f":"YEAR(Base[[#This Row],[FECHA]])","v":2021},"PUIOAJ-00000070","Eugenio Espejo","5 estrellas","Hotel",210,140504,{"$f":"Base[[#This Row],[VENTAS POR ALOJAMIENTO DURANTE EL MES DE LA ENCUESTA]]/1000","v":140.50399999999999},1544,1013,861,1874,1013,861,1874,109]
[44256,{"$f":"DAY(EOMONTH(Base[[#This Row],[FECHA]],0))","v":31},{"$f":"PROPER(TEXT(Base[[#This Row],[FECHA]],\"MMMM\"))","v":"Marzo"},{"$f":"YEAR(Base[[#This Row],[FECHA]])","v":2021},"PUIOAJ-00000067","Eugenio Espejo","4 estrellas","Hotel",215,14250.82,{"$f":"Base[[#This Row],[VENTAS POR ALOJAMIENTO DURANTE EL MES DE LA ENCUESTA]]/1000","v":14.250819999999999},213,192,21,213,192,21,213,20]
[44256,{"$f":"DAY(EOMONTH(Base[[#This Row],[FECHA]],0))","v":31},{"$f":"PROPER(TEXT(Base[[#This Row],[FECHA]],\"MMMM\"))","v":"Marzo"},{"$f":"YEAR(Base[[#This Row],[FECHA]])","v":2021},"PUIOAJ-00000072","La Mariscal","4 estrellas","Hotel",86,17272.62,{"$f":"Base[[#This Row],[VENTAS POR ALOJAMIENTO DURANTE EL MES DE LA ENCUESTA]]/1000","v":17.27262},328,240,88,328,240,88,328,32]
[44256,{"$f":"DAY(EOMONTH(Base[[#This Row],[FECHA]],0))","v":31},{"$f":"PROPER(TEXT(Base[[#This Row],[FECHA]],\"MMMM\"))","v":"Marzo"},{"$f":"YEAR(Base[[#This Row],[FECHA]])","v":2021},"PUIOAJ-00000073","Eugenio Espejo","3 estrellas","Hotel",74,9642.08,{"$f":"Base[[#This Row],[VENTAS POR ALOJAMIENTO DURANTE EL MES DE LA ENCUESTA]]/1000","v":9.64208},189,177,8,185,192,13,205,12]
[44256,{"$f":"DAY(EOMONTH(Base[[#This Row],[FECHA]],0))","v":31},{"$f":"PROPER(TEXT(Base[[#This Row],[FECHA]],\"MMMM\"))","v":"Marzo"},{"$f":"YEAR(Base[[#This Row],[FECHA]])","v":2021},"PUIOAJ-00000085","Manuela Sáenz","3 estrellas","Hotel",33,null,{"$f":"Base[[#This Row],[VENTAS POR ALOJAMIENTO DURANTE EL MES DE LA ENCUESTA]]/1000","v":0},null,null,null,0,null,null,0,1]
[44256,{"$f":"DAY(EOMONTH(Base[[#This Row],[FECHA]],0))","v":31},{"$f":"PROPER(TEXT(Base[[#This Row],[FECHA]],\"MMMM\"))","v":"Marzo"},{"$f":"YEAR(Base[[#This Row],[FECHA]])","v":2021},"PUIOAJ-00000111","La Delicia","3 estrellas","Lodge",9,null,{"$f":"Base[[#This Row],[VENTAS POR ALOJAMIENTO DURANTE EL MES DE LA ENCUESTA]]/1000","v":0},null,null,null,0,null,null,0,0]
[44256,{"$f":"DAY(EOMONTH(Base[[#This Row],[FECHA]],0))","v":31},{"$f":"PROPER(TEXT(Base[[#This Row],[FECHA]],\"MMMM\"))","v":"Marzo"},{"$f":"YEAR(Base[[#This Row],[FECHA]])","v":2021},"PUIOAJ-00000126","Eugenio Espejo","3 estrellas","Hostal",25,2781,{"$f":"Base[[#This Row],[VENTAS POR ALOJAMIENTO DURANTE EL MES DE LA ENCUESTA]]/1000","v":2.7810000000000001},30,30,0,30,30,0,30,1]
[44256,{"$f":"DAY(EOMONTH(Base[[#This Row],[FECHA]],0))","v":31},{"$f":"PROPER(TEXT(Base[[#This Row],[FECHA]],\"MMMM\"))","v":"Marzo"},{"$f":"YEAR(Base[[#This Row],[FECHA]])","v":2021},"PUIOAJ-00000140","La Delicia","3 estrellas","Hostería",12,null,{"$f":"Base[[#This Row],[VENTAS POR ALOJAMIENTO DURANTE EL MES DE LA ENCUESTA]]/1000","v":0},null,null,null,0,null,null,0,0]
[44256,{"$f":"DAY(EOMONTH(Base[[#This Row],[FECHA]],0))","v":31},{"$f":"PROPER(TEXT(Base[[#This Row],[FECHA]],\"MMMM\"))","v":"Marzo"},{"$f":"YEAR(Base[[#This Row],[FECHA]])","v":2021},"PUIOAJ-00000163","Eugenio Espejo","4 estrellas","Hotel",28,2400,{"$f":"Base[[#This Row],[VENTAS POR ALOJAMIENTO DURANTE EL MES DE LA ENCUESTA]]/1000","v":2.4},84,50,100,150,65,102,167,9]
[44256,{"$f":"DAY(EOMONTH(Base[[#This Row],[FECHA]],0))","v":31},{"$f":"PROPER(TEXT(Base[[#This Row],[FECHA]],\"MMMM\"))","v":"Marzo"},{"$f":"YEAR(Base[[#This Row],[FECHA]])","v":2021},"PUIOAJ-00000171","La Mariscal","3 estrellas","Hotel",40,10290,{"$f":"Base[[#This Row],[VENTAS POR ALOJAMIENTO DURANTE EL MES DE LA ENCUESTA]]/1000","v":10.29},208,218,4,222,287,95,382,14]
[44256,{"$f":"DAY(EOMONTH(Base[[#This Row],[FECHA]],0))","v":31},{"$f":"PROPER(TEXT(Base[[#This Row],[FECHA]],\"MMMM\"))","v":"Marzo"},{"$f":"YEAR(Base[[#This Row],[FECHA]])","v":2021},"PUIOAJ-00000172","La Mariscal","3 estrellas","Hotel",20,240,{"$f":"Base[[#This Row],[VENTAS POR ALOJAMIENTO DURANTE EL MES DE LA ENCUESTA]]/1000","v":0.24},4,4,0,4,4,0,4,6]
[44256,{"$f":"DAY(EOMONTH(Base[[#This Row],[FECHA]],0))","v":31},{"$f":"PROPER(TEXT(Base[[#This Row],[FECHA]],\"MMMM\"))","v":"Marzo"},{"$f":"YEAR(Base[[#This Row],[FECHA]])","v":2021},"PUIOAJ-00000181","Eugenio Espejo","4 estrellas","Hotel",90,90500,{"$f":"Base[[#This Row],[VENTAS POR ALOJAMIENTO DURANTE EL MES DE LA ENCUESTA]]/1000","v":90.5},1541,1500,41,1541,1500,41,1541,59]
[44256,{"$f":"DAY(EOMONTH(Base[[#This Row],[FECHA]],0))","v":31},{"$f":"PROPER(TEXT(Base[[#This Row],[FECHA]],\"MMMM\"))","v":"Marzo"},{"$f":"YEAR(Base[[#This Row],[FECHA]])","v":2021},"PUIOAJ-00000214","La Mariscal","3 estrellas","Hotel",26,2400,{"$f":"Base[[#This Row],[VENTAS POR ALOJAMIENTO DURANTE EL MES DE LA ENCUESTA]]/1000","v":2.4},52,15,37,52,15,37,52,1]
[44256,{"$f":"DAY(EOMONTH(Base[[#This Row],[FECHA]],0))","v":31},{"$f":"PROPER(TEXT(Base[[#This Row],[FECHA]],\"MMMM\"))","v":"Marzo"},{"$f":"YEAR(Base[[#This Row],[FECHA]])","v":2021},"PUIOAJ-00000223","La Mariscal","4 estrellas","Hotel",141,48426,{"$f":"Base[[#This Row],[VENTAS POR ALOJAMIENTO DURANTE EL MES DE LA ENCUESTA]]/1000","v":48.426000000000002},635,203,211,414,407,265,672,17]
[44256,{"$f":"DAY(EOMONTH(Base[[#This Row],[FECHA]],0))","v":31},{"$f":"PROPER(TEXT(Base[[#This Row],[FECHA]],\"MMMM\"))","v":"Marzo"},{"$f":"YEAR(Base[[#This Row],[FECHA]])","v":2021},"PUIOAJ-00000278","Manuela Sáenz","3 estrellas","Hotel",14,800,{"$f":"Base[[#This Row],[VENTAS POR ALOJAMIENTO DURANTE EL MES DE LA ENCUESTA]]/1000","v":0.8},5,0,2,2,0,5,5,3]
[44256,{"$f":"DAY(EOMONTH(Base[[#This Row],[FECHA]],0))","v":31},{"$f":"PROPER(TEXT(Base[[#This Row],[FECHA]],\"MMMM\"))","v":"Marzo"},{"$f":"YEAR(Base[[#This Row],[FECHA]])","v":2021},"PUIOAJ-00000290","La Delicia","4 estrellas","Lodge",17,2000,{"$f":"Base[[#This Row],[VENTAS POR ALOJAMIENTO DURANTE EL MES DE LA ENCUESTA]]/1000","v":2},16,15,40,55,15,40,55,15]
[44256,{"$f":"DAY(EOMONTH(Base[[#This Row],[FECHA]],0))","v":31},{"$f":"PROPER(TEXT(Base[[#This Row],[FECHA]],\"MMMM\"))","v":"Marzo"},{"$f":"YEAR(Base[[#This Row],[FECHA]])","v":2021},"PUIOAJ-00000299","Manuela Sáenz","4 estrellas","Hotel",31,59300,{"$f":"Base[[#This Row],[VENTAS POR ALOJAMIENTO DURANTE EL MES DE LA ENCUESTA]]/1000","v":59.3},185,84,278,362,84,278,362,0]
[44256,{"$f":"DAY(EOMONTH(Base[[#This Row],[FECHA]],0))","v":31},{"$f":"PROPER(TEXT(Base[[#This Row],[FECHA]],\"MMMM\"))","v":"Marzo"},{"$f":"YEAR(Base[[#This Row],[FECHA]])","v":2021},"PUIOAJ-00000374","Los Chillos","4 estrellas","Hostería",10,2040.66,{"$f":"Base[[#This Row],[VENTAS POR ALOJAMIENTO DURANTE EL MES DE LA ENCUESTA]]/1000","v":2.0406599999999999},33,59,6,65,59,6,65,15]
[44256,{"$f":"DAY(EOMONTH(Base[[#This Row],[FECHA]],0))","v":31},{"$f":"PROPER(TEXT(Base[[#This Row],[FECHA]],\"MMMM\"))","v":"Marzo"},{"$f":"YEAR(Base[[#This Row],[FECHA]])","v":2021},"PUIOAJ-00000381","La Delicia","3 estrellas","Hostería",8,450,{"$f":"Base[[#This Row],[VENTAS POR ALOJAMIENTO DURANTE EL MES DE LA ENCUESTA]]/1000","v":0.45},6,15,0,15,15,0,15,3]
[44256,{"$f":"DAY(EOMONTH(Base[[#This Row],[FECHA]],0))","v":31},{"$f":"PROPER(TEXT(Base[[#This Row],[FECHA]],\"MMMM\"))","v":"Marzo"},{"$f":"YEAR(Base[[#This Row],[FECHA]])","v":2021},"PUIOAJ-00000430","Tumbaco","3 estrellas","Hacienda Turística",20,null,{"$f":"Base[[#This Row],[VENTAS POR ALOJAMIENTO DURANTE EL MES DE LA ENCUESTA]]/1000","v":0},null,null,null,0,null,null,0,1]
[44256,{"$f":"DAY(EOMONTH(Base[[#This Row],[FECHA]],0))","v":31},{"$f":"PROPER(TEXT(Base[[#This Row],[FECHA]],\"MMMM\"))","v":"Marzo"},{"$f":"YEAR(Base[[#This Row],[FECHA]])","v":2021},"PUIOAJ-00000435","Manuela Sáenz","3 estrellas","Hostal",6,1400,{"$f":"Base[[#This Row],[VENTAS POR ALOJAMIENTO DURANTE EL MES DE LA ENCUESTA]]/1000","v":1.4},8,0,8,8,0,8,8,2]
[44256,{"$f":"DAY(EOMONTH(Base[[#This Row],[FECHA]],0))","v":31},{"$f":"PROPER(TEXT(Base[[#This Row],[FECHA]],\"MMMM\"))","v":"Marzo"},{"$f":"YEAR(Base[[#This Row],[FECHA]])","v":2021},"PUIOAJ-00000632","Eugenio Espejo","3 estrellas","Hostería",7,80,{"$f":"Base[[#This Row],[VENTAS POR ALOJAMIENTO DURANTE EL MES DE LA ENCUESTA]]/1000","v":0.08},1,1,0,1,1,0,1,2]
[44256,{"$f":"DAY(EOMONTH(Base[[#This Row],[FECHA]],0))","v":31},{"$f":"PROPER(TEXT(Base[[#This Row],[FECHA]],\"MMMM\"))","v":"Marzo"},{"$f":"YEAR(Base[[#This Row],[FECHA]])","v":2021},"PUIOAJ-00001397","Tumbaco","5 estrellas","Lodge",7,3483.24,{"$f":"Base[[#This Row],[VENTAS POR ALOJAMIENTO DURANTE EL MES DE LA ENCUESTA]]/1000","v":3.4832399999999999},28,63,3,66,68,3,71,7]
[44256,{"$f":"DAY(EOMONTH(Base[[#This Row],[FECHA]],0))","v":31},{"$f":"PROPER(TEXT(Base[[#This Row],[FECHA]],\"MMMM\"))","v":"Marzo"},{"$f":"YEAR(Base[[#This Row],[FECHA]])","v":2021},"PUIOAJ-00001468","La Mariscal","3 estrellas","Hostal",22,null,{"$f":"Base[[#This Row],[VENTAS POR ALOJAMIENTO DURANTE EL MES DE LA ENCUESTA]]/1000","v":0},null,null,null,0,null,null,0,2]
[44256,{"$f":"DAY(EOMONTH(Base[[#This Row],[FECHA]],0))","v":31},{"$f":"PROPER(TEXT(Base[[#This Row],[FECHA]],\"MMMM\"))","v":"Marzo"},{"$f":"YEAR(Base[[#This Row],[FECHA]])","v":2021},"PUIOAJ-00001673","La Mariscal","4 estrellas","Hotel",55,11000,{"$f":"Base[[#This Row],[VENTAS POR ALOJAMIENTO DURANTE EL MES DE LA ENCUESTA]]/1000","v":11},229,200,104,304,200,104,304,14]
[44287,{"$f":"DAY(EOMONTH(Base[[#This Row],[FECHA]],0))","v":30},{"$f":"PROPER(TEXT(Base[[#This Row],[FECHA]],\"MMMM\"))","v":"Abril"},{"$f":"YEAR(Base[[#This Row],[FECHA]])","v":2021},"PUIOAJ-00004601","Eugenio Espejo","3 estrellas","Hotel",12,3345,{"$f":"Base[[#This Row],[VENTAS POR ALOJAMIENTO DURANTE EL MES DE LA ENCUESTA]]/1000","v":3.3450000000000002},128,83,45,128,83,45,128,5]
[44287,{"$f":"DAY(EOMONTH(Base[[#This Row],[FECHA]],0))","v":30},{"$f":"PROPER(TEXT(Base[[#This Row],[FECHA]],\"MMMM\"))","v":"Abril"},{"$f":"YEAR(Base[[#This Row],[FECHA]])","v":2021},"PUIOAJ-00000435","Manuela Sáenz","3 estrellas","Hostal",6,1800,{"$f":"Base[[#This Row],[VENTAS POR ALOJAMIENTO DURANTE EL MES DE LA ENCUESTA]]/1000","v":1.8},12,0,10,10,0,15,15,2]
[44287,{"$f":"DAY(EOMONTH(Base[[#This Row],[FECHA]],0))","v":30},{"$f":"PROPER(TEXT(Base[[#This Row],[FECHA]],\"MMMM\"))","v":"Abril"},{"$f":"YEAR(Base[[#This Row],[FECHA]])","v":2021},"PUIOAJ-00001397","Tumbaco","5 estrellas","Lodge",7,2905,{"$f":"Base[[#This Row],[VENTAS POR ALOJAMIENTO DURANTE EL MES DE LA ENCUESTA]]/1000","v":2.9049999999999998},27,35,13,48,45,17,62,6]
[44287,{"$f":"DAY(EOMONTH(Base[[#This Row],[FECHA]],0))","v":30},{"$f":"PROPER(TEXT(Base[[#This Row],[FECHA]],\"MMMM\"))","v":"Abril"},{"$f":"YEAR(Base[[#This Row],[FECHA]])","v":2021},"PUIOAJ-00000223","La Mariscal","4 estrellas","Hotel",141,37436,{"$f":"Base[[#This Row],[VENTAS POR ALOJAMIENTO DURANTE EL MES DE LA ENCUESTA]]/1000","v":37.436},509,135,120,255,262,345,607,17]
[44287,{"$f":"DAY(EOMONTH(Base[[#This Row],[FECHA]],0))","v":30},{"$f":"PROPER(TEXT(Base[[#This Row],[FECHA]],\"MMMM\"))","v":"Abril"},{"$f":"YEAR(Base[[#This Row],[FECHA]])","v":2021},"PUIOAJ-00000520","La Delicia","3 estrellas","Hostería",14,206,{"$f":"Base[[#This Row],[VENTAS POR ALOJAMIENTO DURANTE EL MES DE LA ENCUESTA]]/1000","v":0.20599999999999999},3,3,0,3,6,0,6,7]
[44287,{"$f":"DAY(EOMONTH(Base[[#This Row],[FECHA]],0))","v":30},{"$f":"PROPER(TEXT(Base[[#This Row],[FECHA]],\"MMMM\"))","v":"Abril"},{"$f":"YEAR(Base[[#This Row],[FECHA]])","v":2021},"PUIOAJ-00000381","La Delicia","3 estrellas","Hostería",8,680,{"$f":"Base[[#This Row],[VENTAS POR ALOJAMIENTO DURANTE EL MES DE LA ENCUESTA]]/1000","v":0.68},18,20,15,35,20,15,35,3]
[44287,{"$f":"DAY(EOMONTH(Base[[#This Row],[FECHA]],0))","v":30},{"$f":"PROPER(TEXT(Base[[#This Row],[FECHA]],\"MMMM\"))","v":"Abril"},{"$f":"YEAR(Base[[#This Row],[FECHA]])","v":2021},"PUIOAJ-00000374","Los Chillos","4 estrellas","Hostería",10,1600,{"$f":"Base[[#This Row],[VENTAS POR ALOJAMIENTO DURANTE EL MES DE LA ENCUESTA]]/1000","v":1.6},25,31,7,38,31,7,38,14]
[44287,{"$f":"DAY(EOMONTH(Base[[#This Row],[FECHA]],0))","v":30},{"$f":"PROPER(TEXT(Base[[#This Row],[FECHA]],\"MMMM\"))","v":"Abril"},{"$f":"YEAR(Base[[#This Row],[FECHA]])","v":2021},"PUIOAJ-00000171","La Mariscal","3 estrellas","Hotel",40,6518,{"$f":"Base[[#This Row],[VENTAS POR ALOJAMIENTO DURANTE EL MES DE LA ENCUESTA]]/1000","v":6.5179999999999998},83,112,6,118,191,22,213,14]
[44287,{"$f":"DAY(EOMONTH(Base[[#This Row],[FECHA]],0))","v":30},{"$f":"PROPER(TEXT(Base[[#This Row],[FECHA]],\"MMMM\"))","v":"Abril"},{"$f":"YEAR(Base[[#This Row],[FECHA]])","v":2021},"PUIOAJ-00000021","La Mariscal","3 estrellas","Hotel",41,2933,{"$f":"Base[[#This Row],[VENTAS POR ALOJAMIENTO DURANTE EL MES DE LA ENCUESTA]]/1000","v":2.9329999999999998},110,81,0,81,110,0,110,5]
[44287,{"$f":"DAY(EOMONTH(Base[[#This Row],[FECHA]],0))","v":30},{"$f":"PROPER(TEXT(Base[[#This Row],[FECHA]],\"MMMM\"))","v":"Abril"},{"$f":"YEAR(Base[[#This Row],[FECHA]])","v":2021},"PUIOAJ-00000172","La Mariscal","3 estrellas","Hotel",20,800,{"$f":"Base[[#This Row],[VENTAS POR ALOJAMIENTO DURANTE EL MES DE LA ENCUESTA]]/1000","v":0.8},10,8,2,10,14,6,20,7]
[44287,{"$f":"DAY(EOMONTH(Base[[#This Row],[FECHA]],0))","v":30},{"$f":"PROPER(TEXT(Base[[#This Row],[FECHA]],\"MMMM\"))","v":"Abril"},{"$f":"YEAR(Base[[#This Row],[FECHA]])","v":2021},"PUIOAJ-00000299","Manuela Sáenz","4 estrellas","Hotel",31,78345,{"$f":"Base[[#This Row],[VENTAS POR ALOJAMIENTO DURANTE EL MES DE LA ENCUESTA]]/1000","v":78.344999999999999},332,182,363,545,182,363,545,0]
[44287,{"$f":"DAY(EOMONTH(Base[[#This Row],[FECHA]],0))","v":30},{"$f":"PROPER(TEXT(Base[[#This Row],[FECHA]],\"MMMM\"))","v":"Abril"},{"$f":"YEAR(Base[[#This Row],[FECHA]])","v":2021},"PUIOAJ-00001673","La Mariscal","4 estrellas","Hotel",55,6000,{"$f":"Base[[#This Row],[VENTAS POR ALOJAMIENTO DURANTE EL MES DE LA ENCUESTA]]/1000","v":6},113,90,23,113,90,23,113,14]
[44287,{"$f":"DAY(EOMONTH(Base[[#This Row],[FECHA]],0))","v":30},{"$f":"PROPER(TEXT(Base[[#This Row],[FECHA]],\"MMMM\"))","v":"Abril"},{"$f":"YEAR(Base[[#This Row],[FECHA]])","v":2021},"PUIOAJ-00000067","Eugenio Espejo","4 estrellas","Hotel",215,16184.56,{"$f":"Base[[#This Row],[VENTAS POR ALOJAMIENTO DURANTE EL MES DE LA ENCUESTA]]/1000","v":16.184560000000001},257,135,19,154,176,79,255,0]
[44287,{"$f":"DAY(EOMONTH(Base[[#This Row],[FECHA]],0))","v":30},{"$f":"PROPER(TEXT(Base[[#This Row],[FECHA]],\"MMMM\"))","v":"Abril"},{"$f":"YEAR(Base[[#This Row],[FECHA]])","v":2021},"PUIOAJ-00000164","La Mariscal","4 estrellas","Hotel",100,43900,{"$f":"Base[[#This Row],[VENTAS POR ALOJAMIENTO DURANTE EL MES DE LA ENCUESTA]]/1000","v":43.9},605,536,69,605,536,480,1016,33]
[44287,{"$f":"DAY(EOMONTH(Base[[#This Row],[FECHA]],0))","v":30},{"$f":"PROPER(TEXT(Base[[#This Row],[FECHA]],\"MMMM\"))","v":"Abril"},{"$f":"YEAR(Base[[#This Row],[FECHA]])","v":2021},"PUIOAJ-00000073","Eugenio Espejo","3 estrellas","Hotel",74,10333.16,{"$f":"Base[[#This Row],[VENTAS POR ALOJAMIENTO DURANTE EL MES DE LA ENCUESTA]]/1000","v":10.333159999999999},186,157,29,186,271,31,302,12]
[44287,{"$f":"DAY(EOMONTH(Base[[#This Row],[FECHA]],0))","v":30},{"$f":"PROPER(TEXT(Base[[#This Row],[FECHA]],\"MMMM\"))","v":"Abril"},{"$f":"YEAR(Base[[#This Row],[FECHA]])","v":2021},"PUIOAJ-00000263","La Mariscal","4 estrellas","Hotel",31,2862,{"$f":"Base[[#This Row],[VENTAS POR ALOJAMIENTO DURANTE EL MES DE LA ENCUESTA]]/1000","v":2.8620000000000001},77,6,100,106,54,100,154,7]
[44287,{"$f":"DAY(EOMONTH(Base[[#This Row],[FECHA]],0))","v":30},{"$f":"PROPER(TEXT(Base[[#This Row],[FECHA]],\"MMMM\"))","v":"Abril"},{"$f":"YEAR(Base[[#This Row],[FECHA]])","v":2021},"PUIOAJ-00000491","Manuela Sáenz","4 estrellas","Hotel",22,7174,{"$f":"Base[[#This Row],[VENTAS POR ALOJAMIENTO DURANTE EL MES DE LA ENCUESTA]]/1000","v":7.1740000000000004},61,0,61,61,0,61,61,6]
[44287,{"$f":"DAY(EOMONTH(Base[[#This Row],[FECHA]],0))","v":30},{"$f":"PROPER(TEXT(Base[[#This Row],[FECHA]],\"MMMM\"))","v":"Abril"},{"$f":"YEAR(Base[[#This Row],[FECHA]])","v":2021},"PUIOAJ-00001540","Tumbaco","5 estrellas","Hacienda Turística",9,1344,{"$f":"Base[[#This Row],[VENTAS POR ALOJAMIENTO DURANTE EL MES DE LA ENCUESTA]]/1000","v":1.3440000000000001},12,24,0,24,24,0,24,8]
[44287,{"$f":"DAY(EOMONTH(Base[[#This Row],[FECHA]],0))","v":30},{"$f":"PROPER(TEXT(Base[[#This Row],[FECHA]],\"MMMM\"))","v":"Abril"},{"$f":"YEAR(Base[[#This Row],[FECHA]])","v":2021},"PUIOAJ-00000008","La Delicia","5 estrellas","Lodge",24,47078.75,{"$f":"Base[[#This Row],[VENTAS POR ALOJAMIENTO DURANTE EL MES DE LA ENCUESTA]]/1000","v":47.078749999999999},293,494,160,654,494,160,654,0]
[44287,{"$f":"DAY(EOMONTH(Base[[#This Row],[FECHA]],0))","v":30},{"$f":"PROPER(TEXT(Base[[#This Row],[FECHA]],\"MMMM\"))","v":"Abril"},{"$f":"YEAR(Base[[#This Row],[FECHA]])","v":2021},"PUIOAJ-00000163","Eugenio Espejo","4 estrellas","Hotel",28,5000,{"$f":"Base[[#This Row],[VENTAS POR ALOJAMIENTO DURANTE EL MES DE LA ENCUESTA]]/1000","v":5},42,32,10,42,32,10,42,12]
[44287,{"$f":"DAY(EOMONTH(Base[[#This Row],[FECHA]],0))","v":30},{"$f":"PROPER(TEXT(Base[[#This Row],[FECHA]],\"MMMM\"))","v":"Abril"},{"$f":"YEAR(Base[[#This Row],[FECHA]])","v":2021},"PUIOAJ-00000111","La Delicia","3 estrellas","Lodge",10,4752.04,{"$f":"Base[[#This Row],[VENTAS POR ALOJAMIENTO DURANTE EL MES DE LA ENCUESTA]]/1000","v":4.75204},15,0,7,7,0,15,15,4]
[44287,{"$f":"DAY(EOMONTH(Base[[#This Row],[FECHA]],0))","v":30},{"$f":"PROPER(TEXT(Base[[#This Row],[FECHA]],\"MMMM\"))","v":"Abril"},{"$f":"YEAR(Base[[#This Row],[FECHA]])","v":2021},"PUIOAJ-00000430","Tumbaco","3 estrellas","Hacienda Turística",20,null,{"$f":"Base[[#This Row],[VENTAS POR ALOJAMIENTO DURANTE EL MES DE LA ENCUESTA]]/1000","v":0},null,null,null,0,null,null,0,1]
[44287,{"$f":"DAY(EOMONTH(Base[[#This Row],[FECHA]],0))","v":30},{"$f":"PROPER(TEXT(Base[[#This Row],[FECHA]],\"MMMM\"))","v":"Abril"},{"$f":"YEAR(Base[[#This Row],[FECHA]])","v":2021},"PUIOAJ-00000181","Eugenio Espejo","4 estrellas","Hotel",90,60000,{"$f":"Base[[#This Row],[VENTAS POR ALOJAMIENTO DURANTE EL MES DE LA ENCUESTA]]/1000","v":60},1146,1100,46,1146,1100,46,1146,44]
[44317,{"$f":"DAY(EOMONTH(Base[[#This Row],[FECHA]],0))","v":31},{"$f":"PROPER(TEXT(Base[[#This Row],[FECHA]],\"MMMM\"))","v":"Mayo"},{"$f":"YEAR(Base[[#This Row],[FECHA]])","v":2021},"PUIOAJ-00001468","La Mariscal","3 estrellas","Hostal",22,null,{"$f":"Base[[#This Row],[VENTAS POR ALOJAMIENTO DURANTE EL MES DE LA ENCUESTA]]/1000","v":0},null,null,null,null,null,null,null,2]
[44317,{"$f":"DAY(EOMONTH(Base[[#This Row],[FECHA]],0))","v":31},{"$f":"PROPER(TEXT(Base[[#This Row],[FECHA]],\"MMMM\"))","v":"Mayo"},{"$f":"YEAR(Base[[#This Row],[FECHA]])","v":2021},"PUIOAJ-00000072","La Mariscal","4 estrellas","Hotel",86,19883,{"$f":"Base[[#This Row],[VENTAS POR ALOJAMIENTO DURANTE EL MES DE LA ENCUESTA]]/1000","v":19.882999999999999},360,432,60,492,750,180,930,42]
[44317,{"$f":"DAY(EOMONTH(Base[[#This Row],[FECHA]],0))","v":31},{"$f":"PROPER(TEXT(Base[[#This Row],[FECHA]],\"MMMM\"))","v":"Mayo"},{"$f":"YEAR(Base[[#This Row],[FECHA]])","v":2021},"PUIOAJ-00000370","Eugenio Espejo","4 estrellas","Hotel",30,23512.69,{"$f":"Base[[#This Row],[VENTAS POR ALOJAMIENTO DURANTE EL MES DE LA ENCUESTA]]/1000","v":23.512689999999999},312,60,40,100,142,197,339,23]
[44317,{"$f":"DAY(EOMONTH(Base[[#This Row],[FECHA]],0))","v":31},{"$f":"PROPER(TEXT(Base[[#This Row],[FECHA]],\"MMMM\"))","v":"Mayo"},{"$f":"YEAR(Base[[#This Row],[FECHA]])","v":2021},"PUIOAJ-00000067","Eugenio Espejo","4 estrellas","Hotel",215,26627.47,{"$f":"Base[[#This Row],[VENTAS POR ALOJAMIENTO DURANTE EL MES DE LA ENCUESTA]]/1000","v":26.627470000000002},430,187,37,224,254,176,430]
[44317,{"$f":"DAY(EOMONTH(Base[[#This Row],[FECHA]],0))","v":31},{"$f":"PROPER(TEXT(Base[[#This Row],[FECHA]],\"MMMM\"))","v":"Mayo"},{"$f":"YEAR(Base[[#This Row],[FECHA]])","v":2021},"PUIOAJ-00001673","La Mariscal","4 estrellas","Hotel",55,7014,{"$f":"Base[[#This Row],[VENTAS POR ALOJAMIENTO DURANTE EL MES DE LA ENCUESTA]]/1000","v":7.0140000000000002},140,100,40,140,140,40,180,14]
[44317,{"$f":"DAY(EOMONTH(Base[[#This Row],[FECHA]],0))","v":31},{"$f":"PROPER(TEXT(Base[[#This Row],[FECHA]],\"MMMM\"))","v":"Mayo"},{"$f":"YEAR(Base[[#This Row],[FECHA]])","v":2021},"PUIOAJ-00000223","La Mariscal","4 estrellas","Hotel",141,52117,{"$f":"Base[[#This Row],[VENTAS POR ALOJAMIENTO DURANTE EL MES DE LA ENCUESTA]]/1000","v":52.116999999999997},720,455,424,879,455,424,879,17]
[44317,{"$f":"DAY(EOMONTH(Base[[#This Row],[FECHA]],0))","v":31},{"$f":"PROPER(TEXT(Base[[#This Row],[FECHA]],\"MMMM\"))","v":"Mayo"},{"$f":"YEAR(Base[[#This Row],[FECHA]])","v":2021},"PUIOAJ-00000632","Eugenio Espejo","3 estrellas","Hostería",6,665,{"$f":"Base[[#This Row],[VENTAS POR ALOJAMIENTO DURANTE EL MES DE LA ENCUESTA]]/1000","v":0.66500000000000004},7,7,0,7,28,0,28,6]
[44317,{"$f":"DAY(EOMONTH(Base[[#This Row],[FECHA]],0))","v":31},{"$f":"PROPER(TEXT(Base[[#This Row],[FECHA]],\"MMMM\"))","v":"Mayo"},{"$f":"YEAR(Base[[#This Row],[FECHA]])","v":2021},"PUIOAJ-00000520","La Delicia","3 estrellas","Hostería",14,650,{"$f":"Base[[#This Row],[VENTAS POR ALOJAMIENTO DURANTE EL MES DE LA ENCUESTA]]/1000","v":0.65},5,3,2,5,3,2,5,7]
[44317,{"$f":"DAY(EOMONTH(Base[[#This Row],[FECHA]],0))","v":31},{"$f":"PROPER(TEXT(Base[[#This Row],[FECHA]],\"MMMM\"))","v":"Mayo"},{"$f":"YEAR(Base[[#This Row],[FECHA]])","v":2021},"PUIOAJ-00000111","La Delicia","3 estrellas","Lodge",10,3285.75,{"$f":"Base[[#This Row],[VENTAS POR ALOJAMIENTO DURANTE EL MES DE LA ENCUESTA]]/1000","v":3.2857500000000002},12,0,5,5,0,9,9,4]
[44317,{"$f":"DAY(EOMONTH(Base[[#This Row],[FECHA]],0))","v":31},{"$f":"PROPER(TEXT(Base[[#This Row],[FECHA]],\"MMMM\"))","v":"Mayo"},{"$f":"YEAR(Base[[#This Row],[FECHA]])","v":2021},"PUIOAJ-00001342","Manuela Sáenz","3 estrellas","Hotel",6,3000,{"$f":"Base[[#This Row],[VENTAS POR ALOJAMIENTO DURANTE EL MES DE LA ENCUESTA]]/1000","v":3},17,17,17,34,17,17,34,3]
[44317,{"$f":"DAY(EOMONTH(Base[[#This Row],[FECHA]],0))","v":31},{"$f":"PROPER(TEXT(Base[[#This Row],[FECHA]],\"MMMM\"))","v":"Mayo"},{"$f":"YEAR(Base[[#This Row],[FECHA]])","v":2021},"PUIOAJ-00000299","Manuela Sáenz","4 estrellas","Hotel",31,77165.460000000006,{"$f":"Base[[#This Row],[VENTAS POR ALOJAMIENTO DURANTE EL MES DE LA ENCUESTA]]/1000","v":77.16546000000001},327,118,463,581,118,463,581,0]
[44317,{"$f":"DAY(EOMONTH(Base[[#This Row],[FECHA]],0))","v":31},{"$f":"PROPER(TEXT(Base[[#This Row],[FECHA]],\"MMMM\"))","v":"Mayo"},{"$f":"YEAR(Base[[#This Row],[FECHA]])","v":2021},"PUIOAJ-00001642","Eugenio Espejo","3 estrellas","Hotel",151,59687.89,{"$f":"Base[[#This Row],[VENTAS POR ALOJAMIENTO DURANTE EL MES DE LA ENCUESTA]]/1000","v":59.687889999999996},1108,1276,100,1376,1276,100,1376,24]
[44317,{"$f":"DAY(EOMONTH(Base[[#This Row],[FECHA]],0))","v":31},{"$f":"PROPER(TEXT(Base[[#This Row],[FECHA]],\"MMMM\"))","v":"Mayo"},{"$f":"YEAR(Base[[#This Row],[FECHA]])","v":2021},"PUIOAJ-00000008","La Delicia","5 estrellas","Lodge",24,42429.72,{"$f":"Base[[#This Row],[VENTAS POR ALOJAMIENTO DURANTE EL MES DE LA ENCUESTA]]/1000","v":42.429720000000003},282,358,250,608,358,250,608,0]
[44317,{"$f":"DAY(EOMONTH(Base[[#This Row],[FECHA]],0))","v":31},{"$f":"PROPER(TEXT(Base[[#This Row],[FECHA]],\"MMMM\"))","v":"Mayo"},{"$f":"YEAR(Base[[#This Row],[FECHA]])","v":2021},"PUIOAJ-00001397","Tumbaco","5 estrellas","Lodge",7,7155.48,{"$f":"Base[[#This Row],[VENTAS POR ALOJAMIENTO DURANTE EL MES DE LA ENCUESTA]]/1000","v":7.1554799999999998},70,66,19,85,166,57,223,7]
[44317,{"$f":"DAY(EOMONTH(Base[[#This Row],[FECHA]],0))","v":31},{"$f":"PROPER(TEXT(Base[[#This Row],[FECHA]],\"MMMM\"))","v":"Mayo"},{"$f":"YEAR(Base[[#This Row],[FECHA]])","v":2021},"PUIOAJ-00000021","La Mariscal","3 estrellas","Hotel",41,3500,{"$f":"Base[[#This Row],[VENTAS POR ALOJAMIENTO DURANTE EL MES DE LA ENCUESTA]]/1000","v":3.5},120,82,0,82,111,0,111,5]
[44317,{"$f":"DAY(EOMONTH(Base[[#This Row],[FECHA]],0))","v":31},{"$f":"PROPER(TEXT(Base[[#This Row],[FECHA]],\"MMMM\"))","v":"Mayo"},{"$f":"YEAR(Base[[#This Row],[FECHA]])","v":2021},"PUIOAJ-00000209","La Mariscal","3 estrellas","Hotel",15,null,{"$f":"Base[[#This Row],[VENTAS POR ALOJAMIENTO DURANTE EL MES DE LA ENCUESTA]]/1000","v":0},null,null,null,null,null,null,null,1]
[44317,{"$f":"DAY(EOMONTH(Base[[#This Row],[FECHA]],0))","v":31},{"$f":"PROPER(TEXT(Base[[#This Row],[FECHA]],\"MMMM\"))","v":"Mayo"},{"$f":"YEAR(Base[[#This Row],[FECHA]])","v":2021},"PUIOAJ-00000374","Los Chillos","4 estrellas","Hostería",10,1760.68,{"$f":"Base[[#This Row],[VENTAS POR ALOJAMIENTO DURANTE EL MES DE LA ENCUESTA]]/1000","v":1.76068},32,70,5,75,70,5,75,6]
[44317,{"$f":"DAY(EOMONTH(Base[[#This Row],[FECHA]],0))","v":31},{"$f":"PROPER(TEXT(Base[[#This Row],[FECHA]],\"MMMM\"))","v":"Mayo"},{"$f":"YEAR(Base[[#This Row],[FECHA]])","v":2021},"PUIOAJ-00001488","Eugenio Espejo","3 estrellas","Hostería",5,null,{"$f":"Base[[#This Row],[VENTAS POR ALOJAMIENTO DURANTE EL MES DE LA ENCUESTA]]/1000","v":0},null,null,null,null,null,null,null,2]
[44317,{"$f":"DAY(EOMONTH(Base[[#This Row],[FECHA]],0))","v":31},{"$f":"PROPER(TEXT(Base[[#This Row],[FECHA]],\"MMMM\"))","v":"Mayo"},{"$f":"YEAR(Base[[#This Row],[FECHA]])","v":2021},"PUIOAJ-00001540","Tumbaco","5 estrellas","Hacienda Turística",9,2318.4,{"$f":"Base[[#This Row],[VENTAS POR ALOJAMIENTO DURANTE EL MES DE LA ENCUESTA]]/1000","v":2.3184},18,18,0,18,18,0,18,12]
[44317,{"$f":"DAY(EOMONTH(Base[[#This Row],[FECHA]],0))","v":31},{"$f":"PROPER(TEXT(Base[[#This Row],[FECHA]],\"MMMM\"))","v":"Mayo"},{"$f":"YEAR(Base[[#This Row],[FECHA]])","v":2021},"PUIOAJ-00000063","La Mariscal","5 estrellas","Hotel",144,62439.35,{"$f":"Base[[#This Row],[VENTAS POR ALOJAMIENTO DURANTE EL MES DE LA ENCUESTA]]/1000","v":62.439349999999997},732,471,331,802,768,342,1110]
[44317,{"$f":"DAY(EOMONTH(Base[[#This Row],[FECHA]],0))","v":31},{"$f":"PROPER(TEXT(Base[[#This Row],[FECHA]],\"MMMM\"))","v":"Mayo"},{"$f":"YEAR(Base[[#This Row],[FECHA]])","v":2021},"PUIOAJ-00000430","Tumbaco","3 estrellas","Hacienda Turística",20,null,{"$f":"Base[[#This Row],[VENTAS POR ALOJAMIENTO DURANTE EL MES DE LA ENCUESTA]]/1000","v":0},null,null,null,null,null,null,null,1]
[44317,{"$f":"DAY(EOMONTH(Base[[#This Row],[FECHA]],0))","v":31},{"$f":"PROPER(TEXT(Base[[#This Row],[FECHA]],\"MMMM\"))","v":"Mayo"},{"$f":"YEAR(Base[[#This Row],[FECHA]])","v":2021},"PUIOAJ-00000073","Eugenio Espejo","3 estrellas","Hotel",74,7543.47,{"$f":"Base[[#This Row],[VENTAS POR ALOJAMIENTO DURANTE EL MES DE LA ENCUESTA]]/1000","v":7.5434700000000001},180,166,42,208,268,44,312,12]
[44317,{"$f":"DAY(EOMONTH(Base[[#This Row],[FECHA]],0))","v":31},{"$f":"PROPER(TEXT(Base[[#This Row],[FECHA]],\"MMMM\"))","v":"Mayo"},{"$f":"YEAR(Base[[#This Row],[FECHA]])","v":2021},"PUIOAJ-00000171","La Mariscal","3 estrellas","Hotel",40,11710,{"$f":"Base[[#This Row],[VENTAS POR ALOJAMIENTO DURANTE EL MES DE LA ENCUESTA]]/1000","v":11.71},195,270,10,280,380,34,414,13]
[44317,{"$f":"DAY(EOMONTH(Base[[#This Row],[FECHA]],0))","v":31},{"$f":"PROPER(TEXT(Base[[#This Row],[FECHA]],\"MMMM\"))","v":"Mayo"},{"$f":"YEAR(Base[[#This Row],[FECHA]])","v":2021},"PUIOAJ-00004601","Eugenio Espejo","3 estrellas","Hotel",12,4265,{"$f":"Base[[#This Row],[VENTAS POR ALOJAMIENTO DURANTE EL MES DE LA ENCUESTA]]/1000","v":4.2649999999999997},108,71,37,108,71,37,108,5]
[44348,{"$f":"DAY(EOMONTH(Base[[#This Row],[FECHA]],0))","v":30},{"$f":"PROPER(TEXT(Base[[#This Row],[FECHA]],\"MMMM\"))","v":"Junio"},{"$f":"YEAR(Base[[#This Row],[FECHA]])","v":2021},"PUIOAJ-00000017","Eugenio Espejo","4 estrellas","Hotel",46,25398.240000000002,{"$f":"Base[[#This Row],[VENTAS POR ALOJAMIENTO DURANTE EL MES DE LA ENCUESTA]]/1000","v":25.398240000000001},258,238,20,258,238,20,258,12]
[44348,{"$f":"DAY(EOMONTH(Base[[#This Row],[FECHA]],0))","v":30},{"$f":"PROPER(TEXT(Base[[#This Row],[FECHA]],\"MMMM\"))","v":"Junio"},{"$f":"YEAR(Base[[#This Row],[FECHA]])","v":2021},"PUIOAJ-00001673","La Mariscal","4 estrellas","Hotel",55,12000,{"$f":"Base[[#This Row],[VENTAS POR ALOJAMIENTO DURANTE EL MES DE LA ENCUESTA]]/1000","v":12},350,250,100,350,250,100,350,28]
[44348,{"$f":"DAY(EOMONTH(Base[[#This Row],[FECHA]],0))","v":30},{"$f":"PROPER(TEXT(Base[[#This Row],[FECHA]],\"MMMM\"))","v":"Junio"},{"$f":"YEAR(Base[[#This Row],[FECHA]])","v":2021},"PUIOAJ-00000223","La Mariscal","4 estrellas","Hotel",141,56107,{"$f":"Base[[#This Row],[VENTAS POR ALOJAMIENTO DURANTE EL MES DE LA ENCUESTA]]/1000","v":56.106999999999999},743,521,369,890,521,369,890,21]
[44348,{"$f":"DAY(EOMONTH(Base[[#This Row],[FECHA]],0))","v":30},{"$f":"PROPER(TEXT(Base[[#This Row],[FECHA]],\"MMMM\"))","v":"Junio"},{"$f":"YEAR(Base[[#This Row],[FECHA]])","v":2021},"PUIOAJ-00000520","La Delicia","3 estrellas","Hostería",14,1955,{"$f":"Base[[#This Row],[VENTAS POR ALOJAMIENTO DURANTE EL MES DE LA ENCUESTA]]/1000","v":1.9550000000000001},31,24,2,26,36,26,62,8]
[44348,{"$f":"DAY(EOMONTH(Base[[#This Row],[FECHA]],0))","v":30},{"$f":"PROPER(TEXT(Base[[#This Row],[FECHA]],\"MMMM\"))","v":"Junio"},{"$f":"YEAR(Base[[#This Row],[FECHA]])","v":2021},"PUIOAJ-00000111","La Delicia","3 estrellas","Lodge",10,4660.0200000000004,{"$f":"Base[[#This Row],[VENTAS POR ALOJAMIENTO DURANTE EL MES DE LA ENCUESTA]]/1000","v":4.6600200000000003},14,0,10,10,0,14,14,4]
[44348,{"$f":"DAY(EOMONTH(Base[[#This Row],[FECHA]],0))","v":30},{"$f":"PROPER(TEXT(Base[[#This Row],[FECHA]],\"MMMM\"))","v":"Junio"},{"$f":"YEAR(Base[[#This Row],[FECHA]])","v":2021},"PUIOAJ-00000435","Manuela Sáenz","3 estrellas","Hostal",6,2400,{"$f":"Base[[#This Row],[VENTAS POR ALOJAMIENTO DURANTE EL MES DE LA ENCUESTA]]/1000","v":2.4},15,0,10,10,0,30,30,2]
[44348,{"$f":"DAY(EOMONTH(Base[[#This Row],[FECHA]],0))","v":30},{"$f":"PROPER(TEXT(Base[[#This Row],[FECHA]],\"MMMM\"))","v":"Junio"},{"$f":"YEAR(Base[[#This Row],[FECHA]])","v":2021},"PUIOAJ-00000430","Tumbaco","3 estrellas","Hacienda turística",20,null,{"$f":"Base[[#This Row],[VENTAS POR ALOJAMIENTO DURANTE EL MES DE LA ENCUESTA]]/1000","v":0},null,null,null,0,null,null,0,1]
[44348,{"$f":"DAY(EOMONTH(Base[[#This Row],[FECHA]],0))","v":30},{"$f":"PROPER(TEXT(Base[[#This Row],[FECHA]],\"MMMM\"))","v":"Junio"},{"$f":"YEAR(Base[[#This Row],[FECHA]])","v":2021},"PUIOAJ-00001642","Eugenio Espejo","3 estrellas","Hotel",151,103391.5,{"$f":"Base[[#This Row],[VENTAS POR ALOJAMIENTO DURANTE EL MES DE LA ENCUESTA]]/1000","v":103.39149999999999},1955,1722,605,2327,1722,605,2327,32]
[44348,{"$f":"DAY(EOMONTH(Base[[#This Row],[FECHA]],0))","v":30},{"$f":"PROPER(TEXT(Base[[#This Row],[FECHA]],\"MMMM\"))","v":"Junio"},{"$f":"YEAR(Base[[#This Row],[FECHA]])","v":2021},"PUIOAJ-00000126","Eugenio Espejo","3 estrellas","Hostal",25,4135.8599999999997,{"$f":"Base[[#This Row],[VENTAS POR ALOJAMIENTO DURANTE EL MES DE LA ENCUESTA]]/1000","v":4.1358600000000001},33,33,0,33,33,0,33,0]
[44348,{"$f":"DAY(EOMONTH(Base[[#This Row],[FECHA]],0))","v":30},{"$f":"PROPER(TEXT(Base[[#This Row],[FECHA]],\"MMMM\"))","v":"Junio"},{"$f":"YEAR(Base[[#This Row],[FECHA]])","v":2021},"PUIOAJ-00000035","Eugenio Espejo","3 estrellas","Hotel",12,18780,{"$f":"Base[[#This Row],[VENTAS POR ALOJAMIENTO DURANTE EL MES DE LA ENCUESTA]]/1000","v":18.78},105,3,1,4,90,15,105,3]
[44348,{"$f":"DAY(EOMONTH(Base[[#This Row],[FECHA]],0))","v":30},{"$f":"PROPER(TEXT(Base[[#This Row],[FECHA]],\"MMMM\"))","v":"Junio"},{"$f":"YEAR(Base[[#This Row],[FECHA]])","v":2021},"PUIOAJ-00000263","La Mariscal","4 estrellas","Hotel",31,5000,{"$f":"Base[[#This Row],[VENTAS POR ALOJAMIENTO DURANTE EL MES DE LA ENCUESTA]]/1000","v":5},86,20,120,140,20,180,200,6]
[44348,{"$f":"DAY(EOMONTH(Base[[#This Row],[FECHA]],0))","v":30},{"$f":"PROPER(TEXT(Base[[#This Row],[FECHA]],\"MMMM\"))","v":"Junio"},{"$f":"YEAR(Base[[#This Row],[FECHA]])","v":2021},"PUIOAJ-00000381","La Delicia","3 estrellas","Hostería",8,1771.49,{"$f":"Base[[#This Row],[VENTAS POR ALOJAMIENTO DURANTE EL MES DE LA ENCUESTA]]/1000","v":1.77149},5,15,0,15,15,0,15,4]
[44348,{"$f":"DAY(EOMONTH(Base[[#This Row],[FECHA]],0))","v":30},{"$f":"PROPER(TEXT(Base[[#This Row],[FECHA]],\"MMMM\"))","v":"Junio"},{"$f":"YEAR(Base[[#This Row],[FECHA]])","v":2021},"PUIOAJ-00000256","Manuela Sáenz","4 estrellas","Hotel",32,15463.74,{"$f":"Base[[#This Row],[VENTAS POR ALOJAMIENTO DURANTE EL MES DE LA ENCUESTA]]/1000","v":15.46374},124,63,70,133,124,100,224,18]
[44348,{"$f":"DAY(EOMONTH(Base[[#This Row],[FECHA]],0))","v":30},{"$f":"PROPER(TEXT(Base[[#This Row],[FECHA]],\"MMMM\"))","v":"Junio"},{"$f":"YEAR(Base[[#This Row],[FECHA]])","v":2021},"PUIOAJ-00000214","La Mariscal","3 estrellas","Hotel",26,2500,{"$f":"Base[[#This Row],[VENTAS POR ALOJAMIENTO DURANTE EL MES DE LA ENCUESTA]]/1000","v":2.5},130,30,100,130,30,100,130,2]
[44348,{"$f":"DAY(EOMONTH(Base[[#This Row],[FECHA]],0))","v":30},{"$f":"PROPER(TEXT(Base[[#This Row],[FECHA]],\"MMMM\"))","v":"Junio"},{"$f":"YEAR(Base[[#This Row],[FECHA]])","v":2021},"PUIOAJ-00000021","La Mariscal","3 estrellas","Hotel",41,2359,{"$f":"Base[[#This Row],[VENTAS POR ALOJAMIENTO DURANTE EL MES DE LA ENCUESTA]]/1000","v":2.359},130,73,2,75,116,14,130,4]
[44348,{"$f":"DAY(EOMONTH(Base[[#This Row],[FECHA]],0))","v":30},{"$f":"PROPER(TEXT(Base[[#This Row],[FECHA]],\"MMMM\"))","v":"Junio"},{"$f":"YEAR(Base[[#This Row],[FECHA]])","v":2021},"PUIOAJ-00001342","Manuela Sáenz","3 estrellas","Hotel",6,5000,{"$f":"Base[[#This Row],[VENTAS POR ALOJAMIENTO DURANTE EL MES DE LA ENCUESTA]]/1000","v":5},31,1,30,31,1,30,31,3]
[44348,{"$f":"DAY(EOMONTH(Base[[#This Row],[FECHA]],0))","v":30},{"$f":"PROPER(TEXT(Base[[#This Row],[FECHA]],\"MMMM\"))","v":"Junio"},{"$f":"YEAR(Base[[#This Row],[FECHA]])","v":2021},"PUIOAJ-00001397","Tumbaco","5 estrellas","Lodge",7,5390,{"$f":"Base[[#This Row],[VENTAS POR ALOJAMIENTO DURANTE EL MES DE LA ENCUESTA]]/1000","v":5.39},40,82,5,87,82,5,87,6]
[44348,{"$f":"DAY(EOMONTH(Base[[#This Row],[FECHA]],0))","v":30},{"$f":"PROPER(TEXT(Base[[#This Row],[FECHA]],\"MMMM\"))","v":"Junio"},{"$f":"YEAR(Base[[#This Row],[FECHA]])","v":2021},"PUIOAJ-00000611","La Mariscal","3 estrellas","Hotel",56,6500,{"$f":"Base[[#This Row],[VENTAS POR ALOJAMIENTO DURANTE EL MES DE LA ENCUESTA]]/1000","v":6.5},170,280,0,280,280,0,280,4]
[44348,{"$f":"DAY(EOMONTH(Base[[#This Row],[FECHA]],0))","v":30},{"$f":"PROPER(TEXT(Base[[#This Row],[FECHA]],\"MMMM\"))","v":"Junio"},{"$f":"YEAR(Base[[#This Row],[FECHA]])","v":2021},"PUIOAJ-00000072","La Mariscal","4 estrellas","Hotel",86,30118.57,{"$f":"Base[[#This Row],[VENTAS POR ALOJAMIENTO DURANTE EL MES DE LA ENCUESTA]]/1000","v":30.118569999999998},678,385,369,754,650,620,1270,57]
[44348,{"$f":"DAY(EOMONTH(Base[[#This Row],[FECHA]],0))","v":30},{"$f":"PROPER(TEXT(Base[[#This Row],[FECHA]],\"MMMM\"))","v":"Junio"},{"$f":"YEAR(Base[[#This Row],[FECHA]])","v":2021},"PUIOAJ-00000073","Eugenio Espejo","3 estrellas","Hotel",74,14210.03,{"$f":"Base[[#This Row],[VENTAS POR ALOJAMIENTO DURANTE EL MES DE LA ENCUESTA]]/1000","v":14.210030000000001},213,193,20,213,193,20,213,12]
[44348,{"$f":"DAY(EOMONTH(Base[[#This Row],[FECHA]],0))","v":30},{"$f":"PROPER(TEXT(Base[[#This Row],[FECHA]],\"MMMM\"))","v":"Junio"},{"$f":"YEAR(Base[[#This Row],[FECHA]])","v":2021},"PUIOAJ-00001468","La Mariscal","3 estrellas","Hostal",22,200,{"$f":"Base[[#This Row],[VENTAS POR ALOJAMIENTO DURANTE EL MES DE LA ENCUESTA]]/1000","v":0.2},2,2,0,2,2,0,2,2]
[44348,{"$f":"DAY(EOMONTH(Base[[#This Row],[FECHA]],0))","v":30},{"$f":"PROPER(TEXT(Base[[#This Row],[FECHA]],\"MMMM\"))","v":"Junio"},{"$f":"YEAR(Base[[#This Row],[FECHA]])","v":2021},"PUIOAJ-00000164","La Mariscal","4 estrellas","Hotel",100,42210,{"$f":"Base[[#This Row],[VENTAS POR ALOJAMIENTO DURANTE EL MES DE LA ENCUESTA]]/1000","v":42.21},603,498,105,603,498,105,603,30]
[44348,{"$f":"DAY(EOMONTH(Base[[#This Row],[FECHA]],0))","v":30},{"$f":"PROPER(TEXT(Base[[#This Row],[FECHA]],\"MMMM\"))","v":"Junio"},{"$f":"YEAR(Base[[#This Row],[FECHA]])","v":2021},"PUIOAJ-00000370","Eugenio Espejo","4 estrellas","Hotel",30,54367.62,{"$f":"Base[[#This Row],[VENTAS POR ALOJAMIENTO DURANTE EL MES DE LA ENCUESTA]]/1000","v":54.367620000000002},565,300,265,565,300,265,565,24]
[44348,{"$f":"DAY(EOMONTH(Base[[#This Row],[FECHA]],0))","v":30},{"$f":"PROPER(TEXT(Base[[#This Row],[FECHA]],\"MMMM\"))","v":"Junio"},{"$f":"YEAR(Base[[#This Row],[FECHA]])","v":2021},"PUIOAJ-00000070","Eugenio Espejo","5 estrellas","Hotel",201,196784,{"$f":"Base[[#This Row],[VENTAS POR ALOJAMIENTO DURANTE EL MES DE LA ENCUESTA]]/1000","v":196.78399999999999},2008,1123,1515,2638,1123,1515,2638,108]
[44348,{"$f":"DAY(EOMONTH(Base[[#This Row],[FECHA]],0))","v":30},{"$f":"PROPER(TEXT(Base[[#This Row],[FECHA]],\"MMMM\"))","v":"Junio"},{"$f":"YEAR(Base[[#This Row],[FECHA]])","v":2021},"PUIOAJ-00004601","Eugenio Espejo","3 estrellas","Hotel",12,4357,{"$f":"Base[[#This Row],[VENTAS POR ALOJAMIENTO DURANTE EL MES DE LA ENCUESTA]]/1000","v":4.3570000000000002},149,106,43,149,106,43,149,5]
[44378,{"$f":"DAY(EOMONTH(Base[[#This Row],[FECHA]],0))","v":31},{"$f":"PROPER(TEXT(Base[[#This Row],[FECHA]],\"MMMM\"))","v":"Julio"},{"$f":"YEAR(Base[[#This Row],[FECHA]])","v":2021},"PUIOAJ-00001468","La Mariscal","3 estrellas","Hostal",22,150,{"$f":"Base[[#This Row],[VENTAS POR ALOJAMIENTO DURANTE EL MES DE LA ENCUESTA]]/1000","v":0.15},3,5,2,7,7,7,14,2]
[44378,{"$f":"DAY(EOMONTH(Base[[#This Row],[FECHA]],0))","v":31},{"$f":"PROPER(TEXT(Base[[#This Row],[FECHA]],\"MMMM\"))","v":"Julio"},{"$f":"YEAR(Base[[#This Row],[FECHA]])","v":2021},"PUIOAJ-00000021","La Mariscal","3 estrellas","Hotel",41,5303,{"$f":"Base[[#This Row],[VENTAS POR ALOJAMIENTO DURANTE EL MES DE LA ENCUESTA]]/1000","v":5.3029999999999999},239,201,12,213,211,28,239,5]
[44378,{"$f":"DAY(EOMONTH(Base[[#This Row],[FECHA]],0))","v":31},{"$f":"PROPER(TEXT(Base[[#This Row],[FECHA]],\"MMMM\"))","v":"Julio"},{"$f":"YEAR(Base[[#This Row],[FECHA]])","v":2021},"PUIOAJ-00000435","Manuela Sáenz","3 estrellas","Hostal",6,2000,{"$f":"Base[[#This Row],[VENTAS POR ALOJAMIENTO DURANTE EL MES DE LA ENCUESTA]]/1000","v":2},20,0,20,20,0,26,26,2]
[44378,{"$f":"DAY(EOMONTH(Base[[#This Row],[FECHA]],0))","v":31},{"$f":"PROPER(TEXT(Base[[#This Row],[FECHA]],\"MMMM\"))","v":"Julio"},{"$f":"YEAR(Base[[#This Row],[FECHA]])","v":2021},"PUIOAJ-00001673","La Mariscal","4 estrellas","Hotel",55,12533.46,{"$f":"Base[[#This Row],[VENTAS POR ALOJAMIENTO DURANTE EL MES DE LA ENCUESTA]]/1000","v":12.53346},270,183,121,304,183,121,304,15]
[44378,{"$f":"DAY(EOMONTH(Base[[#This Row],[FECHA]],0))","v":31},{"$f":"PROPER(TEXT(Base[[#This Row],[FECHA]],\"MMMM\"))","v":"Julio"},{"$f":"YEAR(Base[[#This Row],[FECHA]])","v":2021},"PUIOAJ-00000111","La Delicia","3 estrellas","Lodge",10,10238.51,{"$f":"Base[[#This Row],[VENTAS POR ALOJAMIENTO DURANTE EL MES DE LA ENCUESTA]]/1000","v":10.23851},29,8,21,29,8,21,29,0]
[44378,{"$f":"DAY(EOMONTH(Base[[#This Row],[FECHA]],0))","v":31},{"$f":"PROPER(TEXT(Base[[#This Row],[FECHA]],\"MMMM\"))","v":"Julio"},{"$f":"YEAR(Base[[#This Row],[FECHA]])","v":2021},"PUIOAJ-00000140","La Delicia","3 estrellas","Hostería",12,null,{"$f":"Base[[#This Row],[VENTAS POR ALOJAMIENTO DURANTE EL MES DE LA ENCUESTA]]/1000","v":0},null,null,null,0,null,null,0,1]
[44378,{"$f":"DAY(EOMONTH(Base[[#This Row],[FECHA]],0))","v":31},{"$f":"PROPER(TEXT(Base[[#This Row],[FECHA]],\"MMMM\"))","v":"Julio"},{"$f":"YEAR(Base[[#This Row],[FECHA]])","v":2021},"PUIOAJ-00000085","Manuela Sáenz","3 estrellas","Hotel",33,null,{"$f":"Base[[#This Row],[VENTAS POR ALOJAMIENTO DURANTE EL MES DE LA ENCUESTA]]/1000","v":0},null,null,null,0,null,null,0,3]
[44378,{"$f":"DAY(EOMONTH(Base[[#This Row],[FECHA]],0))","v":31},{"$f":"PROPER(TEXT(Base[[#This Row],[FECHA]],\"MMMM\"))","v":"Julio"},{"$f":"YEAR(Base[[#This Row],[FECHA]])","v":2021},"PUIOAJ-00000223","La Mariscal","4 estrellas","Hotel",141,72337,{"$f":"Base[[#This Row],[VENTAS POR ALOJAMIENTO DURANTE EL MES DE LA ENCUESTA]]/1000","v":72.337000000000003},961,673,554,1227,673,554,1227,18]
[44378,{"$f":"DAY(EOMONTH(Base[[#This Row],[FECHA]],0))","v":31},{"$f":"PROPER(TEXT(Base[[#This Row],[FECHA]],\"MMMM\"))","v":"Julio"},{"$f":"YEAR(Base[[#This Row],[FECHA]])","v":2021},"PUIOAJ-00000520","La Delicia","3 estrellas","Hostería",14,364,{"$f":"Base[[#This Row],[VENTAS POR ALOJAMIENTO DURANTE EL MES DE LA ENCUESTA]]/1000","v":0.36399999999999999},6,5,1,6,5,1,6,7]
[44378,{"$f":"DAY(EOMONTH(Base[[#This Row],[FECHA]],0))","v":31},{"$f":"PROPER(TEXT(Base[[#This Row],[FECHA]],\"MMMM\"))","v":"Julio"},{"$f":"YEAR(Base[[#This Row],[FECHA]])","v":2021},"PUIOAJ-00000278","Manuela Sáenz","3 estrellas","Hotel",15,1139,{"$f":"Base[[#This Row],[VENTAS POR ALOJAMIENTO DURANTE EL MES DE LA ENCUESTA]]/1000","v":1.139},17,1,16,17,1,16,17,2]
[44378,{"$f":"DAY(EOMONTH(Base[[#This Row],[FECHA]],0))","v":31},{"$f":"PROPER(TEXT(Base[[#This Row],[FECHA]],\"MMMM\"))","v":"Julio"},{"$f":"YEAR(Base[[#This Row],[FECHA]])","v":2021},"PUIOAJ-00000070","Eugenio Espejo","5 estrellas","Hotel",210,212962,{"$f":"Base[[#This Row],[VENTAS POR ALOJAMIENTO DURANTE EL MES DE LA ENCUESTA]]/1000","v":212.96199999999999},2018,908,1758,2666,908,1758,2666,105]
[44378,{"$f":"DAY(EOMONTH(Base[[#This Row],[FECHA]],0))","v":31},{"$f":"PROPER(TEXT(Base[[#This Row],[FECHA]],\"MMMM\"))","v":"Julio"},{"$f":"YEAR(Base[[#This Row],[FECHA]])","v":2021},"PUIOAJ-00000256","Manuela Sáenz","4 estrellas","Hotel",32,28807.45,{"$f":"Base[[#This Row],[VENTAS POR ALOJAMIENTO DURANTE EL MES DE LA ENCUESTA]]/1000","v":28.807449999999999},231,425,15,440,425,70,495,19]
[44378,{"$f":"DAY(EOMONTH(Base[[#This Row],[FECHA]],0))","v":31},{"$f":"PROPER(TEXT(Base[[#This Row],[FECHA]],\"MMMM\"))","v":"Julio"},{"$f":"YEAR(Base[[#This Row],[FECHA]])","v":2021},"PUIOAJ-00000423","Tumbaco","5 estrellas","Hostería",8,654.42999999999995,{"$f":"Base[[#This Row],[VENTAS POR ALOJAMIENTO DURANTE EL MES DE LA ENCUESTA]]/1000","v":0.65442999999999996},8,6,2,8,6,2,8,1]
[44378,{"$f":"DAY(EOMONTH(Base[[#This Row],[FECHA]],0))","v":31},{"$f":"PROPER(TEXT(Base[[#This Row],[FECHA]],\"MMMM\"))","v":"Julio"},{"$f":"YEAR(Base[[#This Row],[FECHA]])","v":2021},"PUIOAJ-00000171","La Mariscal","3 estrellas","Hotel",40,13052,{"$f":"Base[[#This Row],[VENTAS POR ALOJAMIENTO DURANTE EL MES DE LA ENCUESTA]]/1000","v":13.052},211,346,7,353,597,20,617,12]
[44378,{"$f":"DAY(EOMONTH(Base[[#This Row],[FECHA]],0))","v":31},{"$f":"PROPER(TEXT(Base[[#This Row],[FECHA]],\"MMMM\"))","v":"Julio"},{"$f":"YEAR(Base[[#This Row],[FECHA]])","v":2021},"PUIOAJ-00000370","Eugenio Espejo","4 estrellas","Hotel",30,50037.91,{"$f":"Base[[#This Row],[VENTAS POR ALOJAMIENTO DURANTE EL MES DE LA ENCUESTA]]/1000","v":50.037910000000004},659,430,229,659,430,229,659,24]
[44378,{"$f":"DAY(EOMONTH(Base[[#This Row],[FECHA]],0))","v":31},{"$f":"PROPER(TEXT(Base[[#This Row],[FECHA]],\"MMMM\"))","v":"Julio"},{"$f":"YEAR(Base[[#This Row],[FECHA]])","v":2021},"PUIOAJ-00001397","Tumbaco","5 estrellas","Lodge",7,6496,{"$f":"Base[[#This Row],[VENTAS POR ALOJAMIENTO DURANTE EL MES DE LA ENCUESTA]]/1000","v":6.4960000000000004},49,91,6,97,94,12,106,6]
[44378,{"$f":"DAY(EOMONTH(Base[[#This Row],[FECHA]],0))","v":31},{"$f":"PROPER(TEXT(Base[[#This Row],[FECHA]],\"MMMM\"))","v":"Julio"},{"$f":"YEAR(Base[[#This Row],[FECHA]])","v":2021},"PUIOAJ-00000430","Tumbaco","3 estrellas","Hacienda Turística",20,null,{"$f":"Base[[#This Row],[VENTAS POR ALOJAMIENTO DURANTE EL MES DE LA ENCUESTA]]/1000","v":0},null,null,null,0,null,null,0,1]
[44378,{"$f":"DAY(EOMONTH(Base[[#This Row],[FECHA]],0))","v":31},{"$f":"PROPER(TEXT(Base[[#This Row],[FECHA]],\"MMMM\"))","v":"Julio"},{"$f":"YEAR(Base[[#This Row],[FECHA]])","v":2021},"PUIOAJ-00000164","La Mariscal","4 estrellas","Hotel",100,47450,{"$f":"Base[[#This Row],[VENTAS POR ALOJAMIENTO DURANTE EL MES DE LA ENCUESTA]]/1000","v":47.45},630,620,221,841,620,221,841,30]
[44378,{"$f":"DAY(EOMONTH(Base[[#This Row],[FECHA]],0))","v":31},{"$f":"PROPER(TEXT(Base[[#This Row],[FECHA]],\"MMMM\"))","v":"Julio"},{"$f":"YEAR(Base[[#This Row],[FECHA]])","v":2021},"PUIOAJ-00000073","Eugenio Espejo","3 estrellas","Hotel",74,10434.86,{"$f":"Base[[#This Row],[VENTAS POR ALOJAMIENTO DURANTE EL MES DE LA ENCUESTA]]/1000","v":10.43486},191,154,39,193,211,42,253,12]
[44378,{"$f":"DAY(EOMONTH(Base[[#This Row],[FECHA]],0))","v":31},{"$f":"PROPER(TEXT(Base[[#This Row],[FECHA]],\"MMMM\"))","v":"Julio"},{"$f":"YEAR(Base[[#This Row],[FECHA]])","v":2021},"PUIOAJ-00000374","Los Chillos","4 estrellas","Hostería",10,2533.16,{"$f":"Base[[#This Row],[VENTAS POR ALOJAMIENTO DURANTE EL MES DE LA ENCUESTA]]/1000","v":2.5331599999999996},39,75,2,77,75,2,77,7]
[44378,{"$f":"DAY(EOMONTH(Base[[#This Row],[FECHA]],0))","v":31},{"$f":"PROPER(TEXT(Base[[#This Row],[FECHA]],\"MMMM\"))","v":"Julio"},{"$f":"YEAR(Base[[#This Row],[FECHA]])","v":2021},"PUIOAJ-00000024","Manuela Sáenz","4 estrellas","Hotel",18,null,{"$f":"Base[[#This Row],[VENTAS POR ALOJAMIENTO DURANTE EL MES DE LA ENCUESTA]]/1000","v":0},null,null,null,0,null,null,0,4]
[44378,{"$f":"DAY(EOMONTH(Base[[#This Row],[FECHA]],0))","v":31},{"$f":"PROPER(TEXT(Base[[#This Row],[FECHA]],\"MMMM\"))","v":"Julio"},{"$f":"YEAR(Base[[#This Row],[FECHA]])","v":2021},"PUIOAJ-00001342","Manuela Sáenz","3 estrellas","Hotel",6,1500,{"$f":"Base[[#This Row],[VENTAS POR ALOJAMIENTO DURANTE EL MES DE LA ENCUESTA]]/1000","v":1.5},27,1,26,27,1,26,27,3]
[44378,{"$f":"DAY(EOMONTH(Base[[#This Row],[FECHA]],0))","v":31},{"$f":"PROPER(TEXT(Base[[#This Row],[FECHA]],\"MMMM\"))","v":"Julio"},{"$f":"YEAR(Base[[#This Row],[FECHA]])","v":2021},"PUIOAJ-00001642","Eugenio Espejo","3 estrellas","Hotel",151,108424,{"$f":"Base[[#This Row],[VENTAS POR ALOJAMIENTO DURANTE EL MES DE LA ENCUESTA]]/1000","v":108.42400000000001},1511,1062,449,1511,1062,449,1511,35]
[44378,{"$f":"DAY(EOMONTH(Base[[#This Row],[FECHA]],0))","v":31},{"$f":"PROPER(TEXT(Base[[#This Row],[FECHA]],\"MMMM\"))","v":"Julio"},{"$f":"YEAR(Base[[#This Row],[FECHA]])","v":2021},"PUIOAJ-00000115","Tumbaco","4 estrellas","Hotel",78,59136,{"$f":"Base[[#This Row],[VENTAS POR ALOJAMIENTO DURANTE EL MES DE LA ENCUESTA]]/1000","v":59.136000000000003},692,451,241,692,451,241,692,47]
[44378,{"$f":"DAY(EOMONTH(Base[[#This Row],[FECHA]],0))","v":31},{"$f":"PROPER(TEXT(Base[[#This Row],[FECHA]],\"MMMM\"))","v":"Julio"},{"$f":"YEAR(Base[[#This Row],[FECHA]])","v":2021},"PUIOAJ-00000126 ","Eugenio Espejo","3 estrellas","Hostal",25,3571,{"$f":"Base[[#This Row],[VENTAS POR ALOJAMIENTO DURANTE EL MES DE LA ENCUESTA]]/1000","v":3.5710000000000002},50,50,0,50,50,0,50,3]
[44378,{"$f":"DAY(EOMONTH(Base[[#This Row],[FECHA]],0))","v":31},{"$f":"PROPER(TEXT(Base[[#This Row],[FECHA]],\"MMMM\"))","v":"Julio"},{"$f":"YEAR(Base[[#This Row],[FECHA]])","v":2021},"PUIOAJ-00000263","La Mariscal","4 estrellas","Hotel",31,11650,{"$f":"Base[[#This Row],[VENTAS POR ALOJAMIENTO DURANTE EL MES DE LA ENCUESTA]]/1000","v":11.65},233,10,233,243,10,456,466,7]
[44378,{"$f":"DAY(EOMONTH(Base[[#This Row],[FECHA]],0))","v":31},{"$f":"PROPER(TEXT(Base[[#This Row],[FECHA]],\"MMMM\"))","v":"Julio"},{"$f":"YEAR(Base[[#This Row],[FECHA]])","v":2021},"PUIOAJ-00000299","Manuela Sáenz","4 estrellas","Hotel",31,135194.15,{"$f":"Base[[#This Row],[VENTAS POR ALOJAMIENTO DURANTE EL MES DE LA ENCUESTA]]/1000","v":135.19415000000001},559,125,960,1085,125,960,1085,0]
[44378,{"$f":"DAY(EOMONTH(Base[[#This Row],[FECHA]],0))","v":31},{"$f":"PROPER(TEXT(Base[[#This Row],[FECHA]],\"MMMM\"))","v":"Julio"},{"$f":"YEAR(Base[[#This Row],[FECHA]])","v":2021},"PUIOAJ-00000008","La Delicia","5 estrellas","Lodge",24,78204.12,{"$f":"Base[[#This Row],[VENTAS POR ALOJAMIENTO DURANTE EL MES DE LA ENCUESTA]]/1000","v":78.204119999999989},466,457,517,974,457,517,974,0]
[44378,{"$f":"DAY(EOMONTH(Base[[#This Row],[FECHA]],0))","v":31},{"$f":"PROPER(TEXT(Base[[#This Row],[FECHA]],\"MMMM\"))","v":"Julio"},{"$f":"YEAR(Base[[#This Row],[FECHA]])","v":2021},"PUIOAJ-00000214","La Mariscal","3 estrellas","Hotel",26,4300,{"$f":"Base[[#This Row],[VENTAS POR ALOJAMIENTO DURANTE EL MES DE LA ENCUESTA]]/1000","v":4.3},110,35,75,110,35,75,110,1]
[44409,{"$f":"DAY(EOMONTH(Base[[#This Row],[FECHA]],0))","v":31},{"$f":"PROPER(TEXT(Base[[#This Row],[FECHA]],\"MMMM\"))","v":"Agosto"},{"$f":"YEAR(Base[[#This Row],[FECHA]])","v":2021},"PUIOAJ-00000172","La Mariscal","3 estrellas","Hotel",20,3000,{"$f":"Base[[#This Row],[VENTAS POR ALOJAMIENTO DURANTE EL MES DE LA ENCUESTA]]/1000","v":3},87,15,5,20,50,100,150,6]
[44409,{"$f":"DAY(EOMONTH(Base[[#This Row],[FECHA]],0))","v":31},{"$f":"PROPER(TEXT(Base[[#This Row],[FECHA]],\"MMMM\"))","v":"Agosto"},{"$f":"YEAR(Base[[#This Row],[FECHA]])","v":2021},"PUIOAJ-00001468","La Mariscal","3 estrellas","Hostal",22,50,{"$f":"Base[[#This Row],[VENTAS POR ALOJAMIENTO DURANTE EL MES DE LA ENCUESTA]]/1000","v":0.05},2,2,2,4,2,2,4,4]
[44409,{"$f":"DAY(EOMONTH(Base[[#This Row],[FECHA]],0))","v":31},{"$f":"PROPER(TEXT(Base[[#This Row],[FECHA]],\"MMMM\"))","v":"Agosto"},{"$f":"YEAR(Base[[#This Row],[FECHA]])","v":2021},"PUIOAJ-00000111","La Delicia","3 estrellas","Lodge",10,3326.02,{"$f":"Base[[#This Row],[VENTAS POR ALOJAMIENTO DURANTE EL MES DE LA ENCUESTA]]/1000","v":3.3260200000000002},18,3,5,8,9,9,18,4]
[44409,{"$f":"DAY(EOMONTH(Base[[#This Row],[FECHA]],0))","v":31},{"$f":"PROPER(TEXT(Base[[#This Row],[FECHA]],\"MMMM\"))","v":"Agosto"},{"$f":"YEAR(Base[[#This Row],[FECHA]])","v":2021},"PUIOAJ-00000209","La Mariscal","3 estrellas","Hotel",15,100,{"$f":"Base[[#This Row],[VENTAS POR ALOJAMIENTO DURANTE EL MES DE LA ENCUESTA]]/1000","v":0.1},2,2,0,2,2,0,2,0]
[44409,{"$f":"DAY(EOMONTH(Base[[#This Row],[FECHA]],0))","v":31},{"$f":"PROPER(TEXT(Base[[#This Row],[FECHA]],\"MMMM\"))","v":"Agosto"},{"$f":"YEAR(Base[[#This Row],[FECHA]])","v":2021},"PUIOAJ-00000223","La Mariscal","4 estrellas","Hotel",141,82162,{"$f":"Base[[#This Row],[VENTAS POR ALOJAMIENTO DURANTE EL MES DE LA ENCUESTA]]/1000","v":82.162000000000006},1091,909,587,1496,909,587,1496,20]
[44409,{"$f":"DAY(EOMONTH(Base[[#This Row],[FECHA]],0))","v":31},{"$f":"PROPER(TEXT(Base[[#This Row],[FECHA]],\"MMMM\"))","v":"Agosto"},{"$f":"YEAR(Base[[#This Row],[FECHA]])","v":2021},"PUIOAJ-00000370","Eugenio Espejo","4 estrellas","Hotel",30,56067.89,{"$f":"Base[[#This Row],[VENTAS POR ALOJAMIENTO DURANTE EL MES DE LA ENCUESTA]]/1000","v":56.067889999999998},358,190,381,571,190,381,571,26]
[44409,{"$f":"DAY(EOMONTH(Base[[#This Row],[FECHA]],0))","v":31},{"$f":"PROPER(TEXT(Base[[#This Row],[FECHA]],\"MMMM\"))","v":"Agosto"},{"$f":"YEAR(Base[[#This Row],[FECHA]])","v":2021},"PUIOAJ-00001673","La Mariscal","4 estrellas","Hotel",55,15000,{"$f":"Base[[#This Row],[VENTAS POR ALOJAMIENTO DURANTE EL MES DE LA ENCUESTA]]/1000","v":15},300,350,50,400,350,50,400,15]
[44409,{"$f":"DAY(EOMONTH(Base[[#This Row],[FECHA]],0))","v":31},{"$f":"PROPER(TEXT(Base[[#This Row],[FECHA]],\"MMMM\"))","v":"Agosto"},{"$f":"YEAR(Base[[#This Row],[FECHA]])","v":2021},"PUIOAJ-00000181","Eugenio Espejo","4 estrellas","Hotel",90,120000,{"$f":"Base[[#This Row],[VENTAS POR ALOJAMIENTO DURANTE EL MES DE LA ENCUESTA]]/1000","v":120},2064,1800,264,2064,1800,264,2064,55]
[44409,{"$f":"DAY(EOMONTH(Base[[#This Row],[FECHA]],0))","v":31},{"$f":"PROPER(TEXT(Base[[#This Row],[FECHA]],\"MMMM\"))","v":"Agosto"},{"$f":"YEAR(Base[[#This Row],[FECHA]])","v":2021},"PUIOAJ-00000024","Manuela Sáenz","4 estrellas","Hotel",18,null,{"$f":"Base[[#This Row],[VENTAS POR ALOJAMIENTO DURANTE EL MES DE LA ENCUESTA]]/1000","v":0},null,null,null,0,null,null,0,4]
[44409,{"$f":"DAY(EOMONTH(Base[[#This Row],[FECHA]],0))","v":31},{"$f":"PROPER(TEXT(Base[[#This Row],[FECHA]],\"MMMM\"))","v":"Agosto"},{"$f":"YEAR(Base[[#This Row],[FECHA]])","v":2021},"PUIOAJ-00000520","La Delicia","3 estrellas","Hostería",14,1404,{"$f":"Base[[#This Row],[VENTAS POR ALOJAMIENTO DURANTE EL MES DE LA ENCUESTA]]/1000","v":1.4039999999999999},20,21,6,27,36,7,43,9]
[44409,{"$f":"DAY(EOMONTH(Base[[#This Row],[FECHA]],0))","v":31},{"$f":"PROPER(TEXT(Base[[#This Row],[FECHA]],\"MMMM\"))","v":"Agosto"},{"$f":"YEAR(Base[[#This Row],[FECHA]])","v":2021},"PUIOAJ-00000299","Manuela Sáenz","4 estrellas","Hotel",31,180000,{"$f":"Base[[#This Row],[VENTAS POR ALOJAMIENTO DURANTE EL MES DE LA ENCUESTA]]/1000","v":180},560,165,885,1050,165,885,1050,0]
[44409,{"$f":"DAY(EOMONTH(Base[[#This Row],[FECHA]],0))","v":31},{"$f":"PROPER(TEXT(Base[[#This Row],[FECHA]],\"MMMM\"))","v":"Agosto"},{"$f":"YEAR(Base[[#This Row],[FECHA]])","v":2021},"PUIOAJ-00000008","La Delicia","5 estrellas","Lodge",24,294000,{"$f":"Base[[#This Row],[VENTAS POR ALOJAMIENTO DURANTE EL MES DE LA ENCUESTA]]/1000","v":294},451,627,370,997,627,370,997,0]
[44409,{"$f":"DAY(EOMONTH(Base[[#This Row],[FECHA]],0))","v":31},{"$f":"PROPER(TEXT(Base[[#This Row],[FECHA]],\"MMMM\"))","v":"Agosto"},{"$f":"YEAR(Base[[#This Row],[FECHA]])","v":2021},"PUIOAJ-00000063","La Mariscal","5 estrellas","Hotel",144,56475.75,{"$f":"Base[[#This Row],[VENTAS POR ALOJAMIENTO DURANTE EL MES DE LA ENCUESTA]]/1000","v":56.475749999999998},858,531,825,1356,531,825,1356,0]
[44409,{"$f":"DAY(EOMONTH(Base[[#This Row],[FECHA]],0))","v":31},{"$f":"PROPER(TEXT(Base[[#This Row],[FECHA]],\"MMMM\"))","v":"Agosto"},{"$f":"YEAR(Base[[#This Row],[FECHA]])","v":2021},"PUIOAJ-00000632","Eugenio Espejo","3 estrellas","Hostería",6,1923.03,{"$f":"Base[[#This Row],[VENTAS POR ALOJAMIENTO DURANTE EL MES DE LA ENCUESTA]]/1000","v":1.92303},15,32,0,32,32,0,32,9]
[44409,{"$f":"DAY(EOMONTH(Base[[#This Row],[FECHA]],0))","v":31},{"$f":"PROPER(TEXT(Base[[#This Row],[FECHA]],\"MMMM\"))","v":"Agosto"},{"$f":"YEAR(Base[[#This Row],[FECHA]])","v":2021},"PUIOAJ-00000430","Tumbaco","3 estrellas","Hacienda Turística",20,null,{"$f":"Base[[#This Row],[VENTAS POR ALOJAMIENTO DURANTE EL MES DE LA ENCUESTA]]/1000","v":0},null,null,null,0,null,null,0,1]
[44409,{"$f":"DAY(EOMONTH(Base[[#This Row],[FECHA]],0))","v":31},{"$f":"PROPER(TEXT(Base[[#This Row],[FECHA]],\"MMMM\"))","v":"Agosto"},{"$f":"YEAR(Base[[#This Row],[FECHA]])","v":2021},"PUIOAJ-00000112","Eugenio Espejo","3 estrellas","Hostería",24,3000,{"$f":"Base[[#This Row],[VENTAS POR ALOJAMIENTO DURANTE EL MES DE LA ENCUESTA]]/1000","v":3},3,2,5,7,2,5,7,4]
[44409,{"$f":"DAY(EOMONTH(Base[[#This Row],[FECHA]],0))","v":31},{"$f":"PROPER(TEXT(Base[[#This Row],[FECHA]],\"MMMM\"))","v":"Agosto"},{"$f":"YEAR(Base[[#This Row],[FECHA]])","v":2021},"PUIOAJ-00000021","La Mariscal","3 estrellas","Hotel",41,4705,{"$f":"Base[[#This Row],[VENTAS POR ALOJAMIENTO DURANTE EL MES DE LA ENCUESTA]]/1000","v":4.7050000000000001},242,176,25,201,222,69,291,5]
[44409,{"$f":"DAY(EOMONTH(Base[[#This Row],[FECHA]],0))","v":31},{"$f":"PROPER(TEXT(Base[[#This Row],[FECHA]],\"MMMM\"))","v":"Agosto"},{"$f":"YEAR(Base[[#This Row],[FECHA]])","v":2021},"PUIOAJ-00001636","Tumbaco","3 estrellas","Hotel",18,16016,{"$f":"Base[[#This Row],[VENTAS POR ALOJAMIENTO DURANTE EL MES DE LA ENCUESTA]]/1000","v":16.015999999999998},170,50,120,170,50,120,170,8]
[44409,{"$f":"DAY(EOMONTH(Base[[#This Row],[FECHA]],0))","v":31},{"$f":"PROPER(TEXT(Base[[#This Row],[FECHA]],\"MMMM\"))","v":"Agosto"},{"$f":"YEAR(Base[[#This Row],[FECHA]])","v":2021},"PUIOAJ-00000070","Eugenio Espejo","5 estrellas","Hotel",210,232962,{"$f":"Base[[#This Row],[VENTAS POR ALOJAMIENTO DURANTE EL MES DE LA ENCUESTA]]/1000","v":232.96199999999999},2110,1062,1580,2642,1062,1580,2642,106]
[44409,{"$f":"DAY(EOMONTH(Base[[#This Row],[FECHA]],0))","v":31},{"$f":"PROPER(TEXT(Base[[#This Row],[FECHA]],\"MMMM\"))","v":"Agosto"},{"$f":"YEAR(Base[[#This Row],[FECHA]])","v":2021},"PUIOAJ-00001342","Manuela Sáenz","3 estrellas","Hotel",6,1650,{"$f":"Base[[#This Row],[VENTAS POR ALOJAMIENTO DURANTE EL MES DE LA ENCUESTA]]/1000","v":1.65},30,0,30,30,0,30,30,3]
[44409,{"$f":"DAY(EOMONTH(Base[[#This Row],[FECHA]],0))","v":31},{"$f":"PROPER(TEXT(Base[[#This Row],[FECHA]],\"MMMM\"))","v":"Agosto"},{"$f":"YEAR(Base[[#This Row],[FECHA]])","v":2021},"PUIOAJ-00001543","Los Chillos","4 estrellas","Hacienda Turística",6,null,{"$f":"Base[[#This Row],[VENTAS POR ALOJAMIENTO DURANTE EL MES DE LA ENCUESTA]]/1000","v":0},null,null,null,0,null,null,0,2]
[44409,{"$f":"DAY(EOMONTH(Base[[#This Row],[FECHA]],0))","v":31},{"$f":"PROPER(TEXT(Base[[#This Row],[FECHA]],\"MMMM\"))","v":"Agosto"},{"$f":"YEAR(Base[[#This Row],[FECHA]])","v":2021},"PUIOAJ-00000374","Los Chillos","4 estrellas","Hostería",10,1637.59,{"$f":"Base[[#This Row],[VENTAS POR ALOJAMIENTO DURANTE EL MES DE LA ENCUESTA]]/1000","v":1.6375899999999999},24,39,0,39,39,0,39,8]
[44409,{"$f":"DAY(EOMONTH(Base[[#This Row],[FECHA]],0))","v":31},{"$f":"PROPER(TEXT(Base[[#This Row],[FECHA]],\"MMMM\"))","v":"Agosto"},{"$f":"YEAR(Base[[#This Row],[FECHA]])","v":2021},"PUIOAJ-00000163","Eugenio Espejo","4 estrellas","Hotel",28,6050,{"$f":"Base[[#This Row],[VENTAS POR ALOJAMIENTO DURANTE EL MES DE LA ENCUESTA]]/1000","v":6.05},121,21,112,133,50,112,162,10]
[44409,{"$f":"DAY(EOMONTH(Base[[#This Row],[FECHA]],0))","v":31},{"$f":"PROPER(TEXT(Base[[#This Row],[FECHA]],\"MMMM\"))","v":"Agosto"},{"$f":"YEAR(Base[[#This Row],[FECHA]])","v":2021},"PUIOAJ-00000164","La Mariscal","4 estrellas","Hotel",100,51972,{"$f":"Base[[#This Row],[VENTAS POR ALOJAMIENTO DURANTE EL MES DE LA ENCUESTA]]/1000","v":51.972000000000001},690,350,180,530,480,210,690,32]
[44409,{"$f":"DAY(EOMONTH(Base[[#This Row],[FECHA]],0))","v":31},{"$f":"PROPER(TEXT(Base[[#This Row],[FECHA]],\"MMMM\"))","v":"Agosto"},{"$f":"YEAR(Base[[#This Row],[FECHA]])","v":2021},"PUIOAJ-00000622","Manuela Sáenz","4 estrellas","Hotel",12,8434,{"$f":"Base[[#This Row],[VENTAS POR ALOJAMIENTO DURANTE EL MES DE LA ENCUESTA]]/1000","v":8.4339999999999993},43,0,43,43,0,43,43,2]
[44409,{"$f":"DAY(EOMONTH(Base[[#This Row],[FECHA]],0))","v":31},{"$f":"PROPER(TEXT(Base[[#This Row],[FECHA]],\"MMMM\"))","v":"Agosto"},{"$f":"YEAR(Base[[#This Row],[FECHA]])","v":2021},"PUIOAJ-00000069","La Mariscal","5 estrellas","Hotel",275,257367.71,{"$f":"Base[[#This Row],[VENTAS POR ALOJAMIENTO DURANTE EL MES DE LA ENCUESTA]]/1000","v":257.36770999999999},2956,1244,1512,2756,1244,1512,2756,0]
[44409,{"$f":"DAY(EOMONTH(Base[[#This Row],[FECHA]],0))","v":31},{"$f":"PROPER(TEXT(Base[[#This Row],[FECHA]],\"MMMM\"))","v":"Agosto"},{"$f":"YEAR(Base[[#This Row],[FECHA]])","v":2021},"PUIOAJ-00000504","Tumbaco","5 estrellas","Hacienda Turística",15,18778.509999999998,{"$f":"Base[[#This Row],[VENTAS POR ALOJAMIENTO DURANTE EL MES DE LA ENCUESTA]]/1000","v":18.778509999999997},132,5,127,132,10,127,137,19]
[44409,{"$f":"DAY(EOMONTH(Base[[#This Row],[FECHA]],0))","v":31},{"$f":"PROPER(TEXT(Base[[#This Row],[FECHA]],\"MMMM\"))","v":"Agosto"},{"$f":"YEAR(Base[[#This Row],[FECHA]])","v":2021},"PUIOAJ-00000231","La Mariscal","4 estrellas","Hotel",59,19609.32,{"$f":"Base[[#This Row],[VENTAS POR ALOJAMIENTO DURANTE EL MES DE LA ENCUESTA]]/1000","v":19.60932},542,352,54,406,652,60,712,0]
[44409,{"$f":"DAY(EOMONTH(Base[[#This Row],[FECHA]],0))","v":31},{"$f":"PROPER(TEXT(Base[[#This Row],[FECHA]],\"MMMM\"))","v":"Agosto"},{"$f":"YEAR(Base[[#This Row],[FECHA]])","v":2021},"PUIOAJ-00001397","Tumbaco","5 estrellas","Lodge",7,7277,{"$f":"Base[[#This Row],[VENTAS POR ALOJAMIENTO DURANTE EL MES DE LA ENCUESTA]]/1000","v":7.2770000000000001},54,108,8,116,124,10,134,6]
[44409,{"$f":"DAY(EOMONTH(Base[[#This Row],[FECHA]],0))","v":31},{"$f":"PROPER(TEXT(Base[[#This Row],[FECHA]],\"MMMM\"))","v":"Agosto"},{"$f":"YEAR(Base[[#This Row],[FECHA]])","v":2021},"PUIOAJ-00000126","Eugenio Espejo","3 estrellas","Hostal",25,2708,{"$f":"Base[[#This Row],[VENTAS POR ALOJAMIENTO DURANTE EL MES DE LA ENCUESTA]]/1000","v":2.7080000000000002},61,61,0,61,61,0,61,0]
[44409,{"$f":"DAY(EOMONTH(Base[[#This Row],[FECHA]],0))","v":31},{"$f":"PROPER(TEXT(Base[[#This Row],[FECHA]],\"MMMM\"))","v":"Agosto"},{"$f":"YEAR(Base[[#This Row],[FECHA]])","v":2021},"PUIOAJ-00000073","Eugenio Espejo","3 estrellas","Hotel",74,12002.74,{"$f":"Base[[#This Row],[VENTAS POR ALOJAMIENTO DURANTE EL MES DE LA ENCUESTA]]/1000","v":12.002739999999999},217,211,42,253,364,42,406,12]
[44409,{"$f":"DAY(EOMONTH(Base[[#This Row],[FECHA]],0))","v":31},{"$f":"PROPER(TEXT(Base[[#This Row],[FECHA]],\"MMMM\"))","v":"Agosto"},{"$f":"YEAR(Base[[#This Row],[FECHA]])","v":2021},"PUIOAJ-00000171","La Mariscal","3 estrellas","Hotel",40,14219,{"$f":"Base[[#This Row],[VENTAS POR ALOJAMIENTO DURANTE EL MES DE LA ENCUESTA]]/1000","v":14.218999999999999},361,540,60,600,540,101,641,12]
[44409,{"$f":"DAY(EOMONTH(Base[[#This Row],[FECHA]],0))","v":31},{"$f":"PROPER(TEXT(Base[[#This Row],[FECHA]],\"MMMM\"))","v":"Agosto"},{"$f":"YEAR(Base[[#This Row],[FECHA]])","v":2021},"PUIOAJ-00004601","Eugenio Espejo","3 estrellas","Hotel",12,6014,{"$f":"Base[[#This Row],[VENTAS POR ALOJAMIENTO DURANTE EL MES DE LA ENCUESTA]]/1000","v":6.0140000000000002},191,156,35,191,156,35,191,5]
[44440,{"$f":"DAY(EOMONTH(Base[[#This Row],[FECHA]],0))","v":30},{"$f":"PROPER(TEXT(Base[[#This Row],[FECHA]],\"MMMM\"))","v":"Septiembre"},{"$f":"YEAR(Base[[#This Row],[FECHA]])","v":2021},"PUIOAJ-00000140","La Delicia","3 estrellas","Hostería",12,null,{"$f":"Base[[#This Row],[VENTAS POR ALOJAMIENTO DURANTE EL MES DE LA ENCUESTA]]/1000","v":0},null,null,null,null,null,null,null,0]
[44440,{"$f":"DAY(EOMONTH(Base[[#This Row],[FECHA]],0))","v":30},{"$f":"PROPER(TEXT(Base[[#This Row],[FECHA]],\"MMMM\"))","v":"Septiembre"},{"$f":"YEAR(Base[[#This Row],[FECHA]])","v":2021},"PUIOAJ-00001468","La Mariscal","3 estrellas","Hostal",22,200,{"$f":"Base[[#This Row],[VENTAS POR ALOJAMIENTO DURANTE EL MES DE LA ENCUESTA]]/1000","v":0.2},4,8,9,17,8,9,17,4]
[44440,{"$f":"DAY(EOMONTH(Base[[#This Row],[FECHA]],0))","v":30},{"$f":"PROPER(TEXT(Base[[#This Row],[FECHA]],\"MMMM\"))","v":"Septiembre"},{"$f":"YEAR(Base[[#This Row],[FECHA]])","v":2021},"PUIOAJ-00000435","Manuela Sáenz","3 estrellas","Hostal",6,4400,{"$f":"Base[[#This Row],[VENTAS POR ALOJAMIENTO DURANTE EL MES DE LA ENCUESTA]]/1000","v":4.4000000000000004},19,0,19,19,0,19,19,4]
[44440,{"$f":"DAY(EOMONTH(Base[[#This Row],[FECHA]],0))","v":30},{"$f":"PROPER(TEXT(Base[[#This Row],[FECHA]],\"MMMM\"))","v":"Septiembre"},{"$f":"YEAR(Base[[#This Row],[FECHA]])","v":2021},"PUIOAJ-00000381","La Delicia","3 estrellas","Hostería",8,8000,{"$f":"Base[[#This Row],[VENTAS POR ALOJAMIENTO DURANTE EL MES DE LA ENCUESTA]]/1000","v":8},40,35,5,40,35,5,40,5]
[44440,{"$f":"DAY(EOMONTH(Base[[#This Row],[FECHA]],0))","v":30},{"$f":"PROPER(TEXT(Base[[#This Row],[FECHA]],\"MMMM\"))","v":"Septiembre"},{"$f":"YEAR(Base[[#This Row],[FECHA]])","v":2021},"PUIOAJ-00000374","Los Chillos","4 estrellas","Hostería",10,3456.45,{"$f":"Base[[#This Row],[VENTAS POR ALOJAMIENTO DURANTE EL MES DE LA ENCUESTA]]/1000","v":3.4564499999999998},31,53,0,53,77,0,77,8]
[44440,{"$f":"DAY(EOMONTH(Base[[#This Row],[FECHA]],0))","v":30},{"$f":"PROPER(TEXT(Base[[#This Row],[FECHA]],\"MMMM\"))","v":"Septiembre"},{"$f":"YEAR(Base[[#This Row],[FECHA]])","v":2021},"PUIOAJ-00000370","Eugenio Espejo","4 estrellas","Hotel",30,91010.83,{"$f":"Base[[#This Row],[VENTAS POR ALOJAMIENTO DURANTE EL MES DE LA ENCUESTA]]/1000","v":91.010829999999999},678,400,278,678,400,278,678,24]
[44440,{"$f":"DAY(EOMONTH(Base[[#This Row],[FECHA]],0))","v":30},{"$f":"PROPER(TEXT(Base[[#This Row],[FECHA]],\"MMMM\"))","v":"Septiembre"},{"$f":"YEAR(Base[[#This Row],[FECHA]])","v":2021},"PUIOAJ-00000423","Tumbaco","5 estrellas","Hostería",8,960,{"$f":"Base[[#This Row],[VENTAS POR ALOJAMIENTO DURANTE EL MES DE LA ENCUESTA]]/1000","v":0.96},8,7,1,8,7,3,10,1]
[44440,{"$f":"DAY(EOMONTH(Base[[#This Row],[FECHA]],0))","v":30},{"$f":"PROPER(TEXT(Base[[#This Row],[FECHA]],\"MMMM\"))","v":"Septiembre"},{"$f":"YEAR(Base[[#This Row],[FECHA]])","v":2021},"PUIOAJ-00000072","La Mariscal","4 estrellas","Hotel",86,58586.03,{"$f":"Base[[#This Row],[VENTAS POR ALOJAMIENTO DURANTE EL MES DE LA ENCUESTA]]/1000","v":58.586030000000001},551,300,512,812,300,512,812,49]
[44440,{"$f":"DAY(EOMONTH(Base[[#This Row],[FECHA]],0))","v":30},{"$f":"PROPER(TEXT(Base[[#This Row],[FECHA]],\"MMMM\"))","v":"Septiembre"},{"$f":"YEAR(Base[[#This Row],[FECHA]])","v":2021},"PUIOAJ-00000278","Manuela Sáenz","3 estrellas","Hotel",15,1500,{"$f":"Base[[#This Row],[VENTAS POR ALOJAMIENTO DURANTE EL MES DE LA ENCUESTA]]/1000","v":1.5},22,22,5,27,22,5,27,4]
[44440,{"$f":"DAY(EOMONTH(Base[[#This Row],[FECHA]],0))","v":30},{"$f":"PROPER(TEXT(Base[[#This Row],[FECHA]],\"MMMM\"))","v":"Septiembre"},{"$f":"YEAR(Base[[#This Row],[FECHA]])","v":2021},"PUIOAJ-00000520","La Delicia","3 estrellas","Hostería",14,728,{"$f":"Base[[#This Row],[VENTAS POR ALOJAMIENTO DURANTE EL MES DE LA ENCUESTA]]/1000","v":0.72799999999999998},19,12,8,20,18,8,26,8]
[44440,{"$f":"DAY(EOMONTH(Base[[#This Row],[FECHA]],0))","v":30},{"$f":"PROPER(TEXT(Base[[#This Row],[FECHA]],\"MMMM\"))","v":"Septiembre"},{"$f":"YEAR(Base[[#This Row],[FECHA]])","v":2021},"PUIOAJ-00000172","La Mariscal","3 estrellas","Hotel",20,1500,{"$f":"Base[[#This Row],[VENTAS POR ALOJAMIENTO DURANTE EL MES DE LA ENCUESTA]]/1000","v":1.5},30,4,2,6,20,10,30,4]
[44440,{"$f":"DAY(EOMONTH(Base[[#This Row],[FECHA]],0))","v":30},{"$f":"PROPER(TEXT(Base[[#This Row],[FECHA]],\"MMMM\"))","v":"Septiembre"},{"$f":"YEAR(Base[[#This Row],[FECHA]])","v":2021},"PUIOAJ-00000126 ","Eugenio Espejo","3 estrellas","Hostal",25,3446,{"$f":"Base[[#This Row],[VENTAS POR ALOJAMIENTO DURANTE EL MES DE LA ENCUESTA]]/1000","v":3.4460000000000002},45,45,0,45,45,0,45,0]
[44440,{"$f":"DAY(EOMONTH(Base[[#This Row],[FECHA]],0))","v":30},{"$f":"PROPER(TEXT(Base[[#This Row],[FECHA]],\"MMMM\"))","v":"Septiembre"},{"$f":"YEAR(Base[[#This Row],[FECHA]])","v":2021},"PUIOAJ-00000067","Eugenio Espejo","4 estrellas","Hotel",215,24131.52,{"$f":"Base[[#This Row],[VENTAS POR ALOJAMIENTO DURANTE EL MES DE LA ENCUESTA]]/1000","v":24.131520000000002},327,157,43,200,207,120,327,0]
[44440,{"$f":"DAY(EOMONTH(Base[[#This Row],[FECHA]],0))","v":30},{"$f":"PROPER(TEXT(Base[[#This Row],[FECHA]],\"MMMM\"))","v":"Septiembre"},{"$f":"YEAR(Base[[#This Row],[FECHA]])","v":2021},"PUIOAJ-00000115","Tumbaco","4 estrellas","Hotel",78,68709.03,{"$f":"Base[[#This Row],[VENTAS POR ALOJAMIENTO DURANTE EL MES DE LA ENCUESTA]]/1000","v":68.709029999999998},960,395,565,960,395,565,960,49]
[44440,{"$f":"DAY(EOMONTH(Base[[#This Row],[FECHA]],0))","v":30},{"$f":"PROPER(TEXT(Base[[#This Row],[FECHA]],\"MMMM\"))","v":"Septiembre"},{"$f":"YEAR(Base[[#This Row],[FECHA]])","v":2021},"PUIOAJ-00000021","La Mariscal","3 estrellas","Hotel",41,6082,{"$f":"Base[[#This Row],[VENTAS POR ALOJAMIENTO DURANTE EL MES DE LA ENCUESTA]]/1000","v":6.0819999999999999},336,202,15,217,298,38,336,4]
[44440,{"$f":"DAY(EOMONTH(Base[[#This Row],[FECHA]],0))","v":30},{"$f":"PROPER(TEXT(Base[[#This Row],[FECHA]],\"MMMM\"))","v":"Septiembre"},{"$f":"YEAR(Base[[#This Row],[FECHA]])","v":2021},"PUIOAJ-00000164","La Mariscal","4 estrellas","Hotel",100,54835.199999999997,{"$f":"Base[[#This Row],[VENTAS POR ALOJAMIENTO DURANTE EL MES DE LA ENCUESTA]]/1000","v":54.8352},720,501,190,691,530,220,750,32]
[44440,{"$f":"DAY(EOMONTH(Base[[#This Row],[FECHA]],0))","v":30},{"$f":"PROPER(TEXT(Base[[#This Row],[FECHA]],\"MMMM\"))","v":"Septiembre"},{"$f":"YEAR(Base[[#This Row],[FECHA]])","v":2021},"PUIOAJ-00000163","Eugenio Espejo","4 estrellas","Hotel",28,10000,{"$f":"Base[[#This Row],[VENTAS POR ALOJAMIENTO DURANTE EL MES DE LA ENCUESTA]]/1000","v":10},120,42,78,120,42,87,129,10]
[44440,{"$f":"DAY(EOMONTH(Base[[#This Row],[FECHA]],0))","v":30},{"$f":"PROPER(TEXT(Base[[#This Row],[FECHA]],\"MMMM\"))","v":"Septiembre"},{"$f":"YEAR(Base[[#This Row],[FECHA]])","v":2021},"PUIOAJ-00000012","Eugenio Espejo","4 estrellas","Hotel",25,29264.06,{"$f":"Base[[#This Row],[VENTAS POR ALOJAMIENTO DURANTE EL MES DE LA ENCUESTA]]/1000","v":29.264060000000001},283,200,83,283,200,83,283,14]
[44440,{"$f":"DAY(EOMONTH(Base[[#This Row],[FECHA]],0))","v":30},{"$f":"PROPER(TEXT(Base[[#This Row],[FECHA]],\"MMMM\"))","v":"Septiembre"},{"$f":"YEAR(Base[[#This Row],[FECHA]])","v":2021},"PUIOAJ-00000070","Eugenio Espejo","5 estrellas","Hotel",210,308990,{"$f":"Base[[#This Row],[VENTAS POR ALOJAMIENTO DURANTE EL MES DE LA ENCUESTA]]/1000","v":308.99},2809,1406,2217,3623,1406,2217,3623,114]
[44440,{"$f":"DAY(EOMONTH(Base[[#This Row],[FECHA]],0))","v":30},{"$f":"PROPER(TEXT(Base[[#This Row],[FECHA]],\"MMMM\"))","v":"Septiembre"},{"$f":"YEAR(Base[[#This Row],[FECHA]])","v":2021},"PUIOAJ-00000430","Tumbaco","3 estrellas","Hacienda Turística",20,null,{"$f":"Base[[#This Row],[VENTAS POR ALOJAMIENTO DURANTE EL MES DE LA ENCUESTA]]/1000","v":0},null,null,null,0,null,null,0,1]
[44440,{"$f":"DAY(EOMONTH(Base[[#This Row],[FECHA]],0))","v":30},{"$f":"PROPER(TEXT(Base[[#This Row],[FECHA]],\"MMMM\"))","v":"Septiembre"},{"$f":"YEAR(Base[[#This Row],[FECHA]])","v":2021},"PUIOAJ-00001530","Tumbaco","3 estrellas","Hostería",8,5800,{"$f":"Base[[#This Row],[VENTAS POR ALOJAMIENTO DURANTE EL MES DE LA ENCUESTA]]/1000","v":5.8},50,35,15,50,60,25,85,2]
[44440,{"$f":"DAY(EOMONTH(Base[[#This Row],[FECHA]],0))","v":30},{"$f":"PROPER(TEXT(Base[[#This Row],[FECHA]],\"MMMM\"))","v":"Septiembre"},{"$f":"YEAR(Base[[#This Row],[FECHA]])","v":2021},"PUIOAJ-00001342","Manuela Sáenz","3 estrellas","Hotel",6,3000,{"$f":"Base[[#This Row],[VENTAS POR ALOJAMIENTO DURANTE EL MES DE LA ENCUESTA]]/1000","v":3},50,2,40,42,3,50,53,3]
[44440,{"$f":"DAY(EOMONTH(Base[[#This Row],[FECHA]],0))","v":30},{"$f":"PROPER(TEXT(Base[[#This Row],[FECHA]],\"MMMM\"))","v":"Septiembre"},{"$f":"YEAR(Base[[#This Row],[FECHA]])","v":2021},"PUIOAJ-00000017","Eugenio Espejo","4 estrellas","Hotel",46,31274.639999999999,{"$f":"Base[[#This Row],[VENTAS POR ALOJAMIENTO DURANTE EL MES DE LA ENCUESTA]]/1000","v":31.274639999999998},597,207,11,218,563,34,597,15]
[44440,{"$f":"DAY(EOMONTH(Base[[#This Row],[FECHA]],0))","v":30},{"$f":"PROPER(TEXT(Base[[#This Row],[FECHA]],\"MMMM\"))","v":"Septiembre"},{"$f":"YEAR(Base[[#This Row],[FECHA]])","v":2021},"PUIOAJ-00000622","Manuela Sáenz","4 estrellas","Hotel",12,5783.68,{"$f":"Base[[#This Row],[VENTAS POR ALOJAMIENTO DURANTE EL MES DE LA ENCUESTA]]/1000","v":5.7836800000000004},32,8,24,32,8,24,32,7]
[44440,{"$f":"DAY(EOMONTH(Base[[#This Row],[FECHA]],0))","v":30},{"$f":"PROPER(TEXT(Base[[#This Row],[FECHA]],\"MMMM\"))","v":"Septiembre"},{"$f":"YEAR(Base[[#This Row],[FECHA]])","v":2021},"PUIOAJ-00000024","Manuela Sáenz","4 estrellas","Hotel",18,null,{"$f":"Base[[#This Row],[VENTAS POR ALOJAMIENTO DURANTE EL MES DE LA ENCUESTA]]/1000","v":0},null,null,null,0,null,null,0,4]
[44440,{"$f":"DAY(EOMONTH(Base[[#This Row],[FECHA]],0))","v":30},{"$f":"PROPER(TEXT(Base[[#This Row],[FECHA]],\"MMMM\"))","v":"Septiembre"},{"$f":"YEAR(Base[[#This Row],[FECHA]])","v":2021},"PUIOAJ-00004601","Eugenio Espejo","3 estrellas","Hotel",12,7941.88,{"$f":"Base[[#This Row],[VENTAS POR ALOJAMIENTO DURANTE EL MES DE LA ENCUESTA]]/1000","v":7.9418800000000003},284,149,39,188,197,87,284,5]
[44440,{"$f":"DAY(EOMONTH(Base[[#This Row],[FECHA]],0))","v":30},{"$f":"PROPER(TEXT(Base[[#This Row],[FECHA]],\"MMMM\"))","v":"Septiembre"},{"$f":"YEAR(Base[[#This Row],[FECHA]])","v":2021},"PUIOAJ-00000209","La Mariscal","3 estrellas","Hotel",15,1800,{"$f":"Base[[#This Row],[VENTAS POR ALOJAMIENTO DURANTE EL MES DE LA ENCUESTA]]/1000","v":1.8},3,1,2,3,2,2,4,0]
[44440,{"$f":"DAY(EOMONTH(Base[[#This Row],[FECHA]],0))","v":30},{"$f":"PROPER(TEXT(Base[[#This Row],[FECHA]],\"MMMM\"))","v":"Septiembre"},{"$f":"YEAR(Base[[#This Row],[FECHA]])","v":2021},"PUIOAJ-00000256","Manuela Sáenz","4 estrellas","Hotel",32,12459.74,{"$f":"Base[[#This Row],[VENTAS POR ALOJAMIENTO DURANTE EL MES DE LA ENCUESTA]]/1000","v":12.45974},113,190,14,204,380,28,408,18]
[44440,{"$f":"DAY(EOMONTH(Base[[#This Row],[FECHA]],0))","v":30},{"$f":"PROPER(TEXT(Base[[#This Row],[FECHA]],\"MMMM\"))","v":"Septiembre"},{"$f":"YEAR(Base[[#This Row],[FECHA]])","v":2021},"PUIOAJ-00000223","La Mariscal","4 estrellas","Hotel",141,78507,{"$f":"Base[[#This Row],[VENTAS POR ALOJAMIENTO DURANTE EL MES DE LA ENCUESTA]]/1000","v":78.507000000000005},1053,538,718,1256,538,718,1256,19]
[44440,{"$f":"DAY(EOMONTH(Base[[#This Row],[FECHA]],0))","v":30},{"$f":"PROPER(TEXT(Base[[#This Row],[FECHA]],\"MMMM\"))","v":"Septiembre"},{"$f":"YEAR(Base[[#This Row],[FECHA]])","v":2021},"PUIOAJ-00000073","Eugenio Espejo","3 estrellas","Hotel",74,12957.74,{"$f":"Base[[#This Row],[VENTAS POR ALOJAMIENTO DURANTE EL MES DE LA ENCUESTA]]/1000","v":12.957739999999999},285,262,23,285,262,23,285,12]
[44440,{"$f":"DAY(EOMONTH(Base[[#This Row],[FECHA]],0))","v":30},{"$f":"PROPER(TEXT(Base[[#This Row],[FECHA]],\"MMMM\"))","v":"Septiembre"},{"$f":"YEAR(Base[[#This Row],[FECHA]])","v":2021},"PUIOAJ-00000299","Manuela Sáenz","4 estrellas","Hotel",31,86542.92,{"$f":"Base[[#This Row],[VENTAS POR ALOJAMIENTO DURANTE EL MES DE LA ENCUESTA]]/1000","v":86.542919999999995},358,133,510,643,133,510,643]
[44440,{"$f":"DAY(EOMONTH(Base[[#This Row],[FECHA]],0))","v":30},{"$f":"PROPER(TEXT(Base[[#This Row],[FECHA]],\"MMMM\"))","v":"Septiembre"},{"$f":"YEAR(Base[[#This Row],[FECHA]])","v":2021},"PUIOAJ-00000008","La Delicia","5 estrellas","Lodge",24,66573.06,{"$f":"Base[[#This Row],[VENTAS POR ALOJAMIENTO DURANTE EL MES DE LA ENCUESTA]]/1000","v":66.573059999999998},383,549,217,766,549,217,766]
[44440,{"$f":"DAY(EOMONTH(Base[[#This Row],[FECHA]],0))","v":30},{"$f":"PROPER(TEXT(Base[[#This Row],[FECHA]],\"MMMM\"))","v":"Septiembre"},{"$f":"YEAR(Base[[#This Row],[FECHA]])","v":2021},"PUIOAJ-00000152","Eugenio Espejo","4 estrellas","Hotel",142,151200,{"$f":"Base[[#This Row],[VENTAS POR ALOJAMIENTO DURANTE EL MES DE LA ENCUESTA]]/1000","v":151.19999999999999},2500,1800,700,2500,1800,700,2500]
[44500,{"$f":"DAY(EOMONTH(Base[[#This Row],[FECHA]],0))","v":31},{"$f":"PROPER(TEXT(Base[[#This Row],[FECHA]],\"MMMM\"))","v":"Octubre"},{"$f":"YEAR(Base[[#This Row],[FECHA]])","v":2021},"PUIOAJ-00000223","LA MARISCAL","4 estrellas","HOTEL",141,82445.75,{"$f":"Base[[#This Row],[VENTAS POR ALOJAMIENTO DURANTE EL MES DE LA ENCUESTA]]/1000","v":82.445750000000004},1045,616,726,1342,616,1040,1656,19]
[44500,{"$f":"DAY(EOMONTH(Base[[#This Row],[FECHA]],0))","v":31},{"$f":"PROPER(TEXT(Base[[#This Row],[FECHA]],\"MMMM\"))","v":"Octubre"},{"$f":"YEAR(Base[[#This Row],[FECHA]])","v":2021},"PUIOAJ-00000021","LA MARISCAL","3 estrellas","HOTEL",41,8845,{"$f":"Base[[#This Row],[VENTAS POR ALOJAMIENTO DURANTE EL MES DE LA ENCUESTA]]/1000","v":8.8450000000000006},298,176,12,188,246,52,298,5]
[44500,{"$f":"DAY(EOMONTH(Base[[#This Row],[FECHA]],0))","v":31},{"$f":"PROPER(TEXT(Base[[#This Row],[FECHA]],\"MMMM\"))","v":"Octubre"},{"$f":"YEAR(Base[[#This Row],[FECHA]])","v":2021},"PUIOAJ-00001397","TUMBACO","5 estrellas","LODGE",7,7414,{"$f":"Base[[#This Row],[VENTAS POR ALOJAMIENTO DURANTE EL MES DE LA ENCUESTA]]/1000","v":7.4139999999999997},64,100,22,122,106,30,136,7]
[44500,{"$f":"DAY(EOMONTH(Base[[#This Row],[FECHA]],0))","v":31},{"$f":"PROPER(TEXT(Base[[#This Row],[FECHA]],\"MMMM\"))","v":"Octubre"},{"$f":"YEAR(Base[[#This Row],[FECHA]])","v":2021},"PUIOAJ-00000115","TUMBACO","4 estrellas","HOTEL",78,68756,{"$f":"Base[[#This Row],[VENTAS POR ALOJAMIENTO DURANTE EL MES DE LA ENCUESTA]]/1000","v":68.756},836,386,460,846,386,460,846,50]
[44500,{"$f":"DAY(EOMONTH(Base[[#This Row],[FECHA]],0))","v":31},{"$f":"PROPER(TEXT(Base[[#This Row],[FECHA]],\"MMMM\"))","v":"Octubre"},{"$f":"YEAR(Base[[#This Row],[FECHA]])","v":2021},"PUIOAJ-00000435","MANUELA SÁENZ","3 estrellas","HOSTAL",6,1000,{"$f":"Base[[#This Row],[VENTAS POR ALOJAMIENTO DURANTE EL MES DE LA ENCUESTA]]/1000","v":1},7,0,7,7,0,12,12,4]
[44500,{"$f":"DAY(EOMONTH(Base[[#This Row],[FECHA]],0))","v":31},{"$f":"PROPER(TEXT(Base[[#This Row],[FECHA]],\"MMMM\"))","v":"Octubre"},{"$f":"YEAR(Base[[#This Row],[FECHA]])","v":2021},"PUIOAJ-00000164","LA MARISCAL","4 estrellas","HOTEL",100,73718.320000000007,{"$f":"Base[[#This Row],[VENTAS POR ALOJAMIENTO DURANTE EL MES DE LA ENCUESTA]]/1000","v":73.718320000000006},949,965,390,1355,965,390,1355,34]
[44500,{"$f":"DAY(EOMONTH(Base[[#This Row],[FECHA]],0))","v":31},{"$f":"PROPER(TEXT(Base[[#This Row],[FECHA]],\"MMMM\"))","v":"Octubre"},{"$f":"YEAR(Base[[#This Row],[FECHA]])","v":2021},"PUIOAJ-00000370","EUGENIO ESPEJO","4 estrellas","HOTEL",30,68371.009999999995,{"$f":"Base[[#This Row],[VENTAS POR ALOJAMIENTO DURANTE EL MES DE LA ENCUESTA]]/1000","v":68.371009999999998},567,200,367,567,200,367,567,26]
[44500,{"$f":"DAY(EOMONTH(Base[[#This Row],[FECHA]],0))","v":31},{"$f":"PROPER(TEXT(Base[[#This Row],[FECHA]],\"MMMM\"))","v":"Octubre"},{"$f":"YEAR(Base[[#This Row],[FECHA]])","v":2021},"PUIOAJ-00000140","LA DELICIA","3 estrellas","HOSTERÍA",12,null,{"$f":"Base[[#This Row],[VENTAS POR ALOJAMIENTO DURANTE EL MES DE LA ENCUESTA]]/1000","v":0},null,null,null,0,null,null,0,0]
[44500,{"$f":"DAY(EOMONTH(Base[[#This Row],[FECHA]],0))","v":31},{"$f":"PROPER(TEXT(Base[[#This Row],[FECHA]],\"MMMM\"))","v":"Octubre"},{"$f":"YEAR(Base[[#This Row],[FECHA]])","v":2021},"PUIOAJ-00000430","TUMBACO","3 estrellas","HACIENDA TURÍSTICA",20,null,{"$f":"Base[[#This Row],[VENTAS POR ALOJAMIENTO DURANTE EL MES DE LA ENCUESTA]]/1000","v":0},null,null,null,0,null,null,0,1]
[44500,{"$f":"DAY(EOMONTH(Base[[#This Row],[FECHA]],0))","v":31},{"$f":"PROPER(TEXT(Base[[#This Row],[FECHA]],\"MMMM\"))","v":"Octubre"},{"$f":"YEAR(Base[[#This Row],[FECHA]])","v":2021},"PUIOAJ-00000263","LA MARISCAL","4 estrellas","HOTEL",31,40000,{"$f":"Base[[#This Row],[VENTAS POR ALOJAMIENTO DURANTE EL MES DE LA ENCUESTA]]/1000","v":40},600,20,826,846,40,1620,1660,10]
[44500,{"$f":"DAY(EOMONTH(Base[[#This Row],[FECHA]],0))","v":31},{"$f":"PROPER(TEXT(Base[[#This Row],[FECHA]],\"MMMM\"))","v":"Octubre"},{"$f":"YEAR(Base[[#This Row],[FECHA]])","v":2021},"PUIOAJ-00000126","EUGENIO ESPEJO","3 estrellas","HOSTAL",25,3278,{"$f":"Base[[#This Row],[VENTAS POR ALOJAMIENTO DURANTE EL MES DE LA ENCUESTA]]/1000","v":3.278},65,65,0,65,65,0,65,0]
[44500,{"$f":"DAY(EOMONTH(Base[[#This Row],[FECHA]],0))","v":31},{"$f":"PROPER(TEXT(Base[[#This Row],[FECHA]],\"MMMM\"))","v":"Octubre"},{"$f":"YEAR(Base[[#This Row],[FECHA]])","v":2021},"PUIOAJ-00000163","EUGENIO ESPEJO","4 estrellas","HOTEL",28,10000,{"$f":"Base[[#This Row],[VENTAS POR ALOJAMIENTO DURANTE EL MES DE LA ENCUESTA]]/1000","v":10},150,68,50,118,84,66,150,17]
[44500,{"$f":"DAY(EOMONTH(Base[[#This Row],[FECHA]],0))","v":31},{"$f":"PROPER(TEXT(Base[[#This Row],[FECHA]],\"MMMM\"))","v":"Octubre"},{"$f":"YEAR(Base[[#This Row],[FECHA]])","v":2021},"PUIOAJ-00000256","MANUELA SÁENZ","4 estrellas","HOTEL",32,30000,{"$f":"Base[[#This Row],[VENTAS POR ALOJAMIENTO DURANTE EL MES DE LA ENCUESTA]]/1000","v":30},250,47,425,472,472,425,897,18]
[44500,{"$f":"DAY(EOMONTH(Base[[#This Row],[FECHA]],0))","v":31},{"$f":"PROPER(TEXT(Base[[#This Row],[FECHA]],\"MMMM\"))","v":"Octubre"},{"$f":"YEAR(Base[[#This Row],[FECHA]])","v":2021},"PUIOAJ-00001673","LA MARISCAL","4 estrellas","HOTEL",55,22198.21,{"$f":"Base[[#This Row],[VENTAS POR ALOJAMIENTO DURANTE EL MES DE LA ENCUESTA]]/1000","v":22.19821},382,184,147,331,235,147,382,0]
[44500,{"$f":"DAY(EOMONTH(Base[[#This Row],[FECHA]],0))","v":31},{"$f":"PROPER(TEXT(Base[[#This Row],[FECHA]],\"MMMM\"))","v":"Octubre"},{"$f":"YEAR(Base[[#This Row],[FECHA]])","v":2021},"PUIOAJ-00000520","LA DELICIA","3 estrellas","HOSTERÍA",14,1503,{"$f":"Base[[#This Row],[VENTAS POR ALOJAMIENTO DURANTE EL MES DE LA ENCUESTA]]/1000","v":1.5029999999999999},20,20,2,22,25,19,44,9]
[44500,{"$f":"DAY(EOMONTH(Base[[#This Row],[FECHA]],0))","v":31},{"$f":"PROPER(TEXT(Base[[#This Row],[FECHA]],\"MMMM\"))","v":"Octubre"},{"$f":"YEAR(Base[[#This Row],[FECHA]])","v":2021},"PUIOAJ-00000070","EUGENIO ESPEJO","5 estrellas","HOTEL",210,336652.18,{"$f":"Base[[#This Row],[VENTAS POR ALOJAMIENTO DURANTE EL MES DE LA ENCUESTA]]/1000","v":336.65217999999999},3001,1414,2406,3820,1414,2406,3820,131]
[44500,{"$f":"DAY(EOMONTH(Base[[#This Row],[FECHA]],0))","v":31},{"$f":"PROPER(TEXT(Base[[#This Row],[FECHA]],\"MMMM\"))","v":"Octubre"},{"$f":"YEAR(Base[[#This Row],[FECHA]])","v":2021},"PUIOAJ-00000172","LA MARISCAL","3 estrellas","HOTEL",20,3600,{"$f":"Base[[#This Row],[VENTAS POR ALOJAMIENTO DURANTE EL MES DE LA ENCUESTA]]/1000","v":3.6},8,14,6,20,14,6,20,4]
[44500,{"$f":"DAY(EOMONTH(Base[[#This Row],[FECHA]],0))","v":31},{"$f":"PROPER(TEXT(Base[[#This Row],[FECHA]],\"MMMM\"))","v":"Octubre"},{"$f":"YEAR(Base[[#This Row],[FECHA]])","v":2021},"PUIOAJ-00004601","EUGENIO ESPEJO","3 estrellas","HOTEL",12,16600.54,{"$f":"Base[[#This Row],[VENTAS POR ALOJAMIENTO DURANTE EL MES DE LA ENCUESTA]]/1000","v":16.600540000000002},300,130,50,180,260,50,310,5]
[44500,{"$f":"DAY(EOMONTH(Base[[#This Row],[FECHA]],0))","v":31},{"$f":"PROPER(TEXT(Base[[#This Row],[FECHA]],\"MMMM\"))","v":"Octubre"},{"$f":"YEAR(Base[[#This Row],[FECHA]])","v":2021},"PUIOAJ-00000067","EUGENIO ESPEJO","4 estrellas","HOTEL",215,45377.15,{"$f":"Base[[#This Row],[VENTAS POR ALOJAMIENTO DURANTE EL MES DE LA ENCUESTA]]/1000","v":45.37715},756,257,102,359,376,380,756,0]
[44500,{"$f":"DAY(EOMONTH(Base[[#This Row],[FECHA]],0))","v":31},{"$f":"PROPER(TEXT(Base[[#This Row],[FECHA]],\"MMMM\"))","v":"Octubre"},{"$f":"YEAR(Base[[#This Row],[FECHA]])","v":2021},"PUIOAJ-00000449","EUGENIO ESPEJO","3 estrellas","HOSTAL",16,90,{"$f":"Base[[#This Row],[VENTAS POR ALOJAMIENTO DURANTE EL MES DE LA ENCUESTA]]/1000","v":0.09},2,2,0,2,4,0,4,2]
[44500,{"$f":"DAY(EOMONTH(Base[[#This Row],[FECHA]],0))","v":31},{"$f":"PROPER(TEXT(Base[[#This Row],[FECHA]],\"MMMM\"))","v":"Octubre"},{"$f":"YEAR(Base[[#This Row],[FECHA]])","v":2021},"PUIOAJ-00000491","MANUELA SÁENZ","4 estrellas","HOTEL",22,6000,{"$f":"Base[[#This Row],[VENTAS POR ALOJAMIENTO DURANTE EL MES DE LA ENCUESTA]]/1000","v":6},55,2,18,20,2,53,55,9]
[44500,{"$f":"DAY(EOMONTH(Base[[#This Row],[FECHA]],0))","v":31},{"$f":"PROPER(TEXT(Base[[#This Row],[FECHA]],\"MMMM\"))","v":"Octubre"},{"$f":"YEAR(Base[[#This Row],[FECHA]])","v":2021},"PUIOAJ-00001642","EUGENIO ESPEJO","3 estrellas","HOTEL",151,132657.42000000001,{"$f":"Base[[#This Row],[VENTAS POR ALOJAMIENTO DURANTE EL MES DE LA ENCUESTA]]/1000","v":132.65742},1483,1335,148,1483,1335,148,1483,48]
[44500,{"$f":"DAY(EOMONTH(Base[[#This Row],[FECHA]],0))","v":31},{"$f":"PROPER(TEXT(Base[[#This Row],[FECHA]],\"MMMM\"))","v":"Octubre"},{"$f":"YEAR(Base[[#This Row],[FECHA]])","v":2021},"PUIOAJ-00000152","EUGENIO ESPEJO","4 estrellas","HOTEL",142,165000,{"$f":"Base[[#This Row],[VENTAS POR ALOJAMIENTO DURANTE EL MES DE LA ENCUESTA]]/1000","v":165},2827,2000,800,2800,2027,800,2827,72]
[44500,{"$f":"DAY(EOMONTH(Base[[#This Row],[FECHA]],0))","v":31},{"$f":"PROPER(TEXT(Base[[#This Row],[FECHA]],\"MMMM\"))","v":"Octubre"},{"$f":"YEAR(Base[[#This Row],[FECHA]])","v":2021},"PUIOAJ-00000073","EUGENIO ESPEJO","3 estrellas","HOTEL",74,21890,{"$f":"Base[[#This Row],[VENTAS POR ALOJAMIENTO DURANTE EL MES DE LA ENCUESTA]]/1000","v":21.89},277,319,27,346,441,30,471,11]
[44500,{"$f":"DAY(EOMONTH(Base[[#This Row],[FECHA]],0))","v":31},{"$f":"PROPER(TEXT(Base[[#This Row],[FECHA]],\"MMMM\"))","v":"Octubre"},{"$f":"YEAR(Base[[#This Row],[FECHA]])","v":2021},"PUIOAJ-00000024","MANUELA SÁENZ","4 estrellas","HOTEL",18,884,{"$f":"Base[[#This Row],[VENTAS POR ALOJAMIENTO DURANTE EL MES DE LA ENCUESTA]]/1000","v":0.88400000000000001},4,0,4,4,0,6,6,4]
[44500,{"$f":"DAY(EOMONTH(Base[[#This Row],[FECHA]],0))","v":31},{"$f":"PROPER(TEXT(Base[[#This Row],[FECHA]],\"MMMM\"))","v":"Octubre"},{"$f":"YEAR(Base[[#This Row],[FECHA]])","v":2021},"PUIOAJ-00000299","MANUELA SÁENZ","4 estrellas","HOTEL",31,163000,{"$f":"Base[[#This Row],[VENTAS POR ALOJAMIENTO DURANTE EL MES DE LA ENCUESTA]]/1000","v":163},530,186,794,980,186,794,980]

{"sheet":"PROMEDIOS","index":3,"n_rows":231,"n_cols":6,"rows_kept":231,"cut":false,"hidden":true,"merged":[]}
["Fecha","Atributo","3 estrellas","4 estrellas","5 estrellas","Total"]
["2019-12-01","Empleos",277,537,1203,2017]
["2019-12-01","Estancia media",1.2386335709019416,1.3975596674711719,1.7293713929184216,1]
["2019-12-01","Habitaciones",790,825,580,2195]
["2019-12-01","Habitaciones vendidas",5474,9880,8916,24270]
["2019-12-01","Ingresos",226909.33000000002,773374.67,864962.5,1865247]
["2019-12-01","Ingresos (Miles)",226.90933000000001,773.37466999999992,864.96250000000009,1865]
["2019-12-01","Llegadas",4069,7458,6411,17938]
["2019-12-01","Pernoctaciones",5040,10423,11087,26550]
["2019-12-01","TOH",0.22351980400163299,0.38631476050830899,0.49588431590656301,0]
["2019-12-01","Tarifa promedio",41.452197661673367,78.276788461538459,97.012393449977566,77]
["2020-01-01","Empleos",165,443,1128,1736]
["2020-01-01","Estancia media",2.5591775325977935,1.2082270408163265,3.2029932546374367,2]
["2020-01-01","Habitaciones",1039,1275,779,3093]
["2020-01-01","Habitaciones vendidas",2582,5740,15281,23603]
["2020-01-01","Ingresos",134780.24,438663.95,1701399.31,2274844]
["2020-01-01","Ingresos (Miles)",134.78024000000002,438.66395000000006,1701.3993100000002,2275]
["2020-01-01","Llegadas",1994,6272,4744,13010]
["2020-01-01","Pernoctaciones",5103,7578,15195,27876]
["2020-01-01","TOH",8.0163929336520806E-2,0.145224541429475,0.63277982525156296,0]
["2020-01-01","Tarifa promedio",52.19993803253292,76.422290940766558,111.3408356782933,96]
["2020-02-01","Empleos",26,234,13,273]
["2020-02-01","Estancia media",1.6829268292682926,1.04155672823219,1.0705882352941176,1]
["2020-02-01","Habitaciones",466,1332,210,2008]
["2020-02-01","Habitaciones vendidas",257,6613,88,6958]
["2020-02-01","Ingresos",36476,544678.17999999993,10608.36,591763]
["2020-02-01","Ingresos (Miles)",36.475999999999999,544.67818,10.608359999999999,592]
["2020-02-01","Llegadas",205,7580,85,7870]
["2020-02-01","Pernoctaciones",345,7895,91,8331]
["2020-02-01","TOH",1.9017315376646401E-2,0.17119705912809399,1.44499178981938E-2,0]
["2020-02-01","Tarifa promedio",141.92996108949416,82.364763344926644,120.54954545454547,85]
["2020-03-01","Empleos",102,166,27,295]
["2020-03-01","Estancia media",1.4185714285714286,1.1312500000000001,1.1391304347826088,1]
["2020-03-01","Habitaciones",2441,6919,997,10357]
["2020-03-01","Habitaciones vendidas",620,3084,108,3812]
["2020-03-01","Ingresos",65583.34,252497.63,9231.92,327313]
["2020-03-01","Ingresos (Miles)",65.583340000000007,252.49763000000002,9.2319200000000006,327]
["2020-03-01","Llegadas",700,3840,115,4655]
["2020-03-01","Pernoctaciones",993,4344,131,5468]
["2020-03-01","TOH",8.1933633756657107E-3,1.4378359729403401E-2,3.4943540298314302E-3,0]
["2020-03-01","Tarifa promedio",105.77958064516129,81.873420881971469,85.480740740740742,86]
["2020-04-01","Empleos",68,199,47,314]
["2020-04-01","Estancia media",1.3666666666666667,1.6666666666666667,1,1]
["2020-04-01","Habitaciones",1490,6128,311,7929]
["2020-04-01","Habitaciones vendidas",403,214,null,617]
["2020-04-01","Ingresos",15960,16258,0,32218]
["2020-04-01","Ingresos (Miles)",15.96,16.257999999999999,0,32]
["2020-04-01","Llegadas",300,18,84,402]
["2020-04-01","Pernoctaciones",410,30,84,524]
["2020-04-01","TOH",9.0156599552572696E-3,1.1640557006092299E-3,null,0]
["2020-04-01","Tarifa promedio",39.602977667493796,75.971962616822424,null,52]
["2020-05-01","Empleos",202,403,141,746]
["2020-05-01","Estancia media",6.1914893617021276,1.0030165912518854,12.676229508196721,3]
["2020-05-01","Habitaciones",344,348,507,1199]
["2020-05-01","Habitaciones vendidas",1156,1228,1291,3675]
["2020-05-01","Ingresos",54638.76,56529,90180,201348]
["2020-05-01","Ingresos (Miles)",54.638760000000005,56.529000000000003,90.18,201]
["2020-05-01","Llegadas",188,1326,244,1758]
["2020-05-01","Pernoctaciones",1164,1330,3093,5587]
["2020-05-01","TOH",0.108402100525131,0.113830181683352,8.2140357574600795E-2,0]
["2020-05-01","Tarifa promedio",47.265363321799313,46.033387622149839,69.852827265685519,55]
["2020-06-01","Empleos",76,220,50,346]
["2020-06-01","Estancia media",2.0666666666666669,1.0607375271149675,3.9460784313725492,2]
["2020-06-01","Habitaciones",171,595,266,1032]
["2020-06-01","Habitaciones vendidas",282,460,805,1547]
["2020-06-01","Ingresos",14595.35,25900.9,45758,86254]
["2020-06-01","Ingresos (Miles)",14.59535,25.900899999999996,45.757999999999996,86]
["2020-06-01","Llegadas",120,461,204,785]
["2020-06-01","Pernoctaciones",248,489,805,1542]
["2020-06-01","TOH",5.4970760233918101E-2,2.5770308123249298E-2,0.100877192982456,0]
["2020-06-01","Tarifa promedio",51.756560283687946,56.306304347826092,56.842236024844723,56]
["2020-07-01","Empleos",99,78,21,198]
["2020-07-01","Estancia media",1.482608695652174,1,1.0081967213114753,1]
["2020-07-01","Habitaciones",376,299,101,776]
["2020-07-01","Habitaciones vendidas",212,70,125,407]
["2020-07-01","Ingresos",13292.02,4291,10194.040000000001,27777]
["2020-07-01","Ingresos (Miles)",13.292019999999997,4.2910000000000004,10.194040000000001,28]
["2020-07-01","Llegadas",230,86,122,438]
["2020-07-01","Pernoctaciones",341,86,123,550]
["2020-07-01","TOH",1.8188057652711E-2,7.5520552378897403E-3,3.9923347173427E-2,0]
["2020-07-01","Tarifa promedio",62.698207547169815,61.3,81.552320000000009,68]
["2020-08-01","Empleos",79,35,89,203]
["2020-08-01","Estancia media",1.3571428571428572,1,1,1]
["2020-08-01","Habitaciones",305,214,222,741]
["2020-08-01","Habitaciones vendidas",440,26,1214,1680]
["2020-08-01","Ingresos",22318.959999999999,1274,127031.89,150625]
["2020-08-01","Ingresos (Miles)",22.318959999999997,1.274,127.03189,151]
["2020-08-01","Llegadas",406,26,1405,1837]
["2020-08-01","Pernoctaciones",551,26,1405,1982]
["2020-08-01","TOH",4.6536224219989403E-2,3.9192041000904402E-3,0.17640220866027301,0]
["2020-08-01","Tarifa promedio",50.724909090909087,49,104.63911861614497,90]
["2020-09-01","Empleos",61,104,86,251]
["2020-09-01","Estancia media",1.1484018264840183,1.1287703016241299,1.4027906976744187,1]
["2020-09-01","Habitaciones",261,556,259,1076]
["2020-09-01","Habitaciones vendidas",370,885,1289,2544]
["2020-09-01","Ingresos",17276.02,38762.062999999995,119546.69,175585]
["2020-09-01","Ingresos (Miles)",17.276019999999999,38.762063000000005,119.54669000000001,176]
["2020-09-01","Llegadas",438,862,1075,2375]
["2020-09-01","Pernoctaciones",503,973,1508,2984]
["2020-09-01","TOH",4.7254150702426598E-2,5.3057553956834501E-2,0.16589446589446599,0]
["2020-09-01","Tarifa promedio",46.691945945945946,43.79894124293785,92.743747090768039,69]
["2020-10-01","Empleos",77,63,29,169]
["2020-10-01","Estancia media",1.1011738401341531,1,1.6986564299424185,1]
["2020-10-01","Habitaciones",476,513,142,1131]
["2020-10-01","Habitaciones vendidas",1723,1942,885,4550]
["2020-10-01","Ingresos",79063.790000000008,120632.45,90674.010000000009,290370]
["2020-10-01","Ingresos (Miles)",79.063789999999997,120.63245000000002,90.67401000000001,290]
["2020-10-01","Llegadas",1789,2066,521,4376]
["2020-10-01","Pernoctaciones",1970,2066,885,4921]
["2020-10-01","TOH",0.116766061263215,0.12211532415267599,0.20104497955474801,0]
["2020-10-01","Tarifa promedio",45.887283807312834,62.117636457260552,102.45650847457628,64]
["2020-11-01","Empleos",52,146,141,339]
["2020-11-01","Estancia media",1.2561403508771929,1.0610786224821314,1.134794776119403,1]
["2020-11-01","Habitaciones",169,630,358,1157]
["2020-11-01","Habitaciones vendidas",580,1342,2433,4355]
["2020-11-01","Ingresos",18896.62,99427.85,240100.39,358425]
["2020-11-01","Ingresos (Miles)",18.896620000000002,99.427850000000007,240.10039,358]
["2020-11-01","Llegadas",570,1539,2144,4253]
["2020-11-01","Pernoctaciones",716,1633,2433,4782]
["2020-11-01","TOH",0.11439842209073001,7.1005291005291002E-2,0.22653631284916201,0]
["2020-11-01","Tarifa promedio",32.580379310344824,74.089307004470939,98.684911631730387,82]
["2020-12-01","Empleos",75,45,192,312]
["2020-12-01","Estancia media",1.1854120267260579,1.0142700329308452,1.1028861571352218,1]
["2020-12-01","Habitaciones",405,288,399,1092]
["2020-12-01","Habitaciones vendidas",1909,704,3287,5900]
["2020-12-01","Ingresos",89265.85,46684.959999999999,263601.07,399552]
["2020-12-01","Ingresos (Miles)",89.26585,46.684960000000004,263.60106999999999,400]
["2020-12-01","Llegadas",1796,911,3742,6449]
["2020-12-01","Pernoctaciones",2129,924,4127,7180]
["2020-12-01","TOH",0.15205097570689,7.8853046594982101E-2,0.26574500768049197,0.17399999999999999]
["2020-12-01","Tarifa promedio",46.760529072812993,66.313863636363635,80.195031944021906,68]
["2021-01-01","Empleos",69,90,117,276]
["2021-01-01","Estancia media",1.2117117117117118,1.112939416604338,1.13734335839599,1]
["2021-01-01","Habitaciones",309,417,279,1005]
["2021-01-01","Habitaciones vendidas",410,1243,1831,3484]
["2021-01-01","Ingresos",26370.2,84341,190758,301469]
["2021-01-01","Ingresos (Miles)",26.370200000000001,84.340999999999994,190.75800000000001,301]
["2021-01-01","Llegadas",444,1337,1995,3776]
["2021-01-01","Pernoctaciones",538,1488,2269,4295]
["2021-01-01","TOH",4.2801962626579003E-2,9.6155333797478204E-2,0.21170077465602999,0.112]
["2021-01-01","Tarifa promedio",64.317560975609751,67.852775543041034,104.18241398143091,87]
["2021-02-01","Empleos",59,180,119,358]
["2021-02-01","Estancia media",1.2842323651452283,1.161865918939587,1.0068807339449541,1]
["2021-02-01","Habitaciones",249,630,135,1014]
["2021-02-01","Habitaciones vendidas",507,2974,959,4440]
["2021-02-01","Ingresos",24735.43,203960.94,88128,316824]
["2021-02-01","Ingresos (Miles)",24.735429999999997,203.96093999999999,88.128,317]
["2021-02-01","Llegadas",482,3923,1308,5713]
["2021-02-01","Pernoctaciones",619,4558,1317,6494]
["2021-02-01","TOH",7.2719449225473298E-2,0.16859410430839,0.25370370370370399,0.16]
["2021-02-01","Tarifa promedio",48.787830374753455,68.581351714862137,91.895724713242956,71]
["2021-03-01","Empleos",48,195,116,359]
["2021-03-01","Estancia media",1.3526011560693643,1.1313325991189427,1.0021204410517388,1]
["2021-03-01","Habitaciones",316,719,241,1276]
["2021-03-01","Habitaciones vendidas",503,3666,1778,5947]
["2021-03-01","Ingresos",28083.08,267438.44,236987.24,532508.76]
["2021-03-01","Ingresos (Miles)",28.083079999999992,267.43844000000001,236.98723999999999,532.50875999999994]
["2021-03-01","Llegadas",519,3632,2358,6509]
["2021-03-01","Pernoctaciones",702,4109,2363,7174]
["2021-03-01","TOH",5.1347488770926902E-2,0.16447575037013801,0.23798688261276901,0.15]
["2021-03-01","Tarifa promedio",55.831172962226645,72.951020185488275,133.28866141732283,90]
["2021-04-01","Empleos",60,147,14,221]
["2021-04-01","Estancia media",1.4602076124567474,1.2975530179445351,1.0192837465564739,1]
["2021-04-01","Habitaciones",245,723,40,1008]
["2021-04-01","Habitaciones vendidas",565,3167,332,4064]
["2021-04-01","Ingresos",31367.200000000001,258501.56,51327.75,341196.51]
["2021-04-01","Ingresos (Miles)",31.3672,258.50156000000004,51.327750000000002,341.19651000000005]
["2021-04-01","Llegadas",578,3065,726,4369]
["2021-04-01","Pernoctaciones",844,3977,740,5561]
["2021-04-01","TOH",7.6870748299319697E-2,0.146011987090825,0.276666666666667,0.4995494020568117]
["2021-04-01","Tarifa promedio",55.517168141592919,81.623479633722766,154.60165662650601,83.955834153543293]
["2021-05-01","Empleos",85,102,19,206]
["2021-05-01","Estancia media",1.1387173396674584,1.3705339221196307,1.2947785855915399,3.8040298473786285]
["2021-05-01","Habitaciones",416,568,184,1168]
["2021-05-01","Habitaciones vendidas",1752,2321,1102,5175]
["2021-05-01","Ingresos",94307.11,208080.3,114342.95,416730.36]
["2021-05-01","Ingresos (Miles)",94.307110000000009,208.08029999999999,114.34295,416.73036000000002]
["2021-05-01","Llegadas",2105,2491,1513,6109]
["2021-05-01","Pernoctaciones",2397,3414,1959,7770]
["2021-05-01","TOH",0.13585607940446601,0.13181508405270301,0.193197755960729,0.46086891941789798]
["2021-05-01","Tarifa promedio",53.828259132420094,89.651141749246008,103.75948275862069,84]
["2021-06-01","Empleos",86,196,114,396]
["2021-06-01","Estancia media",1.0653555219364599,1.1806119685892229,1,1.0908155918955056]
["2021-06-01","Habitaciones",483,521,208,1212]
["2021-06-01","Habitaciones vendidas",2983,3407,2048,8438]
["2021-06-01","Ingresos",172219.9,240665.17,202174,615059.07000000007]
["2021-06-01","Ingresos (Miles)",172.2199,240.66516999999999,202.17399999999998,615.05907000000002]
["2021-06-01","Llegadas",3305,3693,2725,9723]
["2021-06-01","Pernoctaciones",3521,4360,2725,10606]
["2021-06-01","TOH",0.20586611456176701,0.21797824696097201,0.32820512820512798,0.23206820682068208]
["2021-06-01","Tarifa promedio",57.733791485082129,70.638441444085714,98.7177734375,72.891570277316902]
["2021-07-01","Empleos",89,171,112,372]
["2021-07-01","Estancia media",1.1431388012618298,1.0499281609195403,1.0024032042723632,1.0548569499535825]
["2021-07-01","Habitaciones",495,526,249,1270]
["2021-07-01","Habitaciones vendidas",2414,4274,2541,9229]
["2021-07-01","Ingresos",160476.37,419679.13,298316.55,878472.05]
["2021-07-01","Ingresos (Miles)",160.47637,419.67912999999999,298.31655000000001,878.47204999999997]
["2021-07-01","Llegadas",2536,5568,3745,11849]
["2021-07-01","Pernoctaciones",2899,5846,3754,12499]
["2021-07-01","TOH",0.15731508634734401,0.26211210597326101,0.329187718616401,0.23441706883413768]
["2021-07-01","Tarifa promedio",66.477369511184747,98.193525970987366,117.40123966942149,95.186049409470158]
["2021-08-01","Empleos",82,174,131,387]
["2021-08-01","Estancia media",1.273972602739726,1.0735294117647058,1.0028753594199276,1.0586398971659423]
["2021-08-01","Habitaciones",347,580,675,1602]
["2021-08-01","Habitaciones vendidas",1419,5793,6561,13773]
["2021-08-01","Ingresos",70117.790000000008,540932.80000000005,866860.97,1477911.56]
["2021-08-01","Ingresos (Miles)",70.117789999999985,540.93280000000004,866.86097000000007,1477.9115600000002]
["2021-08-01","Llegadas",1606,6732,7999,16337]
["2021-08-01","Pernoctaciones",2046,7227,8022,17295]
["2021-08-01","TOH",0.13191410244492,0.32219132369299203,0.31354838709677402,0.27733478313398574]
["2021-08-01","Tarifa promedio",49.413523608174778,93.376972207837056,132.12329980185947,107.30498511580629]
["2021-09-01","Empleos",56,249,115,420]
["2021-09-01","Estancia media",1.3044838373305527,1.0927167630057804,1.0004548555833523,1.0782521776381551]
["2021-09-01","Habitaciones",298,994,242,1534]
["2021-09-01","Habitaciones vendidas",1187,8323,3200,12710]
["2021-09-01","Ingresos",57355.619999999995,705761.1,376523.06,1139639.78]
["2021-09-01","Ingresos (Miles)",57.355620000000002,705.76109999999994,376.52305999999999,1139.6397799999997]
["2021-09-01","Llegadas",959,8650,4397,14006]
["2021-09-01","Pernoctaciones",1251,9452,4399,15102]
["2021-09-01","TOH",0.132774049217002,0.279107981220657,0.44077134986225902,0.27618426770969146]
["2021-09-01","Tarifa promedio",48.319814658803701,84.796479634747087,117.66345625,89.664813532651465]
["2021-10-31","Empleos",89,259,138,486]
["2021-10-31","Estancia media",1.1703415477734544,1.2088645418326693,1.0035514967021817,1.1537281374654802]
["2021-10-31","Habitaciones",391,923,217,47461]
["2021-10-31","Habitaciones vendidas",2460,8951,3065,14476]
["2021-10-31","Ingresos",189463.96000000002,775750.44000000006,344066.18,1309280.58]
["2021-10-31","Ingresos (Miles)",189.46395999999999,775.75044000000003,344.06617999999997,1309.2805800000003]
["2021-10-31","Llegadas",2313,10040,3942,16295]
["2021-10-31","Pernoctaciones",2707,12137,3956,18800]
["2021-10-31","TOH",0.20295355168715501,0.312829832593576,0.455626579455924,0.30500832262278504]
["2021-10-31","Tarifa promedio",77.017869918699191,86.666343425315617,112.25650244698205,89.664813532651465]

{"sheet":"PROMEDIOS 2","index":4,"n_rows":231,"n_cols":6,"rows_kept":231,"cut":false,"hidden":true,"merged":[]}
[null,null,"3 estrellas","4 estrellas","5 estrellas","Total general"]
["2019-12-01","Empelo",277,537,1203,2017]
["2019-12-01","Estancia media",1.2386335709019416,1.3975596674711719,1.7293713929184216,1.4800981157319657]
["2019-12-01","Habitaciones",790,825,580,2195]
["2019-12-01","Habitaciones vendidas",5474,9880,8916,24270]
["2019-12-01","Ingresos",226909.33000000002,773374.67,864962.5,1865246.4999999998]
["2019-12-01","Ingresos (miles)",226.90933000000001,773.37466999999992,864.96250000000009,1865.2465000000002]
["2019-12-01","Llegadas",4069,7458,6411,17938]
["2019-12-01","PERNOCTACIONES",5040,10423,11087,26550]
["2019-12-01","TOH",0.22351980400163332,0.38631476050830887,0.49588431590656284,0.35667572929678887]
["2019-12-01","Tarifa promedio",41.452197661673367,78.276788461538459,97.012393449977566,76.853996703749473]
["2020-01-01","Empelo",165,443,1128,1736]
["2020-01-01","Estancia media",2.5591775325977935,1.2082270408163265,3.2029932546374367,2.1426594926979248]
["2020-01-01","Habitaciones",1039,1275,779,3093]
["2020-01-01","Habitaciones vendidas",2582,5740,15281,23603]
["2020-01-01","Ingresos",134780.24,438663.95,1701399.31,2274843.4999999995]
["2020-01-01","Ingresos (miles)",134.78024000000002,438.66395000000006,1701.3993100000002,2274.8434999999999]
["2020-01-01","Llegadas",1994,6272,4744,13010]
["2020-01-01","PERNOCTACIONES",5103,7578,15195,27876]
["2020-01-01","TOH",8.0163929336520848E-2,0.14522454142947502,0.63277982525156318,0.24616459643523877]
["2020-01-01","Tarifa promedio",52.19993803253292,76.422290940766558,111.3408356782933,96.379422107359218]
["2020-02-01","Empelo",26,234,13,273]
["2020-02-01","Estancia media",1.6829268292682926,1.04155672823219,1.0705882352941176,1.058576874205845]
["2020-02-01","Habitaciones",466,1332,210,2008]
["2020-02-01","Habitaciones vendidas",257,6613,88,6958]
["2020-02-01","Ingresos",36476,544678.17999999993,10608.36,591762.53999999992]
["2020-02-01","Ingresos (miles)",36.475999999999999,544.67818,10.608359999999999,591.76254000000006]
["2020-02-01","Llegadas",205,7580,85,7870]
["2020-02-01","PERNOCTACIONES",345,7895,91,8331]
["2020-02-01","TOH",1.901731537664644E-2,0.1711970591280936,1.444991789819376E-2,0.11948756697348537]
["2020-02-01","Tarifa promedio",141.92996108949416,82.364763344926644,120.54954545454547,85.047792469100301]
["2020-03-01","Empelo",102,166,27,295]
["2020-03-01","Estancia media",1.4185714285714286,1.1312500000000001,1.1391304347826088,1.1746509129967777]
["2020-03-01","Habitaciones",2441,6919,997,10357]
["2020-03-01","Habitaciones vendidas",620,3084,108,3812]
["2020-03-01","Ingresos",65583.34,252497.63,9231.92,327312.89]
["2020-03-01","Ingresos (miles)",65.583340000000007,252.49763000000002,9.2319200000000006,327.31288999999998]
["2020-03-01","Llegadas",700,3840,115,4655]
["2020-03-01","PERNOCTACIONES",993,4344,131,5468]
["2020-03-01","TOH",8.1933633756657107E-3,1.4378359729403373E-2,3.4943540298314297E-3,1.1872911261512395E-2]
["2020-03-01","Tarifa promedio",105.77958064516129,81.873420881971469,85.480740740740742,85.863822140608605]
["2020-04-01","Empelo",68,199,47,314]
["2020-04-01","Estancia media",1.3666666666666667,1.6666666666666667,1,1.3034825870646767]
["2020-04-01","Habitaciones",1490,6128,311,7929]
["2020-04-01","Habitaciones vendidas",403,214,null,617]
["2020-04-01","Ingresos",15960,16258,0,32218]
["2020-04-01","Ingresos (miles)",15.96,16.257999999999999,0,32.218000000000004]
["2020-04-01","Llegadas",300,18,84,402]
["2020-04-01","PERNOCTACIONES",410,30,84,524]
["2020-04-01","TOH",9.0156599552572714E-3,1.1640557006092254E-3,null,2.5938537856812546E-3]
["2020-04-01","Tarifa promedio",39.602977667493796,75.971962616822424,null,52.217179902755269]
["2020-05-01","Empelo",202,403,141,746]
["2020-05-01","Estancia media",6.1914893617021276,1.0030165912518854,12.676229508196721,3.178043230944255]
["2020-05-01","Habitaciones",344,348,507,1199]
["2020-05-01","Habitaciones vendidas",1156,1228,1291,3675]
["2020-05-01","Ingresos",54638.76,56529,90180,201347.76]
["2020-05-01","Ingresos (miles)",54.638760000000005,56.529000000000003,90.18,201.34775999999999]
["2020-05-01","Llegadas",188,1326,244,1758]
["2020-05-01","PERNOCTACIONES",1164,1330,3093,5587]
["2020-05-01","TOH",0.10840210052513129,0.11383018168335188,8.2140357574600753E-2,9.887271651107106E-2]
["2020-05-01","Tarifa promedio",47.265363321799313,46.033387622149839,69.852827265685519,54.788506122448979]
["2020-06-01","Empelo",76,220,50,346]
["2020-06-01","Estancia media",2.0666666666666669,1.0607375271149675,3.9460784313725492,1.9643312101910828]
["2020-06-01","Habitaciones",171,595,266,1032]
["2020-06-01","Habitaciones vendidas",282,460,805,1547]
["2020-06-01","Ingresos",14595.35,25900.9,45758,86254.25]
["2020-06-01","Ingresos (miles)",14.59535,25.900899999999996,45.757999999999996,86.254249999999985]
["2020-06-01","Llegadas",120,461,204,785]
["2020-06-01","PERNOCTACIONES",248,489,805,1542]
["2020-06-01","TOH",5.4970760233918128E-2,2.5770308123249298E-2,0.10087719298245613,4.9967700258397932E-2]
["2020-06-01","Tarifa promedio",51.756560283687946,56.306304347826092,56.842236024844723,55.755817711700068]
["2020-07-01","Empelo",99,78,21,198]
["2020-07-01","Estancia media",1.482608695652174,1,1.0081967213114753,1.2557077625570776]
["2020-07-01","Habitaciones",376,299,101,776]
["2020-07-01","Habitaciones vendidas",212,70,125,407]
["2020-07-01","Ingresos",13292.02,4291,10194.040000000001,27777.06]
["2020-07-01","Ingresos (miles)",13.292019999999997,4.2910000000000004,10.194040000000001,27.777060000000002]
["2020-07-01","Llegadas",230,86,122,438]
["2020-07-01","PERNOCTACIONES",341,86,123,550]
["2020-07-01","TOH",1.8188057652711049E-2,7.5520552378897403E-3,3.9923347173427021E-2,1.6918856002660458E-2]
["2020-07-01","Tarifa promedio",62.698207547169815,61.3,81.552320000000009,68.248304668304669]
["2020-08-01","Empelo",79,35,89,203]
["2020-08-01","Estancia media",1.3571428571428572,1,1,1.0789330430048993]
["2020-08-01","Habitaciones",305,214,222,741]
["2020-08-01","Habitaciones vendidas",440,26,1214,1680]
["2020-08-01","Ingresos",22318.959999999999,1274,127031.89,150624.85]
["2020-08-01","Ingresos (miles)",22.318959999999997,1.274,127.03189,150.62485000000001]
["2020-08-01","Llegadas",406,26,1405,1837]
["2020-08-01","PERNOCTACIONES",551,26,1405,1982]
["2020-08-01","TOH",4.6536224219989424E-2,3.9192041000904428E-3,0.17640220866027317,7.313569283009011E-2]
["2020-08-01","Tarifa promedio",50.724909090909087,49,104.63911861614497,89.657648809523806]
["2020-09-01","Empelo",61,104,86,251]
["2020-09-01","Estancia media",1.1484018264840183,1.1287703016241299,1.4027906976744187,1.2564210526315789]
["2020-09-01","Habitaciones",261,556,259,1076]
["2020-09-01","Habitaciones vendidas",370,885,1289,2544]
["2020-09-01","Ingresos",17276.02,38762.062999999995,119546.69,175584.77300000002]
["2020-09-01","Ingresos (miles)",17.276019999999999,38.762063000000005,119.54669000000001,175.58477300000001]
["2020-09-01","Llegadas",438,862,1075,2375]
["2020-09-01","PERNOCTACIONES",503,973,1508,2984]
["2020-09-01","TOH",4.7254150702426563E-2,5.3057553956834536E-2,0.16589446589446588,7.8810408921933084E-2]
["2020-09-01","Tarifa promedio",46.691945945945946,43.79894124293785,92.743747090768039,69.019171776729564]
["2020-10-01","Empelo",77,63,29,169]
["2020-10-01","Estancia media",1.1011738401341531,1,1.6986564299424185,1.1245429616087752]
["2020-10-01","Habitaciones",476,513,142,1131]
["2020-10-01","Habitaciones vendidas",1723,1942,885,4550]
["2020-10-01","Ingresos",79063.790000000008,120632.45,90674.010000000009,290370.25]
["2020-10-01","Ingresos (miles)",79.063789999999997,120.63245000000002,90.67401000000001,290.37025000000006]
["2020-10-01","Llegadas",1789,2066,521,4376]
["2020-10-01","PERNOCTACIONES",1970,2066,885,4921]
["2020-10-01","TOH",0.11676606126321497,0.12211532415267559,0.20104497955474784,0.12977382276603633]
["2020-10-01","Tarifa promedio",45.887283807312834,62.117636457260552,102.45650847457628,63.817637362637363]
["2020-11-01","Empelo",52,146,141,339]
["2020-11-01","Estancia media",1.2561403508771929,1.0610786224821314,1.134794776119403,1.1243827886197977]
["2020-11-01","Habitaciones",169,630,358,1157]
["2020-11-01","Habitaciones vendidas",580,1342,2433,4355]
["2020-11-01","Ingresos",18896.62,99427.85,240100.39,358424.86]
["2020-11-01","Ingresos (miles)",18.896620000000002,99.427850000000007,240.10039,358.42485999999997]
["2020-11-01","Llegadas",570,1539,2144,4253]
["2020-11-01","PERNOCTACIONES",716,1633,2433,4782]
["2020-11-01","TOH",0.11439842209072978,7.1005291005291002E-2,0.22653631284916201,0.12546816479400749]
["2020-11-01","Tarifa promedio",32.580379310344824,74.089307004470939,98.684911631730387,82.3019196326062]
["2020-12-01","Empelo",75,45,192,312]
["2020-12-01","Estancia media",1.1854120267260579,1.0142700329308452,1.1028861571352218,1.1133509071173826]
["2020-12-01","Habitaciones",405,288,399,1092]
["2020-12-01","Habitaciones vendidas",1909,704,3287,5900]
["2020-12-01","Ingresos",89265.85,46684.959999999999,263601.07,399551.88]
["2020-12-01","Ingresos (miles)",89.26585,46.684960000000004,263.60106999999999,399.55188000000004]
["2020-12-01","Llegadas",1796,911,3742,6449]
["2020-12-01","PERNOCTACIONES",2129,924,4127,7180]
["2020-12-01","TOH",0.15205097570688969,7.8853046594982074E-2,0.26574500768049153,0.17428807751388398]
["2020-12-01","Tarifa promedio",46.760529072812993,66.313863636363635,80.195031944021906,67.720657627118641]
["2021-01-01","Empelo",69,90,117,276]
["2021-01-01","Estancia media",1.2117117117117118,1.112939416604338,1.13734335839599,1.1374470338983051]
["2021-01-01","Habitaciones",309,417,279,1005]
["2021-01-01","Habitaciones vendidas",410,1243,1831,3484]
["2021-01-01","Ingresos",26370.2,84341,190758,301469.2]
["2021-01-01","Ingresos (miles)",26.370200000000001,84.340999999999994,190.75800000000001,301.4692]
["2021-01-01","Llegadas",444,1337,1995,3776]
["2021-01-01","PERNOCTACIONES",538,1488,2269,4295]
["2021-01-01","TOH",4.2801962626578975E-2,9.6155333797478149E-2,0.2117007746560296,0.11182795698924732]
["2021-01-01","Tarifa promedio",64.317560975609751,67.852775543041034,104.18241398143091,86.529621125143521]
["2021-02-01","Empelo",59,180,119,358]
["2021-02-01","Estancia media",1.2842323651452283,1.161865918939587,1.0068807339449541,1.136705758795729]
["2021-02-01","Habitaciones",249,630,135,1014]
["2021-02-01","Habitaciones vendidas",507,2974,959,4440]
["2021-02-01","Ingresos",24735.43,203960.94,88128,316824.37000000005]
["2021-02-01","Ingresos (miles)",24.735429999999997,203.96093999999999,88.128,316.8243700000001]
["2021-02-01","Llegadas",482,3923,1308,5713]
["2021-02-01","PERNOCTACIONES",619,4558,1317,6494]
["2021-02-01","TOH",7.2719449225473326E-2,0.16859410430839003,0.25370370370370371,0.15638207945900254]
["2021-02-01","Tarifa promedio",48.787830374753455,68.581351714862137,91.895724713242956,71.356840090090103]
["2021-03-01","Empelo",48,195,116,359]
["2021-03-01","Estancia media",1.3526011560693643,1.1313325991189427,1.0021204410517388,1.1021662313719465]
["2021-03-01","Habitaciones",316,719,241,1276]
["2021-03-01","Habitaciones vendidas",503,3666,1778,5947]
["2021-03-01","Ingresos",28083.08,267438.44,236987.24,532508.76]
["2021-03-01","Ingresos (miles)",28.083079999999992,267.43844000000001,236.98723999999999,532.50876000000005]
["2021-03-01","Llegadas",519,3632,2358,6509]
["2021-03-01","PERNOCTACIONES",702,4109,2363,7174]
["2021-03-01","TOH",5.1347488770926909E-2,0.16447575037013773,0.23798688261276937,0.15034381636161392]
["2021-03-01","Tarifa promedio",55.831172962226645,72.951020185488275,133.28866141732283,89.542418025895415]
["2021-04-01","Empelo",60,147,14,221]
["2021-04-01","Estancia media",1.4602076124567474,1.2975530179445351,1.0192837465564739,1.2728313115129319]
["2021-04-01","Habitaciones",245,723,40,1008]
["2021-04-01","Habitaciones vendidas",565,3167,332,4064]
["2021-04-01","Ingresos",31367.200000000001,258501.56,51327.75,341196.50999999995]
["2021-04-01","Ingresos (miles)",31.3672,258.50156000000004,51.327750000000002,341.19651000000005]
["2021-04-01","Llegadas",578,3065,726,4369]
["2021-04-01","PERNOCTACIONES",844,3977,740,5561]
["2021-04-01","TOH",7.6870748299319724E-2,0.14601198709082527,0.27666666666666667,0.1343915343915344]
["2021-04-01","Tarifa promedio",55.517168141592919,81.623479633722766,154.60165662650601,83.955834153543293]
["2021-05-01","Empelo",85,102,19,206]
["2021-05-01","Estancia media",1.1387173396674584,1.3705339221196307,1.2947785855915399,1.2718939269929612]
["2021-05-01","Habitaciones",416,568,184,1168]
["2021-05-01","Habitaciones vendidas",1752,2321,1102,5175]
["2021-05-01","Ingresos",94307.11,208080.3,114342.95,416730.35999999993]
["2021-05-01","Ingresos (miles)",94.307110000000009,208.08029999999999,114.34295,416.73035999999991]
["2021-05-01","Llegadas",2105,2491,1513,6109]
["2021-05-01","PERNOCTACIONES",2397,3414,1959,7770]
["2021-05-01","TOH",0.13585607940446651,0.13181508405270331,0.1931977559607293,0.14292421564295182]
["2021-05-01","Tarifa promedio",53.828259132420094,89.651141749246008,103.75948275862069,80.52760579710143]
["2021-06-01","Empelo",86,196,114,396]
["2021-06-01","Estancia media",1.0653555219364599,1.1806119685892229,1,1.0908155918955056]
["2021-06-01","Habitaciones",483,521,208,1212]
["2021-06-01","Habitaciones vendidas",2983,3407,2048,8438]
["2021-06-01","Ingresos",172219.9,240665.17,202174,615059.07000000007]
["2021-06-01","Ingresos (miles)",172.2199,240.66516999999999,202.17399999999998,615.05907000000002]
["2021-06-01","Llegadas",3305,3693,2725,9723]
["2021-06-01","PERNOCTACIONES",3521,4360,2725,10606]
["2021-06-01","TOH",0.20586611456176673,0.21797824696097248,0.3282051282051282,0.23206820682068208]
["2021-06-01","Tarifa promedio",57.733791485082129,70.638441444085714,98.7177734375,72.891570277316902]
["2021-07-01","Empelo",89,171,112,372]
["2021-07-01","Estancia media",1.1431388012618298,1.0499281609195403,1.0024032042723632,1.0548569499535825]
["2021-07-01","Habitaciones",495,526,249,1270]
["2021-07-01","Habitaciones vendidas",2414,4274,2541,9229]
["2021-07-01","Ingresos",160476.37,419679.13,298316.55,878472.05]
["2021-07-01","Ingresos (miles)",160.47637,419.67912999999999,298.31655000000001,878.47204999999997]
["2021-07-01","Llegadas",2536,5568,3745,11849]
["2021-07-01","PERNOCTACIONES",2899,5846,3754,12499]
["2021-07-01","TOH",0.15731508634734442,0.2621121059732614,0.32918771861640111,0.23441706883413768]
["2021-07-01","Tarifa promedio",66.477369511184747,98.193525970987366,117.40123966942149,95.186049409470158]
["2021-08-01","Empelo",82,174,131,387]
["2021-08-01","Estancia media",1.273972602739726,1.0735294117647058,1.0028753594199276,1.0586398971659423]
["2021-08-01","Habitaciones",347,580,675,1602]
["2021-08-01","Habitaciones vendidas",1419,5793,6561,13773]
["2021-08-01","Ingresos",70117.790000000008,540932.80000000005,866860.97,1477911.56]
["2021-08-01","Ingresos (miles)",70.117789999999985,540.93280000000004,866.86097000000007,1477.9115600000002]
["2021-08-01","Llegadas",1606,6732,7999,16337]
["2021-08-01","PERNOCTACIONES",2046,7227,8022,17295]
["2021-08-01","TOH",0.13191410244491958,0.32219132369299219,0.31354838709677418,0.27733478313398574]
["2021-08-01","Tarifa promedio",49.413523608174778,93.376972207837056,132.12329980185947,107.30498511580629]
["2021-09-01","Empelo",56,249,115,420]
["2021-09-01","Estancia media",1.3044838373305527,1.0927167630057804,1.0004548555833523,1.0782521776381551]
["2021-09-01","Habitaciones",298,994,242,1534]
["2021-09-01","Habitaciones vendidas",1187,8323,3200,12710]
["2021-09-01","Ingresos",57355.619999999995,705761.1,376523.06,1139639.78]
["2021-09-01","Ingresos (miles)",57.355620000000002,705.76109999999994,376.52305999999999,1139.6397799999997]
["2021-09-01","Llegadas",959,8650,4397,14006]
["2021-09-01","PERNOCTACIONES",1251,9452,4399,15102]
["2021-09-01","TOH",0.13277404921700223,0.27910798122065728,0.44077134986225897,0.27618426770969146]
["2021-09-01","Tarifa promedio",48.319814658803701,84.796479634747087,117.66345625,89.664813532651465]
["2021-10-31","Empelo",89,259,138,486]
["2021-10-31","Estancia media",1.1703415477734544,1.2088645418326693,1.0035514967021817,1.1537281374654802]
["2021-10-31","Habitaciones",391,923,217,1531]
["2021-10-31","Habitaciones vendidas",2460,8951,3065,14476]
["2021-10-31","Ingresos",189463.96000000002,775750.44000000006,344066.18,1309280.58]
["2021-10-31","Ingresos (miles)",189.46395999999999,775.75044000000003,344.06617999999997,1309.2805800000003]
["2021-10-31","Llegadas",2313,10040,3942,16295]
["2021-10-31","PERNOCTACIONES",2707,12137,3956,18800]
["2021-10-31","TOH",0.20295355168715454,0.31282983259357633,0.45562657945592389,0.30500832262278504]
["2021-10-31","Tarifa promedio",77.017869918699191,86.666343425315617,112.25650244698205,90.444914340978173]

{"sheet":"AUXILIARES","index":5,"n_rows":286,"n_cols":17,"rows_kept":286,"cut":false,"hidden":true,"merged":[]}
[]
[null,"EMPLEO"]
[null,"EMPLEO_MES",null,null,"EMPLEO_CAT",null,null,"EMPLEO_TIPO",null,null,"EMPLEO_SECTOR",null,null,null,null,"EMPLEO_PROM",{"$f":"GETPIVOTDATA(\"[Measures].[Suma de EMPLEOS]\",$P$4)/GETPIVOTDATA(\"[Measures].[Recuento distinto de MES]\",$P$4)","v":348.1}]
[null,"FECHA","Suma de EMPLEOS",null,"CATEGORÍA","Suma de EMPLEOS",null,"TIPO"," EMPLEOS",null," EMPLEOS","Etiquetas de columna",null,null,null,"Recuento MES","Promedio Empleo"]
[null,"2019",null,null,"3 estrellas",723,null,"Lodge",98,null,"SECTOR","3 estrellas","4 estrellas","5 estrellas",null,10,3481]
[null,"dic",2017,null,"4 estrellas",1763,null,"Hotel",3078,null,"Eugenio Espejo",337,557,893]
[null,"2020",null,null,"5 estrellas",995,null,"Hostería",196,null,"La Delicia",117,15,0]
[null,"ene",1736,null,null,null,null,"Hostal",54,null,"La Mariscal",193,804,0]
[null,"feb",273,null,null,null,null,"Hacienda Turística",55,null,"Los Chillos",0,72]
[null,"mar",295,null,null,null,null,null,null,null,"Manuela Sáenz",56,125]
[null,"abr",314,null,null,null,null,null,null,null,"Tumbaco",20,190,102]
[null,"may",746]
[null,"jun",346]
[null,"jul",198]
[null,"ago",203]
[null,"sep",251]
[null,"oct",169]
[null,"nov",339]
[null,"dic",312]
[null,"2021"]
[null,"ene",276]
[null,"feb",358]
[null,"mar",359]
[null,"abr",221]
[null,"may",206]
[null,"jun",396]
[null,"jul",372]
[null,"ago",387]
[null,"sep",420]
[null,"oct",486]
[]
[null,"HABITACIONES VENDIDAS"]
[]
[]
[null,"HABITACIONES_MES",null,null,"HABITACIONES_CAT",null,null,"HABITACIONES_TIPO",null,null,"HABITACIONES_SECTOR",null,null,null,null,"HABITACIONES_PROM",{"$f":"GETPIVOTDATA(\"[Measures].[Suma de TOTAL HABITACIONES VENDIDAS]\",$P$36)/GETPIVOTDATA(\"[Measures].[Recuento distinto de MES]\",$P$36)","v":8173.6}]
[null,"FECHA","HABITACIONES VENDIDAS",null,"CATEGORÍA"," HABITACIONES VENDIDAS",null,"TIPO"," HABITACIONES VENDIDAS",null," HABITACIONES VENDIDAS","Etiquetas de columna",null,null,null,"Recuento MES","Promedio Habitaciones Vendidas"]
[null,"2019",null,null,"3 estrellas",14200,null,"Hostería",554,null,"SECTOR","3 estrellas","4 estrellas","5 estrellas",null,10,81736]
[null,"dic",24270,null,"4 estrellas",44119,null,"Lodge",2597,null,"Eugenio Espejo",9812,18619,15822]
[null,"2020",null,null,"5 estrellas",23417,null,"Hotel",77964,null,"La Delicia",307,16,2081]
[null,"ene",23603,null,null,null,null,"Hacienda Turística",168,null,"La Mariscal",3531,18604,4939]
[null,"feb",6958,null,null,null,null,"Hostal",453,null,"Los Chillos",null,257]
[null,"mar",3812,null,null,null,null,null,null,null,"Manuela Sáenz",330,3765]
[null,"abr",617,null,null,null,null,null,null,null,"Tumbaco",220,2858,575]
[null,"may",3675]
[null,"jun",1547]
[null,"jul",407]
[null,"ago",1680]
[null,"sep",2544]
[null,"oct",4550]
[null,"nov",4355]
[null,"dic",5900]
[null,"2021"]
[null,"ene",3484]
[null,"feb",4440]
[null,"mar",5947]
[null,"abr",4064]
[null,"may",5175]
[null,"jun",8438]
[null,"jul",9229]
[null,"ago",13773]
[null,"sep",12710]
[null,"oct",14476]
[]
[null,"TOH"]
[]
[null,"TOH_MES",null,null,"TOH_CAT",null,null,"TOH_TIPO",null,null,"TOH_SECTOR",null,null,null,null,"TOH_PROM"]
[null,"FECHA","TOH",null,"CATEGORÍA","TOH",null,"TIPO","TOH",null,"TOH","Etiquetas de columna",null,null,null,"Recuento MES","Promedio TOH"]
[null,"2019",null,null,"3 estrellas",0.13151497353475797,null,"Lodge",0.28863573214781885,null,"SECTOR","3 estrellas","4 estrellas","5 estrellas",null,10,0.20208822519656316]
[null,"dic",0.35667572929678887,null,"4 estrellas",0.22006486374324255,null,"Hotel",0.22854630199630641,null,"Eugenio Espejo",0.18517086549819098,0.26893189058914807,0.34564624345646244]
[null,"2020",null,null,"5 estrellas",0.31020259473601419,null,"Hostería",4.2909776010048147E-2,null,"La Delicia",3.6436840375415405E-2,3.0360531309297913E-2,0.47124094202898553]
[null,"ene",0.24616459643523877,null,null,null,null,"Hostal",3.3706514646794188E-2,null,"La Mariscal",0.10834347593822702,0.18452109999791194,0.22535018478806407]
[null,"feb",0.11948756697348537,null,null,null,null,"Hacienda Turística",2.2035315528011412E-2,null,"Los Chillos",null,8.0852280852280856E-2]
[null,"mar",1.1872911261512395E-2,null,null,null,null,null,null,null,"Manuela Sáenz",4.8897581792318637E-2,0.21957082328599356]
[null,"abr",2.5938537856812546E-3,null,null,null,null,null,null,null,"Tumbaco",3.2003879258091887E-2,0.30534188034188037,0.1683255269320843]
[null,"may",9.887271651107106E-2]
[null,"jun",4.9967700258397932E-2]
[null,"jul",1.6918856002660458E-2]
[null,"ago",7.313569283009011E-2]
[null,"sep",7.8810408921933084E-2]
[null,"oct",0.12977382276603633]
[null,"nov",0.12546816479400749]
[null,"dic",0.17428807751388398]
[null,"2021"]
[null,"ene",0.11182795698924732]
[null,"feb",0.15638207945900254]
[null,"mar",0.15034381636161392]
[null,"abr",0.1343915343915344]
[null,"may",0.14292421564295182]
[null,"jun",0.23206820682068208]
[null,"jul",0.23441706883413768]
[null,"ago",0.27733478313398574]
[null,"sep",0.27618426770969146]
[null,"oct",0.30500832262278504]
[]
[null,"ESTANCIA MEDIA"]
[]
[]
[null,"ESTANCIAMEDIA_MES",null,null,"ESTANCIAMEDIA_CAT",null,null,"ESTANCIAMEDIA_TIPO",null,null,"ESTANCIAMEDIA_SECTOR",null,null,null,null,"ESTANCIAMEDIA_PROM"]
[null,"FECHA","ESTANCIA MEDIA",null,"CATEGORÍA","ESTANCIA MEDIA",null,"TIPO","ESTANCIA MEDIA",null,"ESTANCIA MEDIA","Etiquetas de columna",null,null,null,"Recuento MES","Promedio Estancia Media"]
[null,"2019",null,null,"3 estrellas",1.180305785680609,null,"Lodge",1.0461046292811442,null,"SECTOR","3 estrellas","4 estrellas","5 estrellas",null,10,1.1357337016690541]
[null,"dic",1.4800981157319657,null,"4 estrellas",1.1513708249374122,null,"Hotel",1.1183732917629121,null,"Eugenio Espejo",1.0990118194148422,1.1056493030080705,1]
[null,"2020",null,null,"5 estrellas",1.0259215839520646,null,"Hostería",1.1940976163450625,null,"La Delicia",1.3552238805970149,1,1]
[null,"ene",2.1426594926979248,null,null,null,null,"Hostal",1.1870669745958429,null,"La Mariscal",1.3858740114535042,1.2220342169580749,1.1095419847328245]
[null,"feb",1.058576874205845,null,null,null,null,"Hacienda Turística",1.0571428571428572,null,"Los Chillos",null,1.0587044534412955]
[null,"mar",1.1746509129967777,null,null,null,null,null,null,null,"Manuela Sáenz",1.2838283828382839,1.1219768664563616]
[null,"abr",1.3034825870646767,null,null,null,null,null,null,null,"Tumbaco",1.1590909090909092,1,1.2314911366006256]
[null,"may",3.178043230944255]
[null,"jun",1.9643312101910828]
[null,"jul",1.2557077625570776]
[null,"ago",1.0789330430048993]
[null,"sep",1.2564210526315789]
[null,"oct",1.1245429616087752]
[null,"nov",1.1243827886197977]
[null,"dic",1.1133509071173826]
[null,"2021"]
[null,"ene",1.1374470338983051]
[null,"feb",1.136705758795729]
[null,"mar",1.1021662313719465]
[null,"abr",1.2728313115129319]
[null,"may",1.2718939269929612]
[null,"jun",1.0908155918955056]
[null,"jul",1.0548569499535825]
[null,"ago",1.0586398971659423]
[null,"sep",1.0782521776381551]
[null,"oct",1.1537281374654802]
[]
[null,"LLEGADAS"]
[]
[]
[null,"LLEGADAS_MES",null,null,"LLEGADAS_CAT",null,null,"LLEGADAS_TIPO",null,null,"LLEGADAS_SECTOR",null,null,null,null,"LLEGADAS_PROM",{"$f":"GETPIVOTDATA(\"[Measures].[Suma de TOTAL LLEGADAS]\",$P$131)/GETPIVOTDATA(\"[Measures].[Recuento distinto de MES]\",$P$131)","v":9468.6}]
[null,"FECHA"," LLEGADAS",null,"CATEGORÍA","LLEGADAS",null,"TIPO","LLEGADAS",null,"LLEGADAS","Etiquetas de columna",null,null,null,"Recuento MES","Promedio LLEGADAS"]
[null,"2019",null,null,"3 estrellas",14847,null,"Hotel",87883,null,"SECTOR","3 estrellas","4 estrellas","5 estrellas",null,10,94686]
[null,"dic",17938,null,"4 estrellas",49131,null,"Hostería",881,null,"Eugenio Espejo",10322,17719,20092]
[null,"2020",null,null,"5 estrellas",30708,null,"Lodge",5314,null,"La Delicia",335,55,4417]
[null,"ene",13010,null,null,null,null,"Hostal",433,null,"La Mariscal",3667,21276,5240]
[null,"feb",7870,null,null,null,null,"Hacienda Turística",175,null,"Los Chillos",0,494]
[null,"mar",4655,null,null,null,null,null,null,null,"Manuela Sáenz",303,6657]
[null,"abr",402,null,null,null,null,null,null,null,"Tumbaco",220,2930,959]
[null,"may",1758]
[null,"jun",785]
[null,"jul",438]
[null,"ago",1837]
[null,"sep",2375]
[null,"oct",4376]
[null,"nov",4253]
[null,"dic",6449]
[null,"2021"]
[null,"ene",3776]
[null,"feb",5713]
[null,"mar",6509]
[null,"abr",4369]
[null,"may",6109]
[null,"jun",9723]
[null,"jul",11849]
[null,"ago",16337]
[null,"sep",14006]
[null,"oct",16295]
[]
[null,"INGRESOS"]
[]
[]
[null,"INGRESOS_MES",null,null,"INGRESOS_CAT",null,null,"INGRESOS_TIPO",null,null,"INGRESOS_SECTOR",null,null,null,null,"INGRESOS_PROM",{"$f":"GETPIVOTDATA(\"[Measures].[Suma de VENTAS POR ALOJAMIENTO DURANTE EL MES (MILES)]\",$P$163)/GETPIVOTDATA(\"[Measures].[Recuento distinto de MES]\",$P$163)","v":732.90922399999988}]
[null,"FECHA","INGRESOS (MILES)",null,"CATEGORÍA","INGRESOS (MILES)",null,"TIPO","INGRESOS (MILES)",null,"INGRESOS (MILES)","Etiquetas de columna",null,null,null,"Recuento MES","Ingresos (miles)"]
[null,"2019",null,null,"3 estrellas",854.49666000000002,null,"Hotel",6513.4579400000011,null,"SECTOR","3 estrellas","4 estrellas","5 estrellas",null,10,7329.092239999999]
[null,"dic",1865.2465000000002,null,"4 estrellas",3705.1108800000002,null,"Hostería",51.025410000000001,null,"Eugenio Espejo",610.97399000000007,1278.1418500000002,1669.6661799999999]
[null,"2020",null,null,"5 estrellas",2769.4847000000009,null,"Lodge",701.85070999999994,null,"La Delicia",49.594670000000001,2,621.28565000000003]
[null,"ene",2274.8434999999999,null,null,null,null,"Hacienda Turística",22.608909999999998,null,"La Mariscal",137.67299999999997,1286.40164,405.33681000000001]
[null,"feb",591.76254000000006,null,null,null,null,"Hostal",40.149270000000001,null,"Los Chillos",0,17.140619999999998]
[null,"mar",327.31288999999998,null,null,null,null,null,null,null,"Manuela Sáenz",34.439,894.64013999999997]
[null,"abr",32.218000000000004,null,null,null,null,null,null,null,"Tumbaco",21.815999999999999,226.78663,73.196059999999989]
[null,"may",201.34775999999999]
[null,"jun",86.254249999999985]
[null,"jul",27.777060000000002]
[null,"ago",150.62485000000001]
[null,"sep",175.58477300000001]
[null,"oct",290.37025000000006]
[null,"nov",358.42485999999997]
[null,"dic",399.55188000000004]
[null,"2021"]
[null,"ene",301.4692]
[null,"feb",316.8243700000001]
[null,"mar",532.50876000000005]
[null,"abr",341.19651000000005]
[null,"may",416.73035999999991]
[null,"jun",615.05907000000002]
[null,"jul",878.47204999999997]
[null,"ago",1477.9115600000002]
[null,"sep",1139.6397799999997]
[null,"oct",1309.2805800000003]
[]
[null,"PERNOCTACIONES"]
[]
[]
[null,"PERNOCTACIONES_MES",null,null,"PERNOCTACIONES_CAT",null,null,"PERNOCTACIONES_TIPO",null,null,"PERNOCTACIONES_SECTOR",null,null,null,null,"PERNOCTACIONES_PROM"]
[null,"FECHA","Suma de TOTAL PERNOCTACIONES",null,"CATEGORÍA","Suma de TOTAL PERNOCTACIONES",null,"TIPO",null,null,"Suma de TOTAL PERNOCTACIONES","Etiquetas de columna",null,null,null,"Recuento MES","Promedio Pernoctaciones"]
[null,"2019",null,null,"3 estrellas",17524,null,"Hostería",null,null,"SECTOR","3 estrellas","4 estrellas","5 estrellas",null,10,10559.6]
[null,"dic",26550,null,"4 estrellas",56568,null,"Lodge",null,null,"Eugenio Espejo",11344,19591,20092]
[null,"2020",null,null,"5 estrellas",31504,null,"Hacienda Turística",null,null,"La Delicia",454,55,4417]
[null,"ene",27876,null,null,null,null,"Hotel",null,null,"La Mariscal",5082,26000,5814]
[null,"feb",8331,null,null,null,null,"Hostal",null,null,"Los Chillos",0,523]
[null,"mar",5468,null,null,null,null,null,null,null,"Manuela Sáenz",389,7469]
[null,"abr",524,null,null,null,null,null,null,null,"Tumbaco",255,2930,1181]
[null,"may",5587]
[null,"jun",1542]
[null,"jul",550]
[null,"ago",1982]
[null,"sep",2984]
[null,"oct",4921]
[null,"nov",4782]
[null,"dic",7180]
[null,"2021"]
[null,"ene",4295]
[null,"feb",6494]
[null,"mar",7174]
[null,"abr",5561]
[null,"may",7770]
[null,"jun",10606]
[null,"jul",12499]
[null,"ago",17295]
[null,"sep",15102]
[null,"oct",18800]
[]
[null,"TARIFA DE HABITACIÓN OCUPADA"]
[]
[]
[null,"TARIFA_MES",null,null,"TARIFA_CAT",null,null,"TARIFA_TIPO",null,null,"TARIFA_SECTOR",null,null,null,null,"TARIFA_PROM"]
[null,"FECHA","TARIFA ",null,"CATEGORÍA","TARIFA ",null,"TIPO","TARIFA ",null,"TARIFA","Etiquetas de columna",null,null,null,"Recuento MES","Promedio Tarifa"]
[null,"2019",null,null,"3 estrellas",60.175821126760574,null,"Lodge",270.25441278398148,null,"SECTOR","3 estrellas","4 estrellas","5 estrellas",null,10,86.740465186799668]
[null,"dic",76.853996703749473,null,"4 estrellas",83.979937895237867,null,"Hotel",83.544429993330255,null,"Eugenio Espejo",62.268038116591924,68.647180299693858,105.52813677158386]
[null,"2020",null,null,"5 estrellas",118.26812572063032,null,"Hostería",92.103628158844771,null,"La Delicia",161.54615635179152,125,298.55148966842859]
[null,"ene",96.379422107359218,null,null,null,null,"Hostal",88.629735099337751,null,"La Mariscal",38.989804587935431,69.146508277789721,82.068598906661265]
[null,"feb",85.047792469100301,null,null,null,null,"Hacienda Turística",134.57684523809525,null,"Los Chillos",null,66.695019455252918]
[null,"mar",85.863822140608605,null,null,null,null,null,null,null,"Manuela Sáenz",104.36060606060606,237.62022310756976]
[null,"abr",52.217179902755269,null,null,null,null,null,null,null,"Tumbaco",99.163636363636357,79.351515045486352,127.29749565217391]
[null,"may",54.788506122448979]
[null,"jun",55.755817711700068]
[null,"jul",68.248304668304669]
[null,"ago",89.657648809523806]
[null,"sep",69.019171776729564]
[null,"oct",63.817637362637363]
[null,"nov",82.3019196326062]
[null,"dic",67.720657627118641]
[null,"2021"]
[null,"ene",86.529621125143521]
[null,"feb",71.356840090090103]
[null,"mar",89.542418025895415]
[null,"abr",83.955834153543293]
[null,"may",80.52760579710143]
[null,"jun",72.891570277316902]
[null,"jul",95.186049409470158]
[null,"ago",107.30498511580629]
[null,"sep",89.664813532651465]
[null,"oct",90.444914340978173]
[]
[null,"PROMEDIOS"]
[]
[]
[null,"Atributo","All"]
[null,"PROMEDIO_MES",null,null,null,null,"PROMEDIO",null,null,null,"PROMEDIO_CAT"]
[null,"FECHA","Suma de Total",null,null,null,"ATRIBUTO","Promedio de Total",null,null,"Etiquetas de fila","3 estrellas","4 estrellas","5 estrellas"]
[null,"2019",null,null,null,null,"Empleos",464.3478260869565,null,null,"2019"]
[null,"dic",1940160,null,null,null,"Estancia media",1.3147966348477085,null,null,"dic",242829.15368103661,803351.10533288959,894123.70014915883]
[null,"2020",null,null,null,null,"Habitaciones",4014.608695652174,null,null,"2020"]
[null,"ene",2346535,null,null,null,"Habitaciones vendidas",7202.347826086957,null,null,"ene",145852.85951949446,460488.38969252305,1740342.8859187583]
[null,"feb",617881,null,null,null,"Ingresos",613496.20304347831,null,null,"feb",37955.107905234145,568960.43569713214,11227.602943607739]
[null,"mar",352314,null,null,null,"Ingresos (Miles)",613.46950739130432,null,null,"mar",70612.129685437103,271186.14667924168,10705.775285529555]
[null,"abr",42089,null,null,null,"Llegadas",6992.695652173913,null,null,"abr",18687.938659994114,22940.897793339194,527]
[null,"may",214572,null,null,null,"Pernoctaciones",8864.04347826087,null,null,"may",57800.964014784025,61267.679234395087,95628.791197131446]
[null,"jun",91650,null,null,null,"Tarifa promedio",79.072524609627791,null,null,"jun",15560.823547710588,28209.193712183063,47994.647191649201]
[null,"jul",30243,null,null,null,"TOH",0.12527960741721705,null,null,"jul",14627.511024300476,4976.5985520552385,10778.834480068486]
[null,"ago",157310,null,null,null,null,null,null,null,"ago",24174.407548172272,1652.2779192041,131599.7374108248]
[null,"sep",185061,null,null,null,null,null,null,null,"sep",18974.183621923134,42225.805832098522,123977.54912225435]
[null,"oct",305872,null,null,null,null,null,null,null,"oct",85224.959013708722,127466.32220178141,93331.040219884075]
[null,"nov",373752,null,null,null,null,null,null,null,"nov",21036.467538083311,104892.49924091795,247949.5366327207]
[null,"dic",420954.174,null,null,null,null,null,null,null,"dic",95717.213842075245,49671.051946715888,275693.23473310878]
[null,"2021",null,null,null,null,null,null,null,null,"2021"]
[null,"ene",314694.11200000002,null,null,null,null,null,null,null,"ene",28232.142274649952,89069.402870293445,197545.28945811448]
[null,"feb",335232.15999999997,null,null,null,null,null,null,null,"feb",26726.310212189124,216499.81275173806,92147.284309150898]
[null,"mar",554397.41876000003,null,null,null,null,null,null,null,"mar",30256.398201607066,280101.12526853493,244214.75600874098]
[null,"abr",356846.16189355555,null,null,null,null,null,null,null,"abr",33747.621446502359,269922.1286046388,53386.975357039722]
[null,"may",437663.35525876679,null,null,null,null,null,null,null,"may",101211.51994255149,217275.53379075541,119339.54040910017]
[null,"jun",646123.34352407593,null,null,null,null,null,null,null,"jun",182829.12491312157,253154.87220165963,210296.2199785657]
[null,"jul",914665.99737342831,null,null,null,null,null,null,null,"jul",169137.62419339878,436583.31469623785,309134.59938059229]
[null,"ago",1528892.1125197962,null,null,null,null,null,null,null,"ago",75738.727200313369,562074.50549294334,891249.27069354837]
[null,"sep",1184642.4390299781,null,null,null,null,null,null,null,"sep",61213.732692545353,734221.02940437896,389371.6877424554]
[null,"oct",1408198.984129993,null,null,null,null,null,null,null,"oct",209421.81512501818,836614.37847779971,362351.96186052321]

{"sheet":"INDICE","index":6,"n_rows":0,"n_cols":0,"rows_kept":0,"cut":false,"hidden":false,"merged":[]}

{"sheet":"4X4 MATRIZ TOTALES","index":7,"n_rows":24,"n_cols":7,"rows_kept":24,"cut":false,"hidden":false,"merged":[]}
[]
[]
[]
[]
[]
[]
[]
[]
[]
[]
[]
[]
[]
[]
[]
[]
[]
[null,null,"Catergorías","Pernoctaciones","TOH","Estancia Media","Tarifa por Habitación Ocupada"]
[null,null,"3 estrellas",17524,0.13151497353475797,1.180305785680609,60.175821126760574]
[null,null,"4 estrellas",56568,0.22006486374324255,1.1513708249374122,83.979937895237867]
[null,null,"5 estrellas",31504,0.31020259473601419,1.0259215839520646,118.26812572063032]
[null,null,"Total general",105596,0.21291143356114828,1.1152229474262298,89.667860428697267]
[]
[null,null," "]

{"sheet":"4X4 MATRIZ PROMEDIOS","index":8,"n_rows":21,"n_cols":7,"rows_kept":21,"cut":false,"hidden":false,"merged":[]}
[]
[]
[]
[]
[]
[]
[]
[]
[]
[]
[]
[]
[]
[]
[]
[]
[null,null,"Categorías"," Pernoctaciones","TOH","Estancia Media","Tarifa por Habitación Ocupada"]
[null,null,"3 estrellas",1752.4,0.12104186325849528,1.2404762496092532,57.724436076854737]
[null,null,"4 estrellas",5656.8,0.21012717500609943,1.1679875720838955,81.433153150933308]
[null,null,"5 estrellas",3150.4,0.30405949468363846,1.0469691781518522,116.58902111028866]
[null,null,"Total general",10559.6,0.20208822519656316,1.1357337016690541,86.740465186799668]

{"sheet":"EMPLEO","index":9,"n_rows":12,"n_cols":60,"rows_kept":12,"cut":false,"hidden":false,"merged":[]}
[]
[]
[]
[]
[null,null,null,null,null,null,null,null,null,null,null,null,null,null,null,null,null,null,null,null,null,null,null,null,null,null,null,null,null,null,null,null,null,null,null,null,null,{"$f":"AUXILIARES!Q3","v":348.1}]
[]
[]
[]
[]
[]
[]
[null,null,null,null,null,null,null,null,null,null,null,null,null,null,null,null,null,null,null,null,null,null,null,null,null," ",null,null,null,null,null,null,null,null,null,null,null,null,null,null,null,null,null,null,null,null,null,null,null,null,null,null,null,null,null,null,null,null,null,{"$f":"AUXILIARES!Q3","v":348.1}]

{"sheet":"ESTANCIA MEDIA","index":10,"n_rows":68,"n_cols":49,"rows_kept":68,"cut":false,"hidden":false,"merged":[]}
[]
[]
[]
[]
[]
[null,null,null,null,null,null,null,null,null,null,null,null,null,null,null,null,null,null,null,null,null,null,null,null,null,null,null,null,null,null,null,null,null,null,null,null,null,null,null,null,null,null,null,null,null,null,null,null,{"$f":"GETPIVOTDATA(\"[Measures].[Promedio Estancia Media]\",AUXILIARES!$P$99)","v":1.1357337016690541}]
[]
[]
[]
[]
[]
[]
[]
[]
[]
[]
[]
[]
[]
[]
[]
[]
[]
[]
[]
[]
[]
[]
[]
[]
[]
[]
[]
[]
[]
[]
[]
[]
[]
[]
[]
[]
[]
[]
[]
[]
[]
[]
[]
[]
[null,null,null,null,null,null,null,null,null,null,"<style type=\"text/css\">"]
[null,null,null,null,null,null,null,null,null,null,null,".st0{fill:#161D34;}"]
[null,null,null,null,null,null,null,null,null,null,"</style>"]
[null,null,null,null,null,null,null,null,null,null,"<defs>"]
[null,null,null,null,null,null,null,null,null,null,"</defs>"]
[null,null,null,null,null,null,null,null,null,null,"<g>"]
[null,null,null,null,null,null,null,null,null,null,null,"<g>"]
[null,null,null,null,null,null,null,null,null,null,null,null,"<g>"]
[null,null,null,null,null,null,null,null,null,null,null,null,null,"<path class=\"st0\" d=\"M18.74,22.05c-2.92-0.01-6.19-1.13-8.89-3.74C5.61,14.2,5.63,7.66,9.99,3.68"]
[null,null,null,null,null,null,null,null,null,null,null,null,null,null,"c5.69-5.19,14.25-4.72,19.35,0.37c4.04,4.02,3.66,10.44,0.02,14.01C26.63,20.73,23.39,22.03,18.74,22.05z\"/>"]
[null,null,null,null,null,null,null,null,null,null,null,null,null,"<path class=\"st0\" d=\"M19.88,40.84c-3.96,0-7.16,0-10.33-0.49c-1.84-0.29-3.66-0.59-5.41-1.26C3,38.66,2.03,38.02,1.22,37.14"]
[null,null,null,null,null,null,null,null,null,null,null,null,null,null,"c-1.7-1.87-1.62-4.29,0.21-6.06c0.59-0.57,1.25-1.04,2.02-1.34c1.31-0.52,2.62-1.01,4.02-1.27c2.86-0.53,5.73-0.86,8.64-0.86"]
[null,null,null,null,null,null,null,null,null,null,null,null,null,null,"c3.05,0.01,6.11-0.05,9.15,0.1c3.12,0.15,6.22,0.5,9.17,1.63c0.91,0.35,1.79,0.72,2.57,1.3c2.15,1.58,2.52,4.29,0.86,6.35"]
[null,null,null,null,null,null,null,null,null,null,null,null,null,null,"c-0.56,0.69-1.26,1.23-2.07,1.63c-1.34,0.67-2.78,1.02-4.24,1.3C27.44,40.71,23.29,40.9,19.88,40.84z\"/>"]
[null,null,null,null,null,null,null,null,null,null,null,null,"</g>"]
[null,null,null,null,null,null,null,null,null,null,null,"</g>"]
[null,null,null,null,null,null,null,null,null,null,"</g>"]
[null,null,null,null,null,null,null,null,null,null,"</svg>"]

{"sheet":"HABITACIONES VENDIDAS","index":11,"n_rows":11,"n_cols":54,"rows_kept":11,"cut":false,"hidden":false,"merged":[]}
[]
[]
[]
[]
[]
[]
[]
[]
[]
[]
[null,null,null,null,null,null,null,null,null,null,null,null,null,null,null,null,null,null,null,null,null,null,null,null,null,null,null,null,null,null,null,null,null,null,null,null,null,null,null,null,null,null,null,null,null,null,null,null,null,null,null,null,null,{"$f":"AUXILIARES!Q35","v":8173.6}]

{"sheet":"INGRESOS","index":12,"n_rows":8,"n_cols":51,"rows_kept":8,"cut":false,"hidden":false,"merged":[]}
[]
[]
[]
[]
[]
[]
[]
[null,null,null,null,null,null,null,null,null,null,null,null,null,null,null,null,null,null,null,null,null,null,null,null,null,null,null,null,null,null,null,null,null,null,null,null,null,null,null,null,null,null,null,null,null,null,null,null,null,null,{"$f":"AUXILIARES!Q162","v":732.90922399999988}]

{"sheet":"LLEGADAS","index":13,"n_rows":9,"n_cols":54,"rows_kept":9,"cut":false,"hidden":false,"merged":[]}
[]
[]
[]
[]
[]
[]
[]
[]
[null,null,null,null,null,null,null,null,null,null,null,null,null,null,null,null,null,null,null,null,null,null,null,null,null,null,null,null,null,null,null,null,null,null,null,null,null,null,null,null,null,null,null,null,null,null,null,null,null,null,null,null,null,{"$f":"AUXILIARES!Q130","v":9468.6}]

{"sheet":"PERNOCTACIONES","index":14,"n_rows":10,"n_cols":48,"rows_kept":10,"cut":false,"hidden":false,"merged":[]}
[]
[]
[]
[]
[]
[]
[]
[]
[]
[null,null,null,null,null,null,null,null,null,null,null,null,null,null,null,null,null,null,null,null,null,null,null,null,null,null,null,null,null,null,null,null,null,null,null,null,null,null,null,null,null,null,null,null,null,null,null,{"$f":"GETPIVOTDATA(\"[Measures].[Promedio Pernoctaciones]\",AUXILIARES!$P$195)","v":10559.6}]

{"sheet":"TARIFA","index":15,"n_rows":10,"n_cols":50,"rows_kept":10,"cut":false,"hidden":false,"merged":[]}
[]
[]
[]
[]
[]
[]
[]
[]
[]
[null,null,null,null,null,null,null,null,null,null,null,null,null,null,null,null,null,null,null,null,null,null,null,null,null,null,null,null,null,null,null,null,null,null,null,null,null,null,null,null,null,null,null,null,null,null,null,null,null,{"$f":"GETPIVOTDATA(\"[Measures].[Promedio Tarifa por Habitación Ocupada]\",AUXILIARES!$P$227)","v":86.740465186799668}]

{"sheet":"TOH","index":16,"n_rows":10,"n_cols":51,"rows_kept":10,"cut":false,"hidden":false,"merged":[]}
[]
[]
[]
[]
[]
[]
[]
[]
[]
[null,null,null,null,null,null,null,null,null,null,null,null,null,null,null,null,null,null,null,null,null,null,null,null,null,null,null,null,null,null,null,null,null,null,null,null,null,null,null,null,null,null,null,null,null,null,null,null,null,null,{"$f":"GETPIVOTDATA(\"[Measures].[Promedio TOH]\",AUXILIARES!$P$67)","v":0.20208822519656316}]

{"sheet":"PROMEDIO","index":17,"n_rows":3,"n_cols":50,"rows_kept":3,"cut":false,"hidden":false,"merged":[]}
[" "]
[null,null,null,null,null,null,null,null,null,null,null,null,null,null,null,null,null,null,null,null,null,null,null,null,null,null,null,null,null,null,null,null,null,null,null,null,null,null,null,null,null,null,null,null,null,null,null,{"$f":"AUXILIARES!$G$261","v":"Empleos"}]
[null,null,null,null,null,null,null,null,null,null,null,null,null,null,null,null,null,null,null,null,null,null,null,null,null,null,null,null,null,null,null,null,null,null,null,null,null,null,null,null,null,null,null,null,null,null,null,null,null,{"$f":"+IF(NOT(AV2=\"TOH\"),IF(AV2=(\"tarifa promedio\"),TEXT(AUXILIARES!$H$261,\"$##.##0,00\"), TEXT(AUXILIARES!$H$261,\"##.##0,00\")),TEXT((AUXILIARES!$H$261),\"0,00%\"))","v":"464,35"}]