{"text_format":"1","workbook":"xlsx","n_sheets":17,"sheets":["PORTADA","INDICE","BASE","RESUMEN","PROMEDIOS","AUXILIARES","4X4 MATRIZ TOTALES","4X4 MATRIZ PROMEDIOS","EMPLEO","ESTANCIA MEDIA","HABITACIONES VENDIDAS","INGRESOS","LLEGADAS","PERNOCTACIONES","TARIFA","TOH","PROMEDIO"],"not_rendered":{"charts":34,"images":14,"macros":1,"external_links":0,"defined_names":11,"comments":0,"pivot_tables":45},"unopened":[],"bounds":{"document_bytes":16777216,"sheet_cells":100000,"rows_first":2000,"rows_last":500,"rows_between":2000,"halvings":0,"cell_chars":16384,"cell_head_chars":4096},"cells_cut":0,"cells_raw":0,"read":"whole","date_system":"1900"}

{"sheet":"PORTADA","index":0,"n_rows":0,"n_cols":0,"rows_kept":0,"cut":false,"hidden":false,"merged":[]}

{"sheet":"INDICE","index":1,"n_rows":0,"n_cols":0,"rows_kept":0,"cut":false,"hidden":false,"merged":[]}

{"sheet":"BASE","index":2,"n_rows":472,"n_cols":18,"rows_kept":472,"cut":false,"hidden":true,"merged":[]}
["FECHA","DIAS DEL MES","MES","AÑO","SECTOR","CATEGORÍA DE ALOJAMIENTO DEL ESTABLECIMIENTO","TIPO DE ALOJAMIENTO","TOTAL DE HABITACIONES","VENTAS POR ALOJAMIENTO DURANTE EL MES DE LA ENCUESTA","VENTAS POR ALOJAMIENTO DURANTE EL MES (MILES)","TOTAL HABITACIONES VENDIDAS","LLEGADAS EN EL MES RESIDENTES","LLEGADAS EN EL MES NO RESIDENTES","TOTAL LLEGADAS","PERNOCTACIONES RESIDENTES","PERNOCTACIONES NO RESIDENTES","TOTAL PERNOCTACIONES","EMPLEOS"]
["2019-12-01",{"$f":"DAY(EOMONTH(Base[[#This Row],[FECHA]],0))","v":31},{"$f":"+PROPER(TEXT(Base[[#This Row],[FECHA]],\"MMMM\"))","v":"Diciembre"},{"$f":"+YEAR(Base[[#This Row],[FECHA]])","v":2019},"La Mariscal","3 estrellas","Hotel",40,12000,{"$f":"Base[[#This Row],[VENTAS POR ALOJAMIENTO DURANTE EL MES DE LA ENCUESTA]]/1000","v":12},395,337,21,358,372,32,404,8]
["2019-12-01",{"$f":"DAY(EOMONTH(Base[[#This Row],[FECHA]],0))","v":31},{"$f":"+PROPER(TEXT(Base[[#This Row],[FECHA]],\"MMMM\"))","v":"Diciembre"},{"$f":"+YEAR(Base[[#This Row],[FECHA]])","v":2019},"Eugenio Espejo","3 estrellas","Hotel",12,4600.5,{"$f":"Base[[#This Row],[VENTAS POR ALOJAMIENTO DURANTE EL MES DE LA ENCUESTA]]/1000","v":4.6005000000000003},141,195,141,336,195,141,336,6]
["2019-12-01",{"$f":"DAY(EOMONTH(Base[[#This Row],[FECHA]],0))","v":31},{"$f":"+PROPER(TEXT(Base[[#This Row],[FECHA]],\"MMMM\"))","v":"Diciembre"},{"$f":"+YEAR(Base[[#This Row],[FECHA]])","v":2019},"Eugenio Espejo","3 estrellas","Hotel",13,null,{"$f":"Base[[#This Row],[VENTAS POR ALOJAMIENTO DURANTE EL MES DE LA ENCUESTA]]/1000","v":0},13,3,14,17,14,35,49,0]
["2019-12-01",{"$f":"DAY(EOMONTH(Base[[#This Row],[FECHA]],0))","v":31},{"$f":"+PROPER(TEXT(Base[[#This Row],[FECHA]],\"MMMM\"))","v":"Diciembre"},{"$f":"+YEAR(Base[[#This Row],[FECHA]])","v":2019},"La Delicia","4 estrellas","Lodge",14,39000,{"$f":"Base[[#This Row],[VENTAS POR ALOJAMIENTO DURANTE EL MES DE LA ENCUESTA]]/1000","v":39},176,48,306,354,48,306,354,0]
["2019-12-01",{"$f":"DAY(EOMONTH(Base[[#This Row],[FECHA]],0))","v":31},{"$f":"+PROPER(TEXT(Base[[#This Row],[FECHA]],\"MMMM\"))","v":"Diciembre"},{"$f":"+YEAR(Base[[#This Row],[FECHA]])","v":2019},"La Mariscal","4 estrellas","Hotel",46,34515,{"$f":"Base[[#This Row],[VENTAS POR ALOJAMIENTO DURANTE EL MES DE LA ENCUESTA]]/1000","v":34.515000000000001},615,319,615,934,319,615,934,19]
["2019-12-01",{"$f":"DAY(EOMONTH(Base[[#This Row],[FECHA]],0))","v":31},{"$f":"+PROPER(TEXT(Base[[#This Row],[FECHA]],\"MMMM\"))","v":"Diciembre"},{"$f":"+YEAR(Base[[#This Row],[FECHA]])","v":2019},"La Mariscal","3 estrellas","Hotel",8,1325,{"$f":"Base[[#This Row],[VENTAS POR ALOJAMIENTO DURANTE EL MES DE LA ENCUESTA]]/1000","v":1.325},8,7,15,22,14,30,44,3]
["2019-12-01",{"$f":"DAY(EOMONTH(Base[[#This Row],[FECHA]],0))","v":31},{"$f":"+PROPER(TEXT(Base[[#This Row],[FECHA]],\"MMMM\"))","v":"Diciembre"},{"$f":"+YEAR(Base[[#This Row],[FECHA]])","v":2019},"Manuela Sáenz","4 estrellas","Hotel",25,null,{"$f":"Base[[#This Row],[VENTAS POR ALOJAMIENTO DURANTE EL MES DE LA ENCUESTA]]/1000","v":0},151,12,147,159,12,293,305,15]
["2019-12-01",{"$f":"DAY(EOMONTH(Base[[#This Row],[FECHA]],0))","v":31},{"$f":"+PROPER(TEXT(Base[[#This Row],[FECHA]],\"MMMM\"))","v":"Diciembre"},{"$f":"+YEAR(Base[[#This Row],[FECHA]])","v":2019},"Tumbaco","5 estrellas","Hostería",7,4078,{"$f":"Base[[#This Row],[VENTAS POR ALOJAMIENTO DURANTE EL MES DE LA ENCUESTA]]/1000","v":4.0780000000000003},40,18,62,80,18,62,80,7]
["2019-12-01",{"$f":"DAY(EOMONTH(Base[[#This Row],[FECHA]],0))","v":31},{"$f":"+PROPER(TEXT(Base[[#This Row],[FECHA]],\"MMMM\"))","v":"Diciembre"},{"$f":"+YEAR(Base[[#This Row],[FECHA]])","v":2019},"Tumbaco","5 estrellas","Hacienda Turística",11,3790,{"$f":"Base[[#This Row],[VENTAS POR ALOJAMIENTO DURANTE EL MES DE LA ENCUESTA]]/1000","v":3.79},32,40,12,52,40,12,52,4]
["2019-12-01",{"$f":"DAY(EOMONTH(Base[[#This Row],[FECHA]],0))","v":31},{"$f":"+PROPER(TEXT(Base[[#This Row],[FECHA]],\"MMMM\"))","v":"Diciembre"},{"$f":"+YEAR(Base[[#This Row],[FECHA]])","v":2019},"La Mariscal","3 estrellas","Hotel",10,5691.75,{"$f":"Base[[#This Row],[VENTAS POR ALOJAMIENTO DURANTE EL MES DE LA ENCUESTA]]/1000","v":5.6917499999999999},114,null,21,21,null,106,106,2]
["2019-12-01",{"$f":"DAY(EOMONTH(Base[[#This Row],[FECHA]],0))","v":31},{"$f":"+PROPER(TEXT(Base[[#This Row],[FECHA]],\"MMMM\"))","v":"Diciembre"},{"$f":"+YEAR(Base[[#This Row],[FECHA]])","v":2019},"La Mariscal","3 estrellas","Hotel",20,6330.09,{"$f":"Base[[#This Row],[VENTAS POR ALOJAMIENTO DURANTE EL MES DE LA ENCUESTA]]/1000","v":6.3300900000000002},215,16,207,223,16,367,383,9]
["2019-12-01",{"$f":"DAY(EOMONTH(Base[[#This Row],[FECHA]],0))","v":31},{"$f":"+PROPER(TEXT(Base[[#This Row],[FECHA]],\"MMMM\"))","v":"Diciembre"},{"$f":"+YEAR(Base[[#This Row],[FECHA]])","v":2019},"Manuela Sáenz","4 estrellas","Hotel",18,3657,{"$f":"Base[[#This Row],[VENTAS POR ALOJAMIENTO DURANTE EL MES DE LA ENCUESTA]]/1000","v":3.657},42,null,15,15,null,15,15,6]
["2019-12-01",{"$f":"DAY(EOMONTH(Base[[#This Row],[FECHA]],0))","v":31},{"$f":"+PROPER(TEXT(Base[[#This Row],[FECHA]],\"MMMM\"))","v":"Diciembre"},{"$f":"+YEAR(Base[[#This Row],[FECHA]])","v":2019},"Eugenio Espejo","4 estrellas","Hotel",23,3600,{"$f":"Base[[#This Row],[VENTAS POR ALOJAMIENTO DURANTE EL MES DE LA ENCUESTA]]/1000","v":3.6},45,22,28,50,22,28,50,4]
["2019-12-01",{"$f":"DAY(EOMONTH(Base[[#This Row],[FECHA]],0))","v":31},{"$f":"+PROPER(TEXT(Base[[#This Row],[FECHA]],\"MMMM\"))","v":"Diciembre"},{"$f":"+YEAR(Base[[#This Row],[FECHA]])","v":2019},"Tumbaco","5 estrellas","Hacienda Turística",7,2589.5,{"$f":"Base[[#This Row],[VENTAS POR ALOJAMIENTO DURANTE EL MES DE LA ENCUESTA]]/1000","v":2.5895000000000001},22,29,19,48,29,19,48,9]
["2019-12-01",{"$f":"DAY(EOMONTH(Base[[#This Row],[FECHA]],0))","v":31},{"$f":"+PROPER(TEXT(Base[[#This Row],[FECHA]],\"MMMM\"))","v":"Diciembre"},{"$f":"+YEAR(Base[[#This Row],[FECHA]])","v":2019},"La Mariscal","5 estrellas","Hotel",255,373271,{"$f":"Base[[#This Row],[VENTAS POR ALOJAMIENTO DURANTE EL MES DE LA ENCUESTA]]/1000","v":373.27100000000002},4053,359,2034,2393,608,3445,4053,453]
["2019-12-01",{"$f":"DAY(EOMONTH(Base[[#This Row],[FECHA]],0))","v":31},{"$f":"+PROPER(TEXT(Base[[#This Row],[FECHA]],\"MMMM\"))","v":"Diciembre"},{"$f":"+YEAR(Base[[#This Row],[FECHA]])","v":2019},"La Mariscal","4 estrellas","Hotel",141,152796.53,{"$f":"Base[[#This Row],[VENTAS POR ALOJAMIENTO DURANTE EL MES DE LA ENCUESTA]]/1000","v":152.79652999999999},1960,null,null,0,665,1305,1970,44]
["2019-12-01",{"$f":"DAY(EOMONTH(Base[[#This Row],[FECHA]],0))","v":31},{"$f":"+PROPER(TEXT(Base[[#This Row],[FECHA]],\"MMMM\"))","v":"Diciembre"},{"$f":"+YEAR(Base[[#This Row],[FECHA]])","v":2019},"La Delicia","3 estrellas","Hostal",7,900,{"$f":"Base[[#This Row],[VENTAS POR ALOJAMIENTO DURANTE EL MES DE LA ENCUESTA]]/1000","v":0.9},6,12,null,12,15,null,15,3]
["2019-12-01",{"$f":"DAY(EOMONTH(Base[[#This Row],[FECHA]],0))","v":31},{"$f":"+PROPER(TEXT(Base[[#This Row],[FECHA]],\"MMMM\"))","v":"Diciembre"},{"$f":"+YEAR(Base[[#This Row],[FECHA]])","v":2019},"Manuela Sáenz","3 estrellas","Hostal",6,4000,{"$f":"Base[[#This Row],[VENTAS POR ALOJAMIENTO DURANTE EL MES DE LA ENCUESTA]]/1000","v":4},12,null,40,40,null,40,40,6]
["2019-12-01",{"$f":"DAY(EOMONTH(Base[[#This Row],[FECHA]],0))","v":31},{"$f":"+PROPER(TEXT(Base[[#This Row],[FECHA]],\"MMMM\"))","v":"Diciembre"},{"$f":"+YEAR(Base[[#This Row],[FECHA]])","v":2019},"La Mariscal","3 estrellas","Hostal",14,null,{"$f":"Base[[#This Row],[VENTAS POR ALOJAMIENTO DURANTE EL MES DE LA ENCUESTA]]/1000","v":0},14,12,null,12,19,null,19,1]
["2019-12-01",{"$f":"DAY(EOMONTH(Base[[#This Row],[FECHA]],0))","v":31},{"$f":"+PROPER(TEXT(Base[[#This Row],[FECHA]],\"MMMM\"))","v":"Diciembre"},{"$f":"+YEAR(Base[[#This Row],[FECHA]])","v":2019},"La Delicia","3 estrellas","Hostería",14,1200,{"$f":"Base[[#This Row],[VENTAS POR ALOJAMIENTO DURANTE EL MES DE LA ENCUESTA]]/1000","v":1.2},40,57,3,60,57,3,60,14]
["2019-12-01",{"$f":"DAY(EOMONTH(Base[[#This Row],[FECHA]],0))","v":31},{"$f":"+PROPER(TEXT(Base[[#This Row],[FECHA]],\"MMMM\"))","v":"Diciembre"},{"$f":"+YEAR(Base[[#This Row],[FECHA]])","v":2019},"Los Chillos","3 estrellas","Hostería",13,500,{"$f":"Base[[#This Row],[VENTAS POR ALOJAMIENTO DURANTE EL MES DE LA ENCUESTA]]/1000","v":0.5},14,30,null,30,30,null,30,7]
["2019-12-01",{"$f":"DAY(EOMONTH(Base[[#This Row],[FECHA]],0))","v":31},{"$f":"+PROPER(TEXT(Base[[#This Row],[FECHA]],\"MMMM\"))","v":"Diciembre"},{"$f":"+YEAR(Base[[#This Row],[FECHA]])","v":2019},"Eugenio Espejo","3 estrellas","Hostería",10,98.4,{"$f":"Base[[#This Row],[VENTAS POR ALOJAMIENTO DURANTE EL MES DE LA ENCUESTA]]/1000","v":9.8400000000000001E-2},20,20,null,20,20,null,20,6]
["2019-12-01",{"$f":"DAY(EOMONTH(Base[[#This Row],[FECHA]],0))","v":31},{"$f":"+PROPER(TEXT(Base[[#This Row],[FECHA]],\"MMMM\"))","v":"Diciembre"},{"$f":"+YEAR(Base[[#This Row],[FECHA]])","v":2019},"Los Chillos","3 estrellas","Hostería",null,null,{"$f":"Base[[#This Row],[VENTAS POR ALOJAMIENTO DURANTE EL MES DE LA ENCUESTA]]/1000","v":0},0,null,null,0,null,null,0,0]
["2019-12-01",{"$f":"DAY(EOMONTH(Base[[#This Row],[FECHA]],0))","v":31},{"$f":"+PROPER(TEXT(Base[[#This Row],[FECHA]],\"MMMM\"))","v":"Diciembre"},{"$f":"+YEAR(Base[[#This Row],[FECHA]])","v":2019},"Los Chillos","4 estrellas","Hostería",12,507.28,{"$f":"Base[[#This Row],[VENTAS POR ALOJAMIENTO DURANTE EL MES DE LA ENCUESTA]]/1000","v":0.50727999999999995},128,null,null,0,null,null,0,7]
["2019-12-01",{"$f":"DAY(EOMONTH(Base[[#This Row],[FECHA]],0))","v":31},{"$f":"+PROPER(TEXT(Base[[#This Row],[FECHA]],\"MMMM\"))","v":"Diciembre"},{"$f":"+YEAR(Base[[#This Row],[FECHA]])","v":2019},"Tumbaco","3 estrellas","Hostería",6,1300,{"$f":"Base[[#This Row],[VENTAS POR ALOJAMIENTO DURANTE EL MES DE LA ENCUESTA]]/1000","v":1.3},27,50,6,56,50,6,56,6]
["2019-12-01",{"$f":"DAY(EOMONTH(Base[[#This Row],[FECHA]],0))","v":31},{"$f":"+PROPER(TEXT(Base[[#This Row],[FECHA]],\"MMMM\"))","v":"Diciembre"},{"$f":"+YEAR(Base[[#This Row],[FECHA]])","v":2019},"La Mariscal","3 estrellas","Hotel",40,17989.48,{"$f":"Base[[#This Row],[VENTAS POR ALOJAMIENTO DURANTE EL MES DE LA ENCUESTA]]/1000","v":17.98948},331,116,214,330,357,214,571,29]
["2019-12-01",{"$f":"DAY(EOMONTH(Base[[#This Row],[FECHA]],0))","v":31},{"$f":"+PROPER(TEXT(Base[[#This Row],[FECHA]],\"MMMM\"))","v":"Diciembre"},{"$f":"+YEAR(Base[[#This Row],[FECHA]])","v":2019},"La Mariscal","3 estrellas","Hotel",15,2766,{"$f":"Base[[#This Row],[VENTAS POR ALOJAMIENTO DURANTE EL MES DE LA ENCUESTA]]/1000","v":2.766},69,null,25,25,null,25,25,5]
["2019-12-01",{"$f":"DAY(EOMONTH(Base[[#This Row],[FECHA]],0))","v":31},{"$f":"+PROPER(TEXT(Base[[#This Row],[FECHA]],\"MMMM\"))","v":"Diciembre"},{"$f":"+YEAR(Base[[#This Row],[FECHA]])","v":2019},"Manuela Sáenz","4 estrellas","Hotel",49,85264.01,{"$f":"Base[[#This Row],[VENTAS POR ALOJAMIENTO DURANTE EL MES DE LA ENCUESTA]]/1000","v":85.264009999999999},390,592,231,823,592,231,823,44]
["2019-12-01",{"$f":"DAY(EOMONTH(Base[[#This Row],[FECHA]],0))","v":31},{"$f":"+PROPER(TEXT(Base[[#This Row],[FECHA]],\"MMMM\"))","v":"Diciembre"},{"$f":"+YEAR(Base[[#This Row],[FECHA]])","v":2019},"La Mariscal","3 estrellas","Hotel",36,5582.82,{"$f":"Base[[#This Row],[VENTAS POR ALOJAMIENTO DURANTE EL MES DE LA ENCUESTA]]/1000","v":5.5828199999999999},171,153,null,153,153,null,153,9]
["2019-12-01",{"$f":"DAY(EOMONTH(Base[[#This Row],[FECHA]],0))","v":31},{"$f":"+PROPER(TEXT(Base[[#This Row],[FECHA]],\"MMMM\"))","v":"Diciembre"},{"$f":"+YEAR(Base[[#This Row],[FECHA]])","v":2019},"Manuela Sáenz","3 estrellas","Hotel",24,17000,{"$f":"Base[[#This Row],[VENTAS POR ALOJAMIENTO DURANTE EL MES DE LA ENCUESTA]]/1000","v":17},198,35,163,198,35,163,198,10]
["2019-12-01",{"$f":"DAY(EOMONTH(Base[[#This Row],[FECHA]],0))","v":31},{"$f":"+PROPER(TEXT(Base[[#This Row],[FECHA]],\"MMMM\"))","v":"Diciembre"},{"$f":"+YEAR(Base[[#This Row],[FECHA]])","v":2019},"Manuela Sáenz","3 estrellas","Hotel",10,19890.45,{"$f":"Base[[#This Row],[VENTAS POR ALOJAMIENTO DURANTE EL MES DE LA ENCUESTA]]/1000","v":19.890450000000001},136,null,null,0,null,null,0,6]
["2019-12-01",{"$f":"DAY(EOMONTH(Base[[#This Row],[FECHA]],0))","v":31},{"$f":"+PROPER(TEXT(Base[[#This Row],[FECHA]],\"MMMM\"))","v":"Diciembre"},{"$f":"+YEAR(Base[[#This Row],[FECHA]])","v":2019},"Eugenio Espejo","4 estrellas","Hotel",152,167518.81,{"$f":"Base[[#This Row],[VENTAS POR ALOJAMIENTO DURANTE EL MES DE LA ENCUESTA]]/1000","v":167.51881},2657,1456,644,2100,1456,644,2100,67]
["2019-12-01",{"$f":"DAY(EOMONTH(Base[[#This Row],[FECHA]],0))","v":31},{"$f":"+PROPER(TEXT(Base[[#This Row],[FECHA]],\"MMMM\"))","v":"Diciembre"},{"$f":"+YEAR(Base[[#This Row],[FECHA]])","v":2019},"Eugenio Espejo","3 estrellas","Hotel",14,2336.7800000000002,{"$f":"Base[[#This Row],[VENTAS POR ALOJAMIENTO DURANTE EL MES DE LA ENCUESTA]]/1000","v":2.3367800000000001},60,64,16,80,64,16,80,2]
["2019-12-01",{"$f":"DAY(EOMONTH(Base[[#This Row],[FECHA]],0))","v":31},{"$f":"+PROPER(TEXT(Base[[#This Row],[FECHA]],\"MMMM\"))","v":"Diciembre"},{"$f":"+YEAR(Base[[#This Row],[FECHA]])","v":2019},"Eugenio Espejo","3 estrellas","Hotel",40,3240,{"$f":"Base[[#This Row],[VENTAS POR ALOJAMIENTO DURANTE EL MES DE LA ENCUESTA]]/1000","v":3.24},180,90,90,180,90,90,180,6]
["2019-12-01",{"$f":"DAY(EOMONTH(Base[[#This Row],[FECHA]],0))","v":31},{"$f":"+PROPER(TEXT(Base[[#This Row],[FECHA]],\"MMMM\"))","v":"Diciembre"},{"$f":"+YEAR(Base[[#This Row],[FECHA]])","v":2019},"Manuela Sáenz","5 estrellas","Hotel",15,53961,{"$f":"Base[[#This Row],[VENTAS POR ALOJAMIENTO DURANTE EL MES DE LA ENCUESTA]]/1000","v":53.960999999999999},268,10,526,536,10,526,536,8]
["2019-12-01",{"$f":"DAY(EOMONTH(Base[[#This Row],[FECHA]],0))","v":31},{"$f":"+PROPER(TEXT(Base[[#This Row],[FECHA]],\"MMMM\"))","v":"Diciembre"},{"$f":"+YEAR(Base[[#This Row],[FECHA]])","v":2019},"La Mariscal","4 estrellas","Hotel",null,42560.01,{"$f":"Base[[#This Row],[VENTAS POR ALOJAMIENTO DURANTE EL MES DE LA ENCUESTA]]/1000","v":42.560010000000005},896,null,null,0,null,null,0,81]
["2019-12-01",{"$f":"DAY(EOMONTH(Base[[#This Row],[FECHA]],0))","v":31},{"$f":"+PROPER(TEXT(Base[[#This Row],[FECHA]],\"MMMM\"))","v":"Diciembre"},{"$f":"+YEAR(Base[[#This Row],[FECHA]])","v":2019},"Manuela Sáenz","4 estrellas","Hotel",80,15273,{"$f":"Base[[#This Row],[VENTAS POR ALOJAMIENTO DURANTE EL MES DE LA ENCUESTA]]/1000","v":15.273},240,null,null,0,363,157,520,35]
["2019-12-01",{"$f":"DAY(EOMONTH(Base[[#This Row],[FECHA]],0))","v":31},{"$f":"+PROPER(TEXT(Base[[#This Row],[FECHA]],\"MMMM\"))","v":"Diciembre"},{"$f":"+YEAR(Base[[#This Row],[FECHA]])","v":2019},"Eugenio Espejo","3 estrellas","Hotel",13,8358.1299999999992,{"$f":"Base[[#This Row],[VENTAS POR ALOJAMIENTO DURANTE EL MES DE LA ENCUESTA]]/1000","v":8.3581299999999992},185,134,5,139,134,5,139,0]
["2019-12-01",{"$f":"DAY(EOMONTH(Base[[#This Row],[FECHA]],0))","v":31},{"$f":"+PROPER(TEXT(Base[[#This Row],[FECHA]],\"MMMM\"))","v":"Diciembre"},{"$f":"+YEAR(Base[[#This Row],[FECHA]])","v":2019},"Tumbaco","3 estrellas","Hostal",9,433.85,{"$f":"Base[[#This Row],[VENTAS POR ALOJAMIENTO DURANTE EL MES DE LA ENCUESTA]]/1000","v":0.43385000000000001},15,11,4,15,11,4,15,2]
["2019-12-01",{"$f":"DAY(EOMONTH(Base[[#This Row],[FECHA]],0))","v":31},{"$f":"+PROPER(TEXT(Base[[#This Row],[FECHA]],\"MMMM\"))","v":"Diciembre"},{"$f":"+YEAR(Base[[#This Row],[FECHA]])","v":2019},"Eloy Alfaro","3 estrellas","Hotel",40,2500,{"$f":"Base[[#This Row],[VENTAS POR ALOJAMIENTO DURANTE EL MES DE LA ENCUESTA]]/1000","v":2.5},40,6,null,6,6,null,6,13]
["2019-12-01",{"$f":"DAY(EOMONTH(Base[[#This Row],[FECHA]],0))","v":31},{"$f":"+PROPER(TEXT(Base[[#This Row],[FECHA]],\"MMMM\"))","v":"Diciembre"},{"$f":"+YEAR(Base[[#This Row],[FECHA]])","v":2019},"Eugenio Espejo","3 estrellas","Hotel",37,2610.6799999999998,{"$f":"Base[[#This Row],[VENTAS POR ALOJAMIENTO DURANTE EL MES DE LA ENCUESTA]]/1000","v":2.6106799999999999},191,3,null,3,3,null,3,4]
["2019-12-01",{"$f":"DAY(EOMONTH(Base[[#This Row],[FECHA]],0))","v":31},{"$f":"+PROPER(TEXT(Base[[#This Row],[FECHA]],\"MMMM\"))","v":"Diciembre"},{"$f":"+YEAR(Base[[#This Row],[FECHA]])","v":2019},"Los Chillos","3 estrellas","Hostería",10,400,{"$f":"Base[[#This Row],[VENTAS POR ALOJAMIENTO DURANTE EL MES DE LA ENCUESTA]]/1000","v":0.4},10,8,null,8,8,null,8,12]
["2019-12-01",{"$f":"DAY(EOMONTH(Base[[#This Row],[FECHA]],0))","v":31},{"$f":"+PROPER(TEXT(Base[[#This Row],[FECHA]],\"MMMM\"))","v":"Diciembre"},{"$f":"+YEAR(Base[[#This Row],[FECHA]])","v":2019},"Manuela Sáenz","3 estrellas","Hotel",29,1992.61,{"$f":"Base[[#This Row],[VENTAS POR ALOJAMIENTO DURANTE EL MES DE LA ENCUESTA]]/1000","v":1.99261},0,null,null,0,null,null,0,6]
["2019-12-01",{"$f":"DAY(EOMONTH(Base[[#This Row],[FECHA]],0))","v":31},{"$f":"+PROPER(TEXT(Base[[#This Row],[FECHA]],\"MMMM\"))","v":"Diciembre"},{"$f":"+YEAR(Base[[#This Row],[FECHA]])","v":2019},"La Mariscal","4 estrellas","Hotel",null,32394.84,{"$f":"Base[[#This Row],[VENTAS POR ALOJAMIENTO DURANTE EL MES DE LA ENCUESTA]]/1000","v":32.394840000000002},527,20,875,895,20,875,895,20]
["2019-12-01",{"$f":"DAY(EOMONTH(Base[[#This Row],[FECHA]],0))","v":31},{"$f":"+PROPER(TEXT(Base[[#This Row],[FECHA]],\"MMMM\"))","v":"Diciembre"},{"$f":"+YEAR(Base[[#This Row],[FECHA]])","v":2019},"Tumbaco","3 estrellas","Hotel",18,13509.89,{"$f":"Base[[#This Row],[VENTAS POR ALOJAMIENTO DURANTE EL MES DE LA ENCUESTA]]/1000","v":13.509889999999999},0,null,null,0,null,null,0,9]
["2019-12-01",{"$f":"DAY(EOMONTH(Base[[#This Row],[FECHA]],0))","v":31},{"$f":"+PROPER(TEXT(Base[[#This Row],[FECHA]],\"MMMM\"))","v":"Diciembre"},{"$f":"+YEAR(Base[[#This Row],[FECHA]])","v":2019},"Manuela Sáenz","5 estrellas","Hotel",10,null,{"$f":"Base[[#This Row],[VENTAS POR ALOJAMIENTO DURANTE EL MES DE LA ENCUESTA]]/1000","v":0},186,3,92,95,3,92,95,0]
["2019-12-01",{"$f":"DAY(EOMONTH(Base[[#This Row],[FECHA]],0))","v":31},{"$f":"+PROPER(TEXT(Base[[#This Row],[FECHA]],\"MMMM\"))","v":"Diciembre"},{"$f":"+YEAR(Base[[#This Row],[FECHA]])","v":2019},"Manuela Sáenz","3 estrellas","Hotel",41,6523.42,{"$f":"Base[[#This Row],[VENTAS POR ALOJAMIENTO DURANTE EL MES DE LA ENCUESTA]]/1000","v":6.5234199999999998},164,266,null,266,266,null,266,8]
["2019-12-01",{"$f":"DAY(EOMONTH(Base[[#This Row],[FECHA]],0))","v":31},{"$f":"+PROPER(TEXT(Base[[#This Row],[FECHA]],\"MMMM\"))","v":"Diciembre"},{"$f":"+YEAR(Base[[#This Row],[FECHA]])","v":2019},"Manuela Sáenz","3 estrellas","Hotel",21,1297,{"$f":"Base[[#This Row],[VENTAS POR ALOJAMIENTO DURANTE EL MES DE LA ENCUESTA]]/1000","v":1.2969999999999999},0,46,33,79,46,33,79,4]
["2019-12-01",{"$f":"DAY(EOMONTH(Base[[#This Row],[FECHA]],0))","v":31},{"$f":"+PROPER(TEXT(Base[[#This Row],[FECHA]],\"MMMM\"))","v":"Diciembre"},{"$f":"+YEAR(Base[[#This Row],[FECHA]])","v":2019},"Tumbaco","3 estrellas","Hostal",5,744.73,{"$f":"Base[[#This Row],[VENTAS POR ALOJAMIENTO DURANTE EL MES DE LA ENCUESTA]]/1000","v":0.74473},10,5,1,6,7,3,10,0]
["2019-12-01",{"$f":"DAY(EOMONTH(Base[[#This Row],[FECHA]],0))","v":31},{"$f":"+PROPER(TEXT(Base[[#This Row],[FECHA]],\"MMMM\"))","v":"Diciembre"},{"$f":"+YEAR(Base[[#This Row],[FECHA]])","v":2019},"Eugenio Espejo","3 estrellas","Hostal",25,5745.65,{"$f":"Base[[#This Row],[VENTAS POR ALOJAMIENTO DURANTE EL MES DE LA ENCUESTA]]/1000","v":5.7456499999999995},138,129,21,150,139,21,150,9]
["2019-12-01",{"$f":"DAY(EOMONTH(Base[[#This Row],[FECHA]],0))","v":31},{"$f":"+PROPER(TEXT(Base[[#This Row],[FECHA]],\"MMMM\"))","v":"Diciembre"},{"$f":"+YEAR(Base[[#This Row],[FECHA]])","v":2019},"La Mariscal","4 estrellas","Hotel",12,null,{"$f":"Base[[#This Row],[VENTAS POR ALOJAMIENTO DURANTE EL MES DE LA ENCUESTA]]/1000","v":0},200,5,200,205,5,200,205,9]
["2019-12-01",{"$f":"DAY(EOMONTH(Base[[#This Row],[FECHA]],0))","v":31},{"$f":"+PROPER(TEXT(Base[[#This Row],[FECHA]],\"MMMM\"))","v":"Diciembre"},{"$f":"+YEAR(Base[[#This Row],[FECHA]])","v":2019},"Eugenio Espejo","3 estrellas","Hostería",5,null,{"$f":"Base[[#This Row],[VENTAS POR ALOJAMIENTO DURANTE EL MES DE LA ENCUESTA]]/1000","v":0},0,null,null,0,null,null,0,7]
["2019-12-01",{"$f":"DAY(EOMONTH(Base[[#This Row],[FECHA]],0))","v":31},{"$f":"+PROPER(TEXT(Base[[#This Row],[FECHA]],\"MMMM\"))","v":"Diciembre"},{"$f":"+YEAR(Base[[#This Row],[FECHA]])","v":2019},"Manuela Sáenz","4 estrellas","Hotel",22,44800,{"$f":"Base[[#This Row],[VENTAS POR ALOJAMIENTO DURANTE EL MES DE LA ENCUESTA]]/1000","v":44.8},414,null,774,774,null,774,774,23]
["2019-12-01",{"$f":"DAY(EOMONTH(Base[[#This Row],[FECHA]],0))","v":31},{"$f":"+PROPER(TEXT(Base[[#This Row],[FECHA]],\"MMMM\"))","v":"Diciembre"},{"$f":"+YEAR(Base[[#This Row],[FECHA]])","v":2019},"Eugenio Espejo","4 estrellas","Hotel",30,70172.009999999995,{"$f":"Base[[#This Row],[VENTAS POR ALOJAMIENTO DURANTE EL MES DE LA ENCUESTA]]/1000","v":70.17201},618,138,809,947,138,809,947,44]
["2019-12-01",{"$f":"DAY(EOMONTH(Base[[#This Row],[FECHA]],0))","v":31},{"$f":"+PROPER(TEXT(Base[[#This Row],[FECHA]],\"MMMM\"))","v":"Diciembre"},{"$f":"+YEAR(Base[[#This Row],[FECHA]])","v":2019},"Manuela Sáenz","4 estrellas","Hostal",15,null,{"$f":"Base[[#This Row],[VENTAS POR ALOJAMIENTO DURANTE EL MES DE LA ENCUESTA]]/1000","v":0},0,null,null,0,null,null,0,10]
["2019-12-01",{"$f":"DAY(EOMONTH(Base[[#This Row],[FECHA]],0))","v":31},{"$f":"+PROPER(TEXT(Base[[#This Row],[FECHA]],\"MMMM\"))","v":"Diciembre"},{"$f":"+YEAR(Base[[#This Row],[FECHA]])","v":2019},"La Mariscal","3 estrellas","Hotel",10,null,{"$f":"Base[[#This Row],[VENTAS POR ALOJAMIENTO DURANTE EL MES DE LA ENCUESTA]]/1000","v":0},368,null,null,0,null,null,0,7]
["2019-12-01",{"$f":"DAY(EOMONTH(Base[[#This Row],[FECHA]],0))","v":31},{"$f":"+PROPER(TEXT(Base[[#This Row],[FECHA]],\"MMMM\"))","v":"Diciembre"},{"$f":"+YEAR(Base[[#This Row],[FECHA]])","v":2019},"La Mariscal","4 estrellas","Hotel",55,34839.75,{"$f":"Base[[#This Row],[VENTAS POR ALOJAMIENTO DURANTE EL MES DE LA ENCUESTA]]/1000","v":34.839750000000002},550,null,null,0,null,null,0,18]
["2019-12-01",{"$f":"DAY(EOMONTH(Base[[#This Row],[FECHA]],0))","v":31},{"$f":"+PROPER(TEXT(Base[[#This Row],[FECHA]],\"MMMM\"))","v":"Diciembre"},{"$f":"+YEAR(Base[[#This Row],[FECHA]])","v":2019},"La Mariscal","3 estrellas","Hotel",16,2835,{"$f":"Base[[#This Row],[VENTAS POR ALOJAMIENTO DURANTE EL MES DE LA ENCUESTA]]/1000","v":2.835},112,null,null,0,107,10,117,6]
["2019-12-01",{"$f":"DAY(EOMONTH(Base[[#This Row],[FECHA]],0))","v":31},{"$f":"+PROPER(TEXT(Base[[#This Row],[FECHA]],\"MMMM\"))","v":"Diciembre"},{"$f":"+YEAR(Base[[#This Row],[FECHA]])","v":2019},"Manuela Sáenz","3 estrellas","Hotel",31,12000,{"$f":"Base[[#This Row],[VENTAS POR ALOJAMIENTO DURANTE EL MES DE LA ENCUESTA]]/1000","v":12},1195,43,187,230,55,187,230,4]
["2019-12-01",{"$f":"DAY(EOMONTH(Base[[#This Row],[FECHA]],0))","v":31},{"$f":"+PROPER(TEXT(Base[[#This Row],[FECHA]],\"MMMM\"))","v":"Diciembre"},{"$f":"+YEAR(Base[[#This Row],[FECHA]])","v":2019},"La Mariscal","4 estrellas","Hotel",100,null,{"$f":"Base[[#This Row],[VENTAS POR ALOJAMIENTO DURANTE EL MES DE LA ENCUESTA]]/1000","v":0},0,null,null,0,null,null,0,63]
["2019-12-01",{"$f":"DAY(EOMONTH(Base[[#This Row],[FECHA]],0))","v":31},{"$f":"+PROPER(TEXT(Base[[#This Row],[FECHA]],\"MMMM\"))","v":"Diciembre"},{"$f":"+YEAR(Base[[#This Row],[FECHA]])","v":2019},"Tumbaco","3 estrellas","Hostería",8,9670,{"$f":"Base[[#This Row],[VENTAS POR ALOJAMIENTO DURANTE EL MES DE LA ENCUESTA]]/1000","v":9.67},110,67,null,67,180,null,180,4]
["2019-12-01",{"$f":"DAY(EOMONTH(Base[[#This Row],[FECHA]],0))","v":31},{"$f":"+PROPER(TEXT(Base[[#This Row],[FECHA]],\"MMMM\"))","v":"Diciembre"},{"$f":"+YEAR(Base[[#This Row],[FECHA]])","v":2019},"Eugenio Espejo","3 estrellas","Hotel",28,21453,{"$f":"Base[[#This Row],[VENTAS POR ALOJAMIENTO DURANTE EL MES DE LA ENCUESTA]]/1000","v":21.452999999999999},439,410,176,586,410,176,586,6]
["2019-12-01",{"$f":"DAY(EOMONTH(Base[[#This Row],[FECHA]],0))","v":31},{"$f":"+PROPER(TEXT(Base[[#This Row],[FECHA]],\"MMMM\"))","v":"Diciembre"},{"$f":"+YEAR(Base[[#This Row],[FECHA]])","v":2019},"La Mariscal","3 estrellas","Hotel",23,6277,{"$f":"Base[[#This Row],[VENTAS POR ALOJAMIENTO DURANTE EL MES DE LA ENCUESTA]]/1000","v":6.2770000000000001},205,162,25,187,241,46,287,9]
["2019-12-01",{"$f":"DAY(EOMONTH(Base[[#This Row],[FECHA]],0))","v":31},{"$f":"+PROPER(TEXT(Base[[#This Row],[FECHA]],\"MMMM\"))","v":"Diciembre"},{"$f":"+YEAR(Base[[#This Row],[FECHA]])","v":2019},"Eugenio Espejo","4 estrellas","Hotel",25,29326.43,{"$f":"Base[[#This Row],[VENTAS POR ALOJAMIENTO DURANTE EL MES DE LA ENCUESTA]]/1000","v":29.326430000000002},190,76,126,202,114,417,531,18]
["2019-12-01",{"$f":"DAY(EOMONTH(Base[[#This Row],[FECHA]],0))","v":31},{"$f":"+PROPER(TEXT(Base[[#This Row],[FECHA]],\"MMMM\"))","v":"Diciembre"},{"$f":"+YEAR(Base[[#This Row],[FECHA]])","v":2019},"Tumbaco","3 estrellas","Hotel",15,12000,{"$f":"Base[[#This Row],[VENTAS POR ALOJAMIENTO DURANTE EL MES DE LA ENCUESTA]]/1000","v":12},89,75,17,92,75,17,92,16]
["2019-12-01",{"$f":"DAY(EOMONTH(Base[[#This Row],[FECHA]],0))","v":31},{"$f":"+PROPER(TEXT(Base[[#This Row],[FECHA]],\"MMMM\"))","v":"Diciembre"},{"$f":"+YEAR(Base[[#This Row],[FECHA]])","v":2019},"La Mariscal","5 estrellas","Hotel",275,427273,{"$f":"Base[[#This Row],[VENTAS POR ALOJAMIENTO DURANTE EL MES DE LA ENCUESTA]]/1000","v":427.27300000000002},4315,1273,1934,3207,1963,4260,6223,722]
["2019-12-01",{"$f":"DAY(EOMONTH(Base[[#This Row],[FECHA]],0))","v":31},{"$f":"+PROPER(TEXT(Base[[#This Row],[FECHA]],\"MMMM\"))","v":"Diciembre"},{"$f":"+YEAR(Base[[#This Row],[FECHA]])","v":2019},"La Delicia","3 estrellas","Hacienda Turística",12,11096.1,{"$f":"Base[[#This Row],[VENTAS POR ALOJAMIENTO DURANTE EL MES DE LA ENCUESTA]]/1000","v":11.0961},29,14,29,43,20,64,84,8]
["2019-12-01",{"$f":"DAY(EOMONTH(Base[[#This Row],[FECHA]],0))","v":31},{"$f":"+PROPER(TEXT(Base[[#This Row],[FECHA]],\"MMMM\"))","v":"Diciembre"},{"$f":"+YEAR(Base[[#This Row],[FECHA]])","v":2019},"Manuela Sáenz","4 estrellas","Hotel",6,17150,{"$f":"Base[[#This Row],[VENTAS POR ALOJAMIENTO DURANTE EL MES DE LA ENCUESTA]]/1000","v":17.149999999999999},81,null,null,null,null,null,null,10]
["2019-12-01",{"$f":"DAY(EOMONTH(Base[[#This Row],[FECHA]],0))","v":31},{"$f":"+PROPER(TEXT(Base[[#This Row],[FECHA]],\"MMMM\"))","v":"Diciembre"},{"$f":"+YEAR(Base[[#This Row],[FECHA]])","v":2019},"Tumbaco","3 estrellas","Hacienda Turística",20,711,{"$f":"Base[[#This Row],[VENTAS POR ALOJAMIENTO DURANTE EL MES DE LA ENCUESTA]]/1000","v":0.71099999999999997},10,10,null,10,10,null,10,1]
["2019-12-01",{"$f":"DAY(EOMONTH(Base[[#This Row],[FECHA]],0))","v":31},{"$f":"+PROPER(TEXT(Base[[#This Row],[FECHA]],\"MMMM\"))","v":"Diciembre"},{"$f":"+YEAR(Base[[#This Row],[FECHA]])","v":2019},"La Mariscal","3 estrellas","Hotel",22,null,{"$f":"Base[[#This Row],[VENTAS POR ALOJAMIENTO DURANTE EL MES DE LA ENCUESTA]]/1000","v":0},0,2,7,9,2,7,9,4]
["2020-01-01",{"$f":"DAY(EOMONTH(Base[[#This Row],[FECHA]],0))","v":31},{"$f":"+PROPER(TEXT(Base[[#This Row],[FECHA]],\"MMMM\"))","v":"Enero"},{"$f":"+YEAR(Base[[#This Row],[FECHA]])","v":2020},"Eugenio Espejo","3 estrellas","Hotel",12,8979.07,{"$f":"Base[[#This Row],[VENTAS POR ALOJAMIENTO DURANTE EL MES DE LA ENCUESTA]]/1000","v":8.9790700000000001},110,93,77,170,294,77,371,6]
["2020-01-01",{"$f":"DAY(EOMONTH(Base[[#This Row],[FECHA]],0))","v":31},{"$f":"+PROPER(TEXT(Base[[#This Row],[FECHA]],\"MMMM\"))","v":"Enero"},{"$f":"+YEAR(Base[[#This Row],[FECHA]])","v":2020},"Eugenio Espejo","5 estrellas","Hotel",null,90488.11,{"$f":"Base[[#This Row],[VENTAS POR ALOJAMIENTO DURANTE EL MES DE LA ENCUESTA]]/1000","v":90.488110000000006},1379,null,null,null,9,0,9,0]
["2020-01-01",{"$f":"DAY(EOMONTH(Base[[#This Row],[FECHA]],0))","v":31},{"$f":"+PROPER(TEXT(Base[[#This Row],[FECHA]],\"MMMM\"))","v":"Enero"},{"$f":"+YEAR(Base[[#This Row],[FECHA]])","v":2020},"Tumbaco","5 estrellas","Hotel",7,3144.41,{"$f":"Base[[#This Row],[VENTAS POR ALOJAMIENTO DURANTE EL MES DE LA ENCUESTA]]/1000","v":3.1444099999999997},33,9,72,81,9,72,81,5]
["2020-01-01",{"$f":"DAY(EOMONTH(Base[[#This Row],[FECHA]],0))","v":31},{"$f":"+PROPER(TEXT(Base[[#This Row],[FECHA]],\"MMMM\"))","v":"Enero"},{"$f":"+YEAR(Base[[#This Row],[FECHA]])","v":2020},"Tumbaco","5 estrellas","Hotel",null,2370,{"$f":"Base[[#This Row],[VENTAS POR ALOJAMIENTO DURANTE EL MES DE LA ENCUESTA]]/1000","v":2.37},28,0,46,46,0,46,46,4]
["2020-01-01",{"$f":"DAY(EOMONTH(Base[[#This Row],[FECHA]],0))","v":31},{"$f":"+PROPER(TEXT(Base[[#This Row],[FECHA]],\"MMMM\"))","v":"Enero"},{"$f":"+YEAR(Base[[#This Row],[FECHA]])","v":2020},"La Mariscal","3 estrellas","Hotel",20,10406,{"$f":"Base[[#This Row],[VENTAS POR ALOJAMIENTO DURANTE EL MES DE LA ENCUESTA]]/1000","v":10.406000000000001},242,19,218,237,430,356,786,8]
["2020-01-01",{"$f":"DAY(EOMONTH(Base[[#This Row],[FECHA]],0))","v":31},{"$f":"+PROPER(TEXT(Base[[#This Row],[FECHA]],\"MMMM\"))","v":"Enero"},{"$f":"+YEAR(Base[[#This Row],[FECHA]])","v":2020},"Manuela Sáenz","4 estrellas","Hotel",558,1352,{"$f":"Base[[#This Row],[VENTAS POR ALOJAMIENTO DURANTE EL MES DE LA ENCUESTA]]/1000","v":1.3520000000000001},11,0,9,9,749,9,758,7]
["2020-01-01",{"$f":"DAY(EOMONTH(Base[[#This Row],[FECHA]],0))","v":31},{"$f":"+PROPER(TEXT(Base[[#This Row],[FECHA]],\"MMMM\"))","v":"Enero"},{"$f":"+YEAR(Base[[#This Row],[FECHA]])","v":2020},"La Mariscal","5 estrellas","Hotel",255,479777,{"$f":"Base[[#This Row],[VENTAS POR ALOJAMIENTO DURANTE EL MES DE LA ENCUESTA]]/1000","v":479.77699999999999},4726,264,2378,2642,0,4253,4253,411]
["2020-01-01",{"$f":"DAY(EOMONTH(Base[[#This Row],[FECHA]],0))","v":31},{"$f":"+PROPER(TEXT(Base[[#This Row],[FECHA]],\"MMMM\"))","v":"Enero"},{"$f":"+YEAR(Base[[#This Row],[FECHA]])","v":2020},"La Mariscal","4 estrellas","Hotel",141,194400,{"$f":"Base[[#This Row],[VENTAS POR ALOJAMIENTO DURANTE EL MES DE LA ENCUESTA]]/1000","v":194.4},0,null,null,0,16,0,16,44]
["2020-01-01",{"$f":"DAY(EOMONTH(Base[[#This Row],[FECHA]],0))","v":31},{"$f":"+PROPER(TEXT(Base[[#This Row],[FECHA]],\"MMMM\"))","v":"Enero"},{"$f":"+YEAR(Base[[#This Row],[FECHA]])","v":2020},"Manuela Sáenz","3 estrellas","Hotel",6,5000,{"$f":"Base[[#This Row],[VENTAS POR ALOJAMIENTO DURANTE EL MES DE LA ENCUESTA]]/1000","v":5},5,0,40,40,21,40,61,6]
["2020-01-01",{"$f":"DAY(EOMONTH(Base[[#This Row],[FECHA]],0))","v":31},{"$f":"+PROPER(TEXT(Base[[#This Row],[FECHA]],\"MMMM\"))","v":"Enero"},{"$f":"+YEAR(Base[[#This Row],[FECHA]])","v":2020},"La Delicia","3 estrellas","Hostería",14,1408,{"$f":"Base[[#This Row],[VENTAS POR ALOJAMIENTO DURANTE EL MES DE LA ENCUESTA]]/1000","v":1.4079999999999999},26,16,null,16,298,19,317,11]
["2020-01-01",{"$f":"DAY(EOMONTH(Base[[#This Row],[FECHA]],0))","v":31},{"$f":"+PROPER(TEXT(Base[[#This Row],[FECHA]],\"MMMM\"))","v":"Enero"},{"$f":"+YEAR(Base[[#This Row],[FECHA]])","v":2020},"Los Chillos","3 estrellas","Hostería",13,160,{"$f":"Base[[#This Row],[VENTAS POR ALOJAMIENTO DURANTE EL MES DE LA ENCUESTA]]/1000","v":0.16},8,8,0,8,13,0,13,6]
["2020-01-01",{"$f":"DAY(EOMONTH(Base[[#This Row],[FECHA]],0))","v":31},{"$f":"+PROPER(TEXT(Base[[#This Row],[FECHA]],\"MMMM\"))","v":"Enero"},{"$f":"+YEAR(Base[[#This Row],[FECHA]])","v":2020},"Los Chillos","3 estrellas","Hostería",null,null,null,0,null,null,null,25,0,25,7]
["2020-01-01",{"$f":"DAY(EOMONTH(Base[[#This Row],[FECHA]],0))","v":31},{"$f":"+PROPER(TEXT(Base[[#This Row],[FECHA]],\"MMMM\"))","v":"Enero"},{"$f":"+YEAR(Base[[#This Row],[FECHA]])","v":2020},"Los Chillos","4 estrellas","Hacienda Turística",6,null,null,0,null,null,null,50,0,50,5]
["2020-01-01",{"$f":"DAY(EOMONTH(Base[[#This Row],[FECHA]],0))","v":31},{"$f":"+PROPER(TEXT(Base[[#This Row],[FECHA]],\"MMMM\"))","v":"Enero"},{"$f":"+YEAR(Base[[#This Row],[FECHA]])","v":2020},"Tumbaco","3 estrellas","Hostería",6,null,null,0,null,null,null,5,0,5,6]
["2020-01-01",{"$f":"DAY(EOMONTH(Base[[#This Row],[FECHA]],0))","v":31},{"$f":"+PROPER(TEXT(Base[[#This Row],[FECHA]],\"MMMM\"))","v":"Enero"},{"$f":"+YEAR(Base[[#This Row],[FECHA]])","v":2020},"Manuela Sáenz","4 estrellas","Hotel",49,25573,{"$f":"Base[[#This Row],[VENTAS POR ALOJAMIENTO DURANTE EL MES DE LA ENCUESTA]]/1000","v":25.573},243,236,93,329,236,93,329,36]
["2020-01-01",{"$f":"DAY(EOMONTH(Base[[#This Row],[FECHA]],0))","v":31},{"$f":"+PROPER(TEXT(Base[[#This Row],[FECHA]],\"MMMM\"))","v":"Enero"},{"$f":"+YEAR(Base[[#This Row],[FECHA]])","v":2020},"Manuela Sáenz","3 estrellas","Hotel",24,15000,{"$f":"Base[[#This Row],[VENTAS POR ALOJAMIENTO DURANTE EL MES DE LA ENCUESTA]]/1000","v":15},160,5,145,150,1620,145,1765,11]
["2020-01-01",{"$f":"DAY(EOMONTH(Base[[#This Row],[FECHA]],0))","v":31},{"$f":"+PROPER(TEXT(Base[[#This Row],[FECHA]],\"MMMM\"))","v":"Enero"},{"$f":"+YEAR(Base[[#This Row],[FECHA]])","v":2020},"Eugenio Espejo","5 estrellas","Hotel",210,null,null,4740,null,null,null,798,4665,5463,198]
["2020-01-01",{"$f":"DAY(EOMONTH(Base[[#This Row],[FECHA]],0))","v":31},{"$f":"+PROPER(TEXT(Base[[#This Row],[FECHA]],\"MMMM\"))","v":"Enero"},{"$f":"+YEAR(Base[[#This Row],[FECHA]])","v":2020},"Manuela Sáenz","3 estrellas","Hotel",32,null,null,450,430,20,450,430,20,450,6]
["2020-01-01",{"$f":"DAY(EOMONTH(Base[[#This Row],[FECHA]],0))","v":31},{"$f":"+PROPER(TEXT(Base[[#This Row],[FECHA]],\"MMMM\"))","v":"Enero"},{"$f":"+YEAR(Base[[#This Row],[FECHA]])","v":2020},"Eugenio Espejo","4 estrellas","Hotel",152,null,null,3008,1620,710,2330,1620,710,2330,67]
["2020-01-01",{"$f":"DAY(EOMONTH(Base[[#This Row],[FECHA]],0))","v":31},{"$f":"+PROPER(TEXT(Base[[#This Row],[FECHA]],\"MMMM\"))","v":"Enero"},{"$f":"+YEAR(Base[[#This Row],[FECHA]])","v":2020},"Eugenio Espejo","3 estrellas","Hotel",40,null,null,110,70,70,140,70,70,140,6]
["2020-01-01",{"$f":"DAY(EOMONTH(Base[[#This Row],[FECHA]],0))","v":31},{"$f":"+PROPER(TEXT(Base[[#This Row],[FECHA]],\"MMMM\"))","v":"Enero"},{"$f":"+YEAR(Base[[#This Row],[FECHA]])","v":2020},"Eugenio Espejo","3 estrellas","Hotel",16,3000,{"$f":"Base[[#This Row],[VENTAS POR ALOJAMIENTO DURANTE EL MES DE LA ENCUESTA]]/1000","v":3},52,40,12,52,40,12,52,4]
["2020-01-01",{"$f":"DAY(EOMONTH(Base[[#This Row],[FECHA]],0))","v":31},{"$f":"+PROPER(TEXT(Base[[#This Row],[FECHA]],\"MMMM\"))","v":"Enero"},{"$f":"+YEAR(Base[[#This Row],[FECHA]])","v":2020},"Manuela Sáenz","4 estrellas","Hotel",32,67686,{"$f":"Base[[#This Row],[VENTAS POR ALOJAMIENTO DURANTE EL MES DE LA ENCUESTA]]/1000","v":67.686000000000007},618,0,1052,1052,8,1052,1060,48]
["2020-01-01",{"$f":"DAY(EOMONTH(Base[[#This Row],[FECHA]],0))","v":31},{"$f":"+PROPER(TEXT(Base[[#This Row],[FECHA]],\"MMMM\"))","v":"Enero"},{"$f":"+YEAR(Base[[#This Row],[FECHA]])","v":2020},"Manuela Sáenz","5 estrellas","Hotel",15,67875,{"$f":"Base[[#This Row],[VENTAS POR ALOJAMIENTO DURANTE EL MES DE LA ENCUESTA]]/1000","v":67.875},148,0,148,148,0,296,296,43]
["2020-01-01",{"$f":"DAY(EOMONTH(Base[[#This Row],[FECHA]],0))","v":31},{"$f":"+PROPER(TEXT(Base[[#This Row],[FECHA]],\"MMMM\"))","v":"Enero"},{"$f":"+YEAR(Base[[#This Row],[FECHA]])","v":2020},"Manuela Sáenz","4 estrellas","Hotel",80,18598,{"$f":"Base[[#This Row],[VENTAS POR ALOJAMIENTO DURANTE EL MES DE LA ENCUESTA]]/1000","v":18.597999999999999},309,null,null,null,45,157,202,35]
["2020-01-01",{"$f":"DAY(EOMONTH(Base[[#This Row],[FECHA]],0))","v":31},{"$f":"+PROPER(TEXT(Base[[#This Row],[FECHA]],\"MMMM\"))","v":"Enero"},{"$f":"+YEAR(Base[[#This Row],[FECHA]])","v":2020},"Eugenio Espejo","3 estrellas","Hotel",13,52.66,{"$f":"Base[[#This Row],[VENTAS POR ALOJAMIENTO DURANTE EL MES DE LA ENCUESTA]]/1000","v":5.2659999999999998E-2},117,62,3,65,62,3,65,0]
["2020-01-01",{"$f":"DAY(EOMONTH(Base[[#This Row],[FECHA]],0))","v":31},{"$f":"+PROPER(TEXT(Base[[#This Row],[FECHA]],\"MMMM\"))","v":"Enero"},{"$f":"+YEAR(Base[[#This Row],[FECHA]])","v":2020},"Tumbaco","3 estrellas","Hostal",279,409.38,{"$f":"Base[[#This Row],[VENTAS POR ALOJAMIENTO DURANTE EL MES DE LA ENCUESTA]]/1000","v":0.40938000000000002},12,10,2,12,10,2,12]
["2020-01-01",{"$f":"DAY(EOMONTH(Base[[#This Row],[FECHA]],0))","v":31},{"$f":"+PROPER(TEXT(Base[[#This Row],[FECHA]],\"MMMM\"))","v":"Enero"},{"$f":"+YEAR(Base[[#This Row],[FECHA]])","v":2020},"Eloy Alfaro","3 estrellas","Hotel",40,null,null,40,3,2,5,14,2,16,13]
["2020-01-01",{"$f":"DAY(EOMONTH(Base[[#This Row],[FECHA]],0))","v":31},{"$f":"+PROPER(TEXT(Base[[#This Row],[FECHA]],\"MMMM\"))","v":"Enero"},{"$f":"+YEAR(Base[[#This Row],[FECHA]])","v":2020},"La Mariscal","4 estrellas","Hotel",44,37430.589999999997,{"$f":"Base[[#This Row],[VENTAS POR ALOJAMIENTO DURANTE EL MES DE LA ENCUESTA]]/1000","v":37.430589999999995},669,14,1084,1098,14,1084,1098,20]
["2020-01-01",{"$f":"DAY(EOMONTH(Base[[#This Row],[FECHA]],0))","v":31},{"$f":"+PROPER(TEXT(Base[[#This Row],[FECHA]],\"MMMM\"))","v":"Enero"},{"$f":"+YEAR(Base[[#This Row],[FECHA]])","v":2020},"Tumbaco","3 estrellas","Hotel",18,14482.13,{"$f":"Base[[#This Row],[VENTAS POR ALOJAMIENTO DURANTE EL MES DE LA ENCUESTA]]/1000","v":14.48213},0,null,null,null,6,0,6,9]
["2020-01-01",{"$f":"DAY(EOMONTH(Base[[#This Row],[FECHA]],0))","v":31},{"$f":"+PROPER(TEXT(Base[[#This Row],[FECHA]],\"MMMM\"))","v":"Enero"},{"$f":"+YEAR(Base[[#This Row],[FECHA]])","v":2020},"Manuela Sáenz","5 estrellas","Hotel",10,null,null,135,6,50,56,0,120,120,11]
["2020-01-01",{"$f":"DAY(EOMONTH(Base[[#This Row],[FECHA]],0))","v":31},{"$f":"+PROPER(TEXT(Base[[#This Row],[FECHA]],\"MMMM\"))","v":"Enero"},{"$f":"+YEAR(Base[[#This Row],[FECHA]])","v":2020},"Manuela Sáenz","3 estrellas","Hotel",41,5000,{"$f":"Base[[#This Row],[VENTAS POR ALOJAMIENTO DURANTE EL MES DE LA ENCUESTA]]/1000","v":5},185,294,3,297,294,3,297,8]
["2020-01-01",{"$f":"DAY(EOMONTH(Base[[#This Row],[FECHA]],0))","v":31},{"$f":"+PROPER(TEXT(Base[[#This Row],[FECHA]],\"MMMM\"))","v":"Enero"},{"$f":"+YEAR(Base[[#This Row],[FECHA]])","v":2020},"Tumbaco","3 estrellas","Hostal",5,199.69,{"$f":"Base[[#This Row],[VENTAS POR ALOJAMIENTO DURANTE EL MES DE LA ENCUESTA]]/1000","v":0.19969000000000001},29,3,4,7,60,4,64]
["2020-01-01",{"$f":"DAY(EOMONTH(Base[[#This Row],[FECHA]],0))","v":31},{"$f":"+PROPER(TEXT(Base[[#This Row],[FECHA]],\"MMMM\"))","v":"Enero"},{"$f":"+YEAR(Base[[#This Row],[FECHA]])","v":2020},"La Delicia","4 estrellas","Hostería",17,3299.15,{"$f":"Base[[#This Row],[VENTAS POR ALOJAMIENTO DURANTE EL MES DE LA ENCUESTA]]/1000","v":3.29915},23,60,1,61,60,1,61,7]
["2020-01-01",{"$f":"DAY(EOMONTH(Base[[#This Row],[FECHA]],0))","v":31},{"$f":"+PROPER(TEXT(Base[[#This Row],[FECHA]],\"MMMM\"))","v":"Enero"},{"$f":"+YEAR(Base[[#This Row],[FECHA]])","v":2020},"La Mariscal","4 estrellas","Hotel",12,7000,{"$f":"Base[[#This Row],[VENTAS POR ALOJAMIENTO DURANTE EL MES DE LA ENCUESTA]]/1000","v":7},155,4,151,155,4,151,155,9]
["2020-01-01",{"$f":"DAY(EOMONTH(Base[[#This Row],[FECHA]],0))","v":31},{"$f":"+PROPER(TEXT(Base[[#This Row],[FECHA]],\"MMMM\"))","v":"Enero"},{"$f":"+YEAR(Base[[#This Row],[FECHA]])","v":2020},"Eugenio Espejo","3 estrellas","Hostería",5,160,{"$f":"Base[[#This Row],[VENTAS POR ALOJAMIENTO DURANTE EL MES DE LA ENCUESTA]]/1000","v":0.16},2,0,2,2,0,2,2,7]
["2020-01-01",{"$f":"DAY(EOMONTH(Base[[#This Row],[FECHA]],0))","v":31},{"$f":"+PROPER(TEXT(Base[[#This Row],[FECHA]],\"MMMM\"))","v":"Enero"},{"$f":"+YEAR(Base[[#This Row],[FECHA]])","v":2020},"Tumbaco","5 estrellas","Hacienda Turística",7,1363.79,{"$f":"Base[[#This Row],[VENTAS POR ALOJAMIENTO DURANTE EL MES DE LA ENCUESTA]]/1000","v":1.3637900000000001},12,13,10,23,473,11,484,7]
["2020-01-01",{"$f":"DAY(EOMONTH(Base[[#This Row],[FECHA]],0))","v":31},{"$f":"+PROPER(TEXT(Base[[#This Row],[FECHA]],\"MMMM\"))","v":"Enero"},{"$f":"+YEAR(Base[[#This Row],[FECHA]])","v":2020},"La Mariscal","3 estrellas","Hotel",340,7500,{"$f":"Base[[#This Row],[VENTAS POR ALOJAMIENTO DURANTE EL MES DE LA ENCUESTA]]/1000","v":7.5},180,null,null,0,0,0,null,7]
["2020-01-01",{"$f":"DAY(EOMONTH(Base[[#This Row],[FECHA]],0))","v":31},{"$f":"+PROPER(TEXT(Base[[#This Row],[FECHA]],\"MMMM\"))","v":"Enero"},{"$f":"+YEAR(Base[[#This Row],[FECHA]])","v":2020},"La Mariscal","4 estrellas","Hotel",55,41675.94,{"$f":"Base[[#This Row],[VENTAS POR ALOJAMIENTO DURANTE EL MES DE LA ENCUESTA]]/1000","v":41.675940000000004},694,null,null,0,0,0,null,18]
["2020-01-01",{"$f":"DAY(EOMONTH(Base[[#This Row],[FECHA]],0))","v":31},{"$f":"+PROPER(TEXT(Base[[#This Row],[FECHA]],\"MMMM\"))","v":"Enero"},{"$f":"+YEAR(Base[[#This Row],[FECHA]])","v":2020},"La Mariscal","3 estrellas","Hotel",16,2233,{"$f":"Base[[#This Row],[VENTAS POR ALOJAMIENTO DURANTE EL MES DE LA ENCUESTA]]/1000","v":2.2330000000000001},117,null,null,0,0,0,null,6]
["2020-01-01",{"$f":"DAY(EOMONTH(Base[[#This Row],[FECHA]],0))","v":31},{"$f":"+PROPER(TEXT(Base[[#This Row],[FECHA]],\"MMMM\"))","v":"Enero"},{"$f":"+YEAR(Base[[#This Row],[FECHA]])","v":2020},"Manuela Sáenz","3 estrellas","Hotel",31,16000,{"$f":"Base[[#This Row],[VENTAS POR ALOJAMIENTO DURANTE EL MES DE LA ENCUESTA]]/1000","v":16},286,17,244,261,17,244,261,20]
["2020-01-01",{"$f":"DAY(EOMONTH(Base[[#This Row],[FECHA]],0))","v":31},{"$f":"+PROPER(TEXT(Base[[#This Row],[FECHA]],\"MMMM\"))","v":"Enero"},{"$f":"+YEAR(Base[[#This Row],[FECHA]])","v":2020},"La Mariscal","4 estrellas","Hotel",100,null,null,0,null,null,0,0,0,null,57]
["2020-01-01",{"$f":"DAY(EOMONTH(Base[[#This Row],[FECHA]],0))","v":31},{"$f":"+PROPER(TEXT(Base[[#This Row],[FECHA]],\"MMMM\"))","v":"Enero"},{"$f":"+YEAR(Base[[#This Row],[FECHA]])","v":2020},"La Mariscal","4 estrellas","Hotel",null,41649.269999999997,{"$f":"Base[[#This Row],[VENTAS POR ALOJAMIENTO DURANTE EL MES DE LA ENCUESTA]]/1000","v":41.649269999999994},0,798,397,1195,798,397,1195,75]
["2020-01-01",{"$f":"DAY(EOMONTH(Base[[#This Row],[FECHA]],0))","v":31},{"$f":"+PROPER(TEXT(Base[[#This Row],[FECHA]],\"MMMM\"))","v":"Enero"},{"$f":"+YEAR(Base[[#This Row],[FECHA]])","v":2020},"Tumbaco","3 estrellas","Hostería",8,5215,{"$f":"Base[[#This Row],[VENTAS POR ALOJAMIENTO DURANTE EL MES DE LA ENCUESTA]]/1000","v":5.2149999999999999},51,null,null,null,25,0,25,3]
["2020-01-01",{"$f":"DAY(EOMONTH(Base[[#This Row],[FECHA]],0))","v":31},{"$f":"+PROPER(TEXT(Base[[#This Row],[FECHA]],\"MMMM\"))","v":"Enero"},{"$f":"+YEAR(Base[[#This Row],[FECHA]])","v":2020},"Eugenio Espejo","3 estrellas","Hotel",28,18309.16,{"$f":"Base[[#This Row],[VENTAS POR ALOJAMIENTO DURANTE EL MES DE LA ENCUESTA]]/1000","v":18.309159999999999},361,14,4,18,14,4,18,6]
["2020-01-01",{"$f":"DAY(EOMONTH(Base[[#This Row],[FECHA]],0))","v":31},{"$f":"+PROPER(TEXT(Base[[#This Row],[FECHA]],\"MMMM\"))","v":"Enero"},{"$f":"+YEAR(Base[[#This Row],[FECHA]])","v":2020},"Eugenio Espejo","4 estrellas","Hotel",29,null,null,10,25,18,43,306,18,324,15]
["2020-01-01",{"$f":"DAY(EOMONTH(Base[[#This Row],[FECHA]],0))","v":31},{"$f":"+PROPER(TEXT(Base[[#This Row],[FECHA]],\"MMMM\"))","v":"Enero"},{"$f":"+YEAR(Base[[#This Row],[FECHA]])","v":2020},"La Mariscal","5 estrellas","Hotel",275,1056381,{"$f":"Base[[#This Row],[VENTAS POR ALOJAMIENTO DURANTE EL MES DE LA ENCUESTA]]/1000","v":1056.3810000000001},4080,378,1370,1748,1112,3331,4443,449]
["2020-01-01",{"$f":"DAY(EOMONTH(Base[[#This Row],[FECHA]],0))","v":31},{"$f":"+PROPER(TEXT(Base[[#This Row],[FECHA]],\"MMMM\"))","v":"Enero"},{"$f":"+YEAR(Base[[#This Row],[FECHA]])","v":2020},"La Delicia","3 estrellas","Hotel",12,21266.15,{"$f":"Base[[#This Row],[VENTAS POR ALOJAMIENTO DURANTE EL MES DE LA ENCUESTA]]/1000","v":21.266150000000003},39,13,51,64,125,187,312,8]
["2020-01-01",{"$f":"DAY(EOMONTH(Base[[#This Row],[FECHA]],0))","v":31},{"$f":"+PROPER(TEXT(Base[[#This Row],[FECHA]],\"MMMM\"))","v":"Enero"},{"$f":"+YEAR(Base[[#This Row],[FECHA]])","v":2020},"Tumbaco","3 estrellas","Hotel",20,null,null,0,null,null,null,40,0,40,1]
["2020-02-01",{"$f":"DAY(EOMONTH(Base[[#This Row],[FECHA]],0))","v":29},{"$f":"+PROPER(TEXT(Base[[#This Row],[FECHA]],\"MMMM\"))","v":"Febrero"},{"$f":"+YEAR(Base[[#This Row],[FECHA]])","v":2020},"La Delicia","3 estrellas","Hostería",14,6500,{"$f":"Base[[#This Row],[VENTAS POR ALOJAMIENTO DURANTE EL MES DE LA ENCUESTA]]/1000","v":6.5},12,9,5,14,9,5,14,10]
["2020-02-01",{"$f":"DAY(EOMONTH(Base[[#This Row],[FECHA]],0))","v":29},{"$f":"+PROPER(TEXT(Base[[#This Row],[FECHA]],\"MMMM\"))","v":"Febrero"},{"$f":"+YEAR(Base[[#This Row],[FECHA]])","v":2020},"Manuela Sáenz","4 estrellas","Hotel",49,14959,{"$f":"Base[[#This Row],[VENTAS POR ALOJAMIENTO DURANTE EL MES DE LA ENCUESTA]]/1000","v":14.959},316,243,149,392,256,227,483,44]
["2020-02-01",{"$f":"DAY(EOMONTH(Base[[#This Row],[FECHA]],0))","v":29},{"$f":"+PROPER(TEXT(Base[[#This Row],[FECHA]],\"MMMM\"))","v":"Febrero"},{"$f":"+YEAR(Base[[#This Row],[FECHA]])","v":2020},"La Delicia","4 estrellas","Lodge",16,22000,{"$f":"Base[[#This Row],[VENTAS POR ALOJAMIENTO DURANTE EL MES DE LA ENCUESTA]]/1000","v":22},102,25,230,255,36,276,312,24]
["2020-02-01",{"$f":"DAY(EOMONTH(Base[[#This Row],[FECHA]],0))","v":29},{"$f":"+PROPER(TEXT(Base[[#This Row],[FECHA]],\"MMMM\"))","v":"Febrero"},{"$f":"+YEAR(Base[[#This Row],[FECHA]])","v":2020},"La Mariscal","3 estrellas","Hotel",8,1500,{"$f":"Base[[#This Row],[VENTAS POR ALOJAMIENTO DURANTE EL MES DE LA ENCUESTA]]/1000","v":1.5},40,null,null,0,null,null,null,4]
["2020-02-01",{"$f":"DAY(EOMONTH(Base[[#This Row],[FECHA]],0))","v":29},{"$f":"+PROPER(TEXT(Base[[#This Row],[FECHA]],\"MMMM\"))","v":"Febrero"},{"$f":"+YEAR(Base[[#This Row],[FECHA]])","v":2020},"Tumbaco","5 estrellas","Hostería",7,5247.36,{"$f":"Base[[#This Row],[VENTAS POR ALOJAMIENTO DURANTE EL MES DE LA ENCUESTA]]/1000","v":5.2473599999999996},53,null,null,null,null,null,null,4]
["2020-02-01",{"$f":"DAY(EOMONTH(Base[[#This Row],[FECHA]],0))","v":29},{"$f":"+PROPER(TEXT(Base[[#This Row],[FECHA]],\"MMMM\"))","v":"Febrero"},{"$f":"+YEAR(Base[[#This Row],[FECHA]])","v":2020},"La Mariscal","3 estrellas","Hotel",40,2097,{"$f":"Base[[#This Row],[VENTAS POR ALOJAMIENTO DURANTE EL MES DE LA ENCUESTA]]/1000","v":2.097},40,2,17,19,4,36,40,2]
["2020-02-01",{"$f":"DAY(EOMONTH(Base[[#This Row],[FECHA]],0))","v":29},{"$f":"+PROPER(TEXT(Base[[#This Row],[FECHA]],\"MMMM\"))","v":"Febrero"},{"$f":"+YEAR(Base[[#This Row],[FECHA]])","v":2020},"Eugenio Espejo","4 estrellas","Hotel",25,8550,{"$f":"Base[[#This Row],[VENTAS POR ALOJAMIENTO DURANTE EL MES DE LA ENCUESTA]]/1000","v":8.5500000000000007},58,10,35,45,167,45,212,0]
["2020-02-01",{"$f":"DAY(EOMONTH(Base[[#This Row],[FECHA]],0))","v":29},{"$f":"+PROPER(TEXT(Base[[#This Row],[FECHA]],\"MMMM\"))","v":"Febrero"},{"$f":"+YEAR(Base[[#This Row],[FECHA]])","v":2020},"Eugenio Espejo","3 estrellas","Hostería",17,0,null,null,0,null,null,0,null,null,2]
["2020-02-01",{"$f":"DAY(EOMONTH(Base[[#This Row],[FECHA]],0))","v":29},{"$f":"+PROPER(TEXT(Base[[#This Row],[FECHA]],\"MMMM\"))","v":"Febrero"},{"$f":"+YEAR(Base[[#This Row],[FECHA]])","v":2020},"Tumbaco","5 estrellas","Lodge",203,5361,{"$f":"Base[[#This Row],[VENTAS POR ALOJAMIENTO DURANTE EL MES DE LA ENCUESTA]]/1000","v":5.3609999999999998},35,67,18,85,67,24,91,9]
["2020-02-01",{"$f":"DAY(EOMONTH(Base[[#This Row],[FECHA]],0))","v":29},{"$f":"+PROPER(TEXT(Base[[#This Row],[FECHA]],\"MMMM\"))","v":"Febrero"},{"$f":"+YEAR(Base[[#This Row],[FECHA]])","v":2020},"Manuela Sáenz","4 estrellas","Hotel",15,null,null,150,16,262,278,16,262,278,8]
["2020-02-01",{"$f":"DAY(EOMONTH(Base[[#This Row],[FECHA]],0))","v":29},{"$f":"+PROPER(TEXT(Base[[#This Row],[FECHA]],\"MMMM\"))","v":"Febrero"},{"$f":"+YEAR(Base[[#This Row],[FECHA]])","v":2020},"Eugenio Espejo","4 estrellas","Hotel",152,209547,{"$f":"Base[[#This Row],[VENTAS POR ALOJAMIENTO DURANTE EL MES DE LA ENCUESTA]]/1000","v":209.547},3133,1177,811,1988,1177,811,1988,1]
["2020-02-01",{"$f":"DAY(EOMONTH(Base[[#This Row],[FECHA]],0))","v":29},{"$f":"+PROPER(TEXT(Base[[#This Row],[FECHA]],\"MMMM\"))","v":"Febrero"},{"$f":"+YEAR(Base[[#This Row],[FECHA]])","v":2020},"Manuela Sáenz","4 estrellas","Hotel",982,55076.55,{"$f":"Base[[#This Row],[VENTAS POR ALOJAMIENTO DURANTE EL MES DE LA ENCUESTA]]/1000","v":55.076550000000005},550,0,1163,1163,0,1163,1163,48]
["2020-02-01",{"$f":"DAY(EOMONTH(Base[[#This Row],[FECHA]],0))","v":29},{"$f":"+PROPER(TEXT(Base[[#This Row],[FECHA]],\"MMMM\"))","v":"Febrero"},{"$f":"+YEAR(Base[[#This Row],[FECHA]])","v":2020},"La Mariscal","4 estrellas","Hotel",44,35038,{"$f":"Base[[#This Row],[VENTAS POR ALOJAMIENTO DURANTE EL MES DE LA ENCUESTA]]/1000","v":35.037999999999997},571,52,903,955,52,903,955,18]
["2020-02-01",{"$f":"DAY(EOMONTH(Base[[#This Row],[FECHA]],0))","v":29},{"$f":"+PROPER(TEXT(Base[[#This Row],[FECHA]],\"MMMM\"))","v":"Febrero"},{"$f":"+YEAR(Base[[#This Row],[FECHA]])","v":2020},"La Delicia","4 estrellas","Hostería",9,596,{"$f":"Base[[#This Row],[VENTAS POR ALOJAMIENTO DURANTE EL MES DE LA ENCUESTA]]/1000","v":0.59599999999999997},40,40,0,40,40,0,40,6]
["2020-02-01",{"$f":"DAY(EOMONTH(Base[[#This Row],[FECHA]],0))","v":29},{"$f":"+PROPER(TEXT(Base[[#This Row],[FECHA]],\"MMMM\"))","v":"Febrero"},{"$f":"+YEAR(Base[[#This Row],[FECHA]])","v":2020},"Eugenio Espejo","4 estrellas","Hotel",30,76219.67,{"$f":"Base[[#This Row],[VENTAS POR ALOJAMIENTO DURANTE EL MES DE LA ENCUESTA]]/1000","v":76.219669999999994},671,133,806,939,133,806,939,0]
["2020-02-01",{"$f":"DAY(EOMONTH(Base[[#This Row],[FECHA]],0))","v":29},{"$f":"+PROPER(TEXT(Base[[#This Row],[FECHA]],\"MMMM\"))","v":"Febrero"},{"$f":"+YEAR(Base[[#This Row],[FECHA]])","v":2020},"Los Chillos","4 estrellas","Hostería",10,1338.3,{"$f":"Base[[#This Row],[VENTAS POR ALOJAMIENTO DURANTE EL MES DE LA ENCUESTA]]/1000","v":1.3383},18,36,0,36,36,0,36,9]
["2020-02-01",{"$f":"DAY(EOMONTH(Base[[#This Row],[FECHA]],0))","v":29},{"$f":"+PROPER(TEXT(Base[[#This Row],[FECHA]],\"MMMM\"))","v":"Febrero"},{"$f":"+YEAR(Base[[#This Row],[FECHA]])","v":2020},"La Mariscal","4 estrellas","Hotel",null,121353.66,{"$f":"Base[[#This Row],[VENTAS POR ALOJAMIENTO DURANTE EL MES DE LA ENCUESTA]]/1000","v":121.35366},1004,1187,302,1489,1187,302,1489,76]
["2020-02-01",{"$f":"DAY(EOMONTH(Base[[#This Row],[FECHA]],0))","v":29},{"$f":"+PROPER(TEXT(Base[[#This Row],[FECHA]],\"MMMM\"))","v":"Febrero"},{"$f":"+YEAR(Base[[#This Row],[FECHA]])","v":2020},"La Delicia","3 estrellas","Lodge",360,14539,{"$f":"Base[[#This Row],[VENTAS POR ALOJAMIENTO DURANTE EL MES DE LA ENCUESTA]]/1000","v":14.539},99,10,30,40,35,124,159,0]
["2020-02-01",{"$f":"DAY(EOMONTH(Base[[#This Row],[FECHA]],0))","v":29},{"$f":"+PROPER(TEXT(Base[[#This Row],[FECHA]],\"MMMM\"))","v":"Febrero"},{"$f":"+YEAR(Base[[#This Row],[FECHA]])","v":2020},"Manuela Sáenz","3 estrellas","Hotel",6,11840,{"$f":"Base[[#This Row],[VENTAS POR ALOJAMIENTO DURANTE EL MES DE LA ENCUESTA]]/1000","v":11.84},66,0,132,132,0,132,132,6]
["2020-02-01",{"$f":"DAY(EOMONTH(Base[[#This Row],[FECHA]],0))","v":29},{"$f":"+PROPER(TEXT(Base[[#This Row],[FECHA]],\"MMMM\"))","v":"Febrero"},{"$f":"+YEAR(Base[[#This Row],[FECHA]])","v":2020},"Tumbaco","3 estrellas","Hacienda Turística",21,0,null,null,null,null,null,null,null,null,2]
["2020-03-01",{"$f":"DAY(EOMONTH(Base[[#This Row],[FECHA]],0))","v":31},{"$f":"+PROPER(TEXT(Base[[#This Row],[FECHA]],\"MMMM\"))","v":"Marzo"},{"$f":"+YEAR(Base[[#This Row],[FECHA]])","v":2020},"La Mariscal","3 estrellas","Hotel",1200,3200,{"$f":"Base[[#This Row],[VENTAS POR ALOJAMIENTO DURANTE EL MES DE LA ENCUESTA]]/1000","v":3.2},107,71,7,78,94,7,101,9]
["2020-03-01",{"$f":"DAY(EOMONTH(Base[[#This Row],[FECHA]],0))","v":31},{"$f":"+PROPER(TEXT(Base[[#This Row],[FECHA]],\"MMMM\"))","v":"Marzo"},{"$f":"+YEAR(Base[[#This Row],[FECHA]])","v":2020},"Eugenio Espejo","4 estrellas","Hotel",128,62709,{"$f":"Base[[#This Row],[VENTAS POR ALOJAMIENTO DURANTE EL MES DE LA ENCUESTA]]/1000","v":62.709000000000003},946,488,460,948,488,460,948,0]
["2020-03-01",{"$f":"DAY(EOMONTH(Base[[#This Row],[FECHA]],0))","v":31},{"$f":"+PROPER(TEXT(Base[[#This Row],[FECHA]],\"MMMM\"))","v":"Marzo"},{"$f":"+YEAR(Base[[#This Row],[FECHA]])","v":2020},"La Delicia","3 estrellas","Hostería",14,290,{"$f":"Base[[#This Row],[VENTAS POR ALOJAMIENTO DURANTE EL MES DE LA ENCUESTA]]/1000","v":0.28999999999999998},2,2,0,2,12,0,12,7]
["2020-03-01",{"$f":"DAY(EOMONTH(Base[[#This Row],[FECHA]],0))","v":31},{"$f":"+PROPER(TEXT(Base[[#This Row],[FECHA]],\"MMMM\"))","v":"Marzo"},{"$f":"+YEAR(Base[[#This Row],[FECHA]])","v":2020},"La Mariscal","3 estrellas","Hotel",20,4900,{"$f":"Base[[#This Row],[VENTAS POR ALOJAMIENTO DURANTE EL MES DE LA ENCUESTA]]/1000","v":4.9000000000000004},7,0,7,7,7,7,14,14]
["2020-03-01",{"$f":"DAY(EOMONTH(Base[[#This Row],[FECHA]],0))","v":31},{"$f":"+PROPER(TEXT(Base[[#This Row],[FECHA]],\"MMMM\"))","v":"Marzo"},{"$f":"+YEAR(Base[[#This Row],[FECHA]])","v":2020},"La Mariscal","3 estrellas","Hotel",9,90,{"$f":"Base[[#This Row],[VENTAS POR ALOJAMIENTO DURANTE EL MES DE LA ENCUESTA]]/1000","v":0.09},3,0,3,3,3,3,6,6]
["2020-03-01",{"$f":"DAY(EOMONTH(Base[[#This Row],[FECHA]],0))","v":31},{"$f":"+PROPER(TEXT(Base[[#This Row],[FECHA]],\"MMMM\"))","v":"Marzo"},{"$f":"+YEAR(Base[[#This Row],[FECHA]])","v":2020},"Manuela Sáenz","4 estrellas","Hotel",360,4498.55,{"$f":"Base[[#This Row],[VENTAS POR ALOJAMIENTO DURANTE EL MES DE LA ENCUESTA]]/1000","v":4.4985499999999998},29,0,66,66,0,66,66,8]
["2020-03-01",{"$f":"DAY(EOMONTH(Base[[#This Row],[FECHA]],0))","v":31},{"$f":"+PROPER(TEXT(Base[[#This Row],[FECHA]],\"MMMM\"))","v":"Marzo"},{"$f":"+YEAR(Base[[#This Row],[FECHA]])","v":2020},"Eugenio Espejo","3 estrellas","Hostal",10,6184,{"$f":"Base[[#This Row],[VENTAS POR ALOJAMIENTO DURANTE EL MES DE LA ENCUESTA]]/1000","v":6.1840000000000002},87,0,187,187,0,187,187,6]
["2020-03-01",{"$f":"DAY(EOMONTH(Base[[#This Row],[FECHA]],0))","v":31},{"$f":"+PROPER(TEXT(Base[[#This Row],[FECHA]],\"MMMM\"))","v":"Marzo"},{"$f":"+YEAR(Base[[#This Row],[FECHA]])","v":2020},"La Mariscal","3 estrellas","Hotel",306,216,{"$f":"Base[[#This Row],[VENTAS POR ALOJAMIENTO DURANTE EL MES DE LA ENCUESTA]]/1000","v":0.216},4,1,3,4,1,3,4,2]
["2020-03-01",{"$f":"DAY(EOMONTH(Base[[#This Row],[FECHA]],0))","v":31},{"$f":"+PROPER(TEXT(Base[[#This Row],[FECHA]],\"MMMM\"))","v":"Marzo"},{"$f":"+YEAR(Base[[#This Row],[FECHA]])","v":2020},"La Mariscal","3 estrellas","Hotel",600,8190,{"$f":"Base[[#This Row],[VENTAS POR ALOJAMIENTO DURANTE EL MES DE LA ENCUESTA]]/1000","v":8.19},167,3,141,144,8,231,239,8]
["2020-03-01",{"$f":"DAY(EOMONTH(Base[[#This Row],[FECHA]],0))","v":31},{"$f":"+PROPER(TEXT(Base[[#This Row],[FECHA]],\"MMMM\"))","v":"Marzo"},{"$f":"+YEAR(Base[[#This Row],[FECHA]])","v":2020},"Eugenio Espejo","4 estrellas","Hotel",24,1500,{"$f":"Base[[#This Row],[VENTAS POR ALOJAMIENTO DURANTE EL MES DE LA ENCUESTA]]/1000","v":1.5},9,2,10,12,2,10,12,0]
["2020-03-01",{"$f":"DAY(EOMONTH(Base[[#This Row],[FECHA]],0))","v":31},{"$f":"+PROPER(TEXT(Base[[#This Row],[FECHA]],\"MMMM\"))","v":"Marzo"},{"$f":"+YEAR(Base[[#This Row],[FECHA]])","v":2020},"Tumbaco","5 estrellas","Lodge",217,2331.92,{"$f":"Base[[#This Row],[VENTAS POR ALOJAMIENTO DURANTE EL MES DE LA ENCUESTA]]/1000","v":2.3319200000000002},20,18,9,27,30,13,43,8]
["2020-03-01",{"$f":"DAY(EOMONTH(Base[[#This Row],[FECHA]],0))","v":31},{"$f":"+PROPER(TEXT(Base[[#This Row],[FECHA]],\"MMMM\"))","v":"Marzo"},{"$f":"+YEAR(Base[[#This Row],[FECHA]])","v":2020},"La Mariscal","4 estrellas","Hotel",4371,100393.94,{"$f":"Base[[#This Row],[VENTAS POR ALOJAMIENTO DURANTE EL MES DE LA ENCUESTA]]/1000","v":100.39394},1136,556,883,1439,556,883,1439,56]
["2020-03-01",{"$f":"DAY(EOMONTH(Base[[#This Row],[FECHA]],0))","v":31},{"$f":"+PROPER(TEXT(Base[[#This Row],[FECHA]],\"MMMM\"))","v":"Marzo"},{"$f":"+YEAR(Base[[#This Row],[FECHA]])","v":2020},"Tumbaco","3 estrellas","Hostería",6,0,null,null,0,0,null,0,0,null,2]
["2020-03-01",{"$f":"DAY(EOMONTH(Base[[#This Row],[FECHA]],0))","v":31},{"$f":"+PROPER(TEXT(Base[[#This Row],[FECHA]],\"MMMM\"))","v":"Marzo"},{"$f":"+YEAR(Base[[#This Row],[FECHA]])","v":2020},"La Mariscal","3 estrellas","Hotel",40,10600.34,{"$f":"Base[[#This Row],[VENTAS POR ALOJAMIENTO DURANTE EL MES DE LA ENCUESTA]]/1000","v":10.600340000000001},176,22,154,176,161,154,315,25]
["2020-03-01",{"$f":"DAY(EOMONTH(Base[[#This Row],[FECHA]],0))","v":31},{"$f":"+PROPER(TEXT(Base[[#This Row],[FECHA]],\"MMMM\"))","v":"Marzo"},{"$f":"+YEAR(Base[[#This Row],[FECHA]])","v":2020},"Manuela Sáenz","5 estrellas","Hotel",780,6900,{"$f":"Base[[#This Row],[VENTAS POR ALOJAMIENTO DURANTE EL MES DE LA ENCUESTA]]/1000","v":6.9},88,8,80,88,8,80,88,19]
["2020-03-01",{"$f":"DAY(EOMONTH(Base[[#This Row],[FECHA]],0))","v":31},{"$f":"+PROPER(TEXT(Base[[#This Row],[FECHA]],\"MMMM\"))","v":"Marzo"},{"$f":"+YEAR(Base[[#This Row],[FECHA]])","v":2020},"La Mariscal","4 estrellas","Hotel",55,45000,{"$f":"Base[[#This Row],[VENTAS POR ALOJAMIENTO DURANTE EL MES DE LA ENCUESTA]]/1000","v":45},241,300,12,312,700,113,813,17]
["2020-03-01",{"$f":"DAY(EOMONTH(Base[[#This Row],[FECHA]],0))","v":31},{"$f":"+PROPER(TEXT(Base[[#This Row],[FECHA]],\"MMMM\"))","v":"Marzo"},{"$f":"+YEAR(Base[[#This Row],[FECHA]])","v":2020},"Manuela Sáenz","3 estrellas","Hotel",186,6913,{"$f":"Base[[#This Row],[VENTAS POR ALOJAMIENTO DURANTE EL MES DE LA ENCUESTA]]/1000","v":6.9130000000000003},46,0,73,73,0,73,73,7]
["2020-03-01",{"$f":"DAY(EOMONTH(Base[[#This Row],[FECHA]],0))","v":31},{"$f":"+PROPER(TEXT(Base[[#This Row],[FECHA]],\"MMMM\"))","v":"Marzo"},{"$f":"+YEAR(Base[[#This Row],[FECHA]])","v":2020},"La Delicia","4 estrellas","Hostería",20,0,null,null,0,0,null,0,0,null,5]
["2020-03-01",{"$f":"DAY(EOMONTH(Base[[#This Row],[FECHA]],0))","v":31},{"$f":"+PROPER(TEXT(Base[[#This Row],[FECHA]],\"MMMM\"))","v":"Marzo"},{"$f":"+YEAR(Base[[#This Row],[FECHA]])","v":2020},"Eugenio Espejo","3 estrellas","Hostería",5,0,null,null,0,0,null,0,0,null,3]
["2020-03-01",{"$f":"DAY(EOMONTH(Base[[#This Row],[FECHA]],0))","v":31},{"$f":"+PROPER(TEXT(Base[[#This Row],[FECHA]],\"MMMM\"))","v":"Marzo"},{"$f":"+YEAR(Base[[#This Row],[FECHA]])","v":2020},"Los Chillos","4 estrellas","Hostería",10,526.14,{"$f":"Base[[#This Row],[VENTAS POR ALOJAMIENTO DURANTE EL MES DE LA ENCUESTA]]/1000","v":0.52613999999999994},8,15,0,15,15,3,18,7]
["2020-03-01",{"$f":"DAY(EOMONTH(Base[[#This Row],[FECHA]],0))","v":31},{"$f":"+PROPER(TEXT(Base[[#This Row],[FECHA]],\"MMMM\"))","v":"Marzo"},{"$f":"+YEAR(Base[[#This Row],[FECHA]])","v":2020},"La Mariscal","4 estrellas","Hotel",1951,37870,{"$f":"Base[[#This Row],[VENTAS POR ALOJAMIENTO DURANTE EL MES DE LA ENCUESTA]]/1000","v":37.869999999999997},715,757,291,1048,757,291,1048,73]
["2020-03-01",{"$f":"DAY(EOMONTH(Base[[#This Row],[FECHA]],0))","v":31},{"$f":"+PROPER(TEXT(Base[[#This Row],[FECHA]],\"MMMM\"))","v":"Marzo"},{"$f":"+YEAR(Base[[#This Row],[FECHA]])","v":2020},"Eugenio Espejo","3 estrellas","Hostería",20,25000,{"$f":"Base[[#This Row],[VENTAS POR ALOJAMIENTO DURANTE EL MES DE LA ENCUESTA]]/1000","v":25},21,0,26,26,0,42,42,13]
["2020-03-01",{"$f":"DAY(EOMONTH(Base[[#This Row],[FECHA]],0))","v":31},{"$f":"+PROPER(TEXT(Base[[#This Row],[FECHA]],\"MMMM\"))","v":"Marzo"},{"$f":"+YEAR(Base[[#This Row],[FECHA]])","v":2020},"La Mariscal","3 estrellas","Hostal",25,0,null,0,0,0,0,0,0,null,0]
["2020-04-01",{"$f":"DAY(EOMONTH(Base[[#This Row],[FECHA]],0))","v":30},{"$f":"+PROPER(TEXT(Base[[#This Row],[FECHA]],\"MMMM\"))","v":"Abril"},{"$f":"+YEAR(Base[[#This Row],[FECHA]])","v":2020},"La Mariscal","3 estrellas","Hotel",1200,0,null,0,0,0,0,0,0,null,9]
["2020-04-01",{"$f":"DAY(EOMONTH(Base[[#This Row],[FECHA]],0))","v":30},{"$f":"+PROPER(TEXT(Base[[#This Row],[FECHA]],\"MMMM\"))","v":"Abril"},{"$f":"+YEAR(Base[[#This Row],[FECHA]])","v":2020},"Eugenio Espejo","4 estrellas","Hotel",128,15915,{"$f":"Base[[#This Row],[VENTAS POR ALOJAMIENTO DURANTE EL MES DE LA ENCUESTA]]/1000","v":15.914999999999999},207,11,0,11,23,0,23,76]
["2020-04-01",{"$f":"DAY(EOMONTH(Base[[#This Row],[FECHA]],0))","v":30},{"$f":"+PROPER(TEXT(Base[[#This Row],[FECHA]],\"MMMM\"))","v":"Abril"},{"$f":"+YEAR(Base[[#This Row],[FECHA]])","v":2020},"La Delicia","3 estrellas","Hostería",12,0,null,null,0,0,null,0,0,null,6]
["2020-04-01",{"$f":"DAY(EOMONTH(Base[[#This Row],[FECHA]],0))","v":30},{"$f":"+PROPER(TEXT(Base[[#This Row],[FECHA]],\"MMMM\"))","v":"Abril"},{"$f":"+YEAR(Base[[#This Row],[FECHA]])","v":2020},"Eugenio Espejo","3 estrellas","Hotel",12,0,null,null,0,0,null,0,0,null,3]
["2020-04-01",{"$f":"DAY(EOMONTH(Base[[#This Row],[FECHA]],0))","v":30},{"$f":"+PROPER(TEXT(Base[[#This Row],[FECHA]],\"MMMM\"))","v":"Abril"},{"$f":"+YEAR(Base[[#This Row],[FECHA]])","v":2020},"Manuela Sáenz","4 estrellas","Hotel",360,0,null,null,0,0,null,0,0,null,6]
["2020-04-01",{"$f":"DAY(EOMONTH(Base[[#This Row],[FECHA]],0))","v":30},{"$f":"+PROPER(TEXT(Base[[#This Row],[FECHA]],\"MMMM\"))","v":"Abril"},{"$f":"+YEAR(Base[[#This Row],[FECHA]])","v":2020},"Tumbaco","5 estrellas","Hostería",7,0,null,null,0,0,null,0,0,null,1]
["2020-04-01",{"$f":"DAY(EOMONTH(Base[[#This Row],[FECHA]],0))","v":30},{"$f":"+PROPER(TEXT(Base[[#This Row],[FECHA]],\"MMMM\"))","v":"Abril"},{"$f":"+YEAR(Base[[#This Row],[FECHA]])","v":2020},"La Mariscal","3 estrellas","Hotel",0,0,null,0,0,0,0,0,0,null,3]
["2020-04-01",{"$f":"DAY(EOMONTH(Base[[#This Row],[FECHA]],0))","v":30},{"$f":"+PROPER(TEXT(Base[[#This Row],[FECHA]],\"MMMM\"))","v":"Abril"},{"$f":"+YEAR(Base[[#This Row],[FECHA]])","v":2020},"La Mariscal","3 estrellas","Hotel",20,0,null,0,0,0,0,0,0,null,8]
["2020-04-01",{"$f":"DAY(EOMONTH(Base[[#This Row],[FECHA]],0))","v":30},{"$f":"+PROPER(TEXT(Base[[#This Row],[FECHA]],\"MMMM\"))","v":"Abril"},{"$f":"+YEAR(Base[[#This Row],[FECHA]])","v":2020},"Tumbaco","5 estrellas","Hotel",94,0,null,null,84,0,84,84,0,84,43]
["2020-04-01",{"$f":"DAY(EOMONTH(Base[[#This Row],[FECHA]],0))","v":30},{"$f":"+PROPER(TEXT(Base[[#This Row],[FECHA]],\"MMMM\"))","v":"Abril"},{"$f":"+YEAR(Base[[#This Row],[FECHA]])","v":2020},"Manuela Sáenz","4 estrellas","Hotel",960,0,null,null,0,0,null,0,0,null,46]
["2020-04-01",{"$f":"DAY(EOMONTH(Base[[#This Row],[FECHA]],0))","v":30},{"$f":"+PROPER(TEXT(Base[[#This Row],[FECHA]],\"MMMM\"))","v":"Abril"},{"$f":"+YEAR(Base[[#This Row],[FECHA]])","v":2020},"Eugenio Espejo","4 estrellas","Hotel",24,0,null,null,0,0,null,0,0,null,0]
["2020-04-01",{"$f":"DAY(EOMONTH(Base[[#This Row],[FECHA]],0))","v":30},{"$f":"+PROPER(TEXT(Base[[#This Row],[FECHA]],\"MMMM\"))","v":"Abril"},{"$f":"+YEAR(Base[[#This Row],[FECHA]])","v":2020},"Tumbaco","5 estrellas","Lodge",210,0,null,null,0,0,null,0,0,null,3]
["2020-04-01",{"$f":"DAY(EOMONTH(Base[[#This Row],[FECHA]],0))","v":30},{"$f":"+PROPER(TEXT(Base[[#This Row],[FECHA]],\"MMMM\"))","v":"Abril"},{"$f":"+YEAR(Base[[#This Row],[FECHA]])","v":2020},"Tumbaco","3 estrellas","Hostería",6,0,null,null,0,0,null,0,0,null,2]
["2020-04-01",{"$f":"DAY(EOMONTH(Base[[#This Row],[FECHA]],0))","v":30},{"$f":"+PROPER(TEXT(Base[[#This Row],[FECHA]],\"MMMM\"))","v":"Abril"},{"$f":"+YEAR(Base[[#This Row],[FECHA]])","v":2020},"La Mariscal","3 estrellas","Hotel",40,15960,{"$f":"Base[[#This Row],[VENTAS POR ALOJAMIENTO DURANTE EL MES DE LA ENCUESTA]]/1000","v":15.96},403,0,300,300,0,410,410,20]
["2020-04-01",{"$f":"DAY(EOMONTH(Base[[#This Row],[FECHA]],0))","v":30},{"$f":"+PROPER(TEXT(Base[[#This Row],[FECHA]],\"MMMM\"))","v":"Abril"},{"$f":"+YEAR(Base[[#This Row],[FECHA]])","v":2020},"Eugenio Espejo","4 estrellas","Hotel",4560,0,null,null,0,0,null,0,0,null,0]
["2020-04-01",{"$f":"DAY(EOMONTH(Base[[#This Row],[FECHA]],0))","v":30},{"$f":"+PROPER(TEXT(Base[[#This Row],[FECHA]],\"MMMM\"))","v":"Abril"},{"$f":"+YEAR(Base[[#This Row],[FECHA]])","v":2020},"Los Chillos","4 estrellas","Hostería",10,35,{"$f":"Base[[#This Row],[VENTAS POR ALOJAMIENTO DURANTE EL MES DE LA ENCUESTA]]/1000","v":3.5000000000000003E-2},1,1,0,1,1,0,1,2]
["2020-04-01",{"$f":"DAY(EOMONTH(Base[[#This Row],[FECHA]],0))","v":30},{"$f":"+PROPER(TEXT(Base[[#This Row],[FECHA]],\"MMMM\"))","v":"Abril"},{"$f":"+YEAR(Base[[#This Row],[FECHA]])","v":2020},"La Mariscal","4 estrellas","Hotel",86,308,{"$f":"Base[[#This Row],[VENTAS POR ALOJAMIENTO DURANTE EL MES DE LA ENCUESTA]]/1000","v":0.308},6,6,0,6,6,0,6,69]
["2020-04-01",{"$f":"DAY(EOMONTH(Base[[#This Row],[FECHA]],0))","v":30},{"$f":"+PROPER(TEXT(Base[[#This Row],[FECHA]],\"MMMM\"))","v":"Abril"},{"$f":"+YEAR(Base[[#This Row],[FECHA]])","v":2020},"Eugenio Espejo","3 estrellas","Hostería",20,0,null,null,0,0,null,0,0,null,11]
["2020-04-01",{"$f":"DAY(EOMONTH(Base[[#This Row],[FECHA]],0))","v":30},{"$f":"+PROPER(TEXT(Base[[#This Row],[FECHA]],\"MMMM\"))","v":"Abril"},{"$f":"+YEAR(Base[[#This Row],[FECHA]])","v":2020},"Manuela Sáenz","3 estrellas","Hotel",180,0,null,null,0,0,null,0,0,null,6]
["2020-05-01",{"$f":"DAY(EOMONTH(Base[[#This Row],[FECHA]],0))","v":31},{"$f":"+PROPER(TEXT(Base[[#This Row],[FECHA]],\"MMMM\"))","v":"Mayo"},{"$f":"+YEAR(Base[[#This Row],[FECHA]])","v":2020},"Eugenio Espejo","3 estrellas","Hostal",9,799,{"$f":"Base[[#This Row],[VENTAS POR ALOJAMIENTO DURANTE EL MES DE LA ENCUESTA]]/1000","v":0.79900000000000004},14,1,1,2,14,14,28,6]
["2020-05-01",{"$f":"DAY(EOMONTH(Base[[#This Row],[FECHA]],0))","v":31},{"$f":"+PROPER(TEXT(Base[[#This Row],[FECHA]],\"MMMM\"))","v":"Mayo"},{"$f":"+YEAR(Base[[#This Row],[FECHA]])","v":2020},"Eugenio Espejo","3 estrellas","Hotel",12,8619,{"$f":"Base[[#This Row],[VENTAS POR ALOJAMIENTO DURANTE EL MES DE LA ENCUESTA]]/1000","v":8.6189999999999998},20,31,0,31,31,0,31,12]
["2020-05-01",{"$f":"DAY(EOMONTH(Base[[#This Row],[FECHA]],0))","v":31},{"$f":"+PROPER(TEXT(Base[[#This Row],[FECHA]],\"MMMM\"))","v":"Mayo"},{"$f":"+YEAR(Base[[#This Row],[FECHA]])","v":2020},"Eugenio Espejo","3 estrellas","Hotel",12,null,null,null,null,null,null,null,null,null,4]
["2020-05-01",{"$f":"DAY(EOMONTH(Base[[#This Row],[FECHA]],0))","v":31},{"$f":"+PROPER(TEXT(Base[[#This Row],[FECHA]],\"MMMM\"))","v":"Mayo"},{"$f":"+YEAR(Base[[#This Row],[FECHA]])","v":2020},"La Delicia","4 estrellas","Lodge",17,null,null,null,null,null,null,null,null,null,50]
["2020-05-01",{"$f":"DAY(EOMONTH(Base[[#This Row],[FECHA]],0))","v":31},{"$f":"+PROPER(TEXT(Base[[#This Row],[FECHA]],\"MMMM\"))","v":"Mayo"},{"$f":"+YEAR(Base[[#This Row],[FECHA]])","v":2020},"La Mariscal","3 estrellas","Hotel",15,3,{"$f":"Base[[#This Row],[VENTAS POR ALOJAMIENTO DURANTE EL MES DE LA ENCUESTA]]/1000","v":3.0000000000000001E-3},104,11,0,11,78,0,78,28]
["2020-05-01",{"$f":"DAY(EOMONTH(Base[[#This Row],[FECHA]],0))","v":31},{"$f":"+PROPER(TEXT(Base[[#This Row],[FECHA]],\"MMMM\"))","v":"Mayo"},{"$f":"+YEAR(Base[[#This Row],[FECHA]])","v":2020},"Tumbaco","5 estrellas","Hostería",7,null,null,null,null,null,null,null,null,null,3]
["2020-05-01",{"$f":"DAY(EOMONTH(Base[[#This Row],[FECHA]],0))","v":31},{"$f":"+PROPER(TEXT(Base[[#This Row],[FECHA]],\"MMMM\"))","v":"Mayo"},{"$f":"+YEAR(Base[[#This Row],[FECHA]])","v":2020},"Manuela Sáenz","3 estrellas","Hostal",6,null,null,null,null,null,null,null,null,null,2]
["2020-05-01",{"$f":"DAY(EOMONTH(Base[[#This Row],[FECHA]],0))","v":31},{"$f":"+PROPER(TEXT(Base[[#This Row],[FECHA]],\"MMMM\"))","v":"Mayo"},{"$f":"+YEAR(Base[[#This Row],[FECHA]])","v":2020},"La Mariscal","3 estrellas","Hotel",1,null,null,null,null,null,0,null,null,null,2]
["2020-05-01",{"$f":"DAY(EOMONTH(Base[[#This Row],[FECHA]],0))","v":31},{"$f":"+PROPER(TEXT(Base[[#This Row],[FECHA]],\"MMMM\"))","v":"Mayo"},{"$f":"+YEAR(Base[[#This Row],[FECHA]])","v":2020},"La Mariscal","3 estrellas","Hotel",0,null,null,null,null,null,0,null,null,null,7]
["2020-05-01",{"$f":"DAY(EOMONTH(Base[[#This Row],[FECHA]],0))","v":31},{"$f":"+PROPER(TEXT(Base[[#This Row],[FECHA]],\"MMMM\"))","v":"Mayo"},{"$f":"+YEAR(Base[[#This Row],[FECHA]])","v":2020},"Tumbaco","5 estrellas","Hotel",94,null,null,null,null,null,null,null,null,null,91]
["2020-05-01",{"$f":"DAY(EOMONTH(Base[[#This Row],[FECHA]],0))","v":31},{"$f":"+PROPER(TEXT(Base[[#This Row],[FECHA]],\"MMMM\"))","v":"Mayo"},{"$f":"+YEAR(Base[[#This Row],[FECHA]])","v":2020},"La Mariscal","3 estrellas","Hotel",0,null,null,null,null,null,0,null,null,null,4]
["2020-05-01",{"$f":"DAY(EOMONTH(Base[[#This Row],[FECHA]],0))","v":31},{"$f":"+PROPER(TEXT(Base[[#This Row],[FECHA]],\"MMMM\"))","v":"Mayo"},{"$f":"+YEAR(Base[[#This Row],[FECHA]])","v":2020},"Tumbaco","5 estrellas","Lodge",7,null,null,null,null,null,null,null,null,null,5]
["2020-05-01",{"$f":"DAY(EOMONTH(Base[[#This Row],[FECHA]],0))","v":31},{"$f":"+PROPER(TEXT(Base[[#This Row],[FECHA]],\"MMMM\"))","v":"Mayo"},{"$f":"+YEAR(Base[[#This Row],[FECHA]])","v":2020},"La Mariscal","5 estrellas","Hotel",255,90180,{"$f":"Base[[#This Row],[VENTAS POR ALOJAMIENTO DURANTE EL MES DE LA ENCUESTA]]/1000","v":90.18},1265,191,12,203,2690,145,2835,0]
["2020-05-01",{"$f":"DAY(EOMONTH(Base[[#This Row],[FECHA]],0))","v":31},{"$f":"+PROPER(TEXT(Base[[#This Row],[FECHA]],\"MMMM\"))","v":"Mayo"},{"$f":"+YEAR(Base[[#This Row],[FECHA]])","v":2020},"Tumbaco","3 estrellas","Hostal",9,null,null,null,null,null,null,null,null,null,0]
["2020-05-01",{"$f":"DAY(EOMONTH(Base[[#This Row],[FECHA]],0))","v":31},{"$f":"+PROPER(TEXT(Base[[#This Row],[FECHA]],\"MMMM\"))","v":"Mayo"},{"$f":"+YEAR(Base[[#This Row],[FECHA]])","v":2020},"La Delicia","3 estrellas","Hostería",14,null,null,null,null,null,null,null,null,null,11]
["2020-05-01",{"$f":"DAY(EOMONTH(Base[[#This Row],[FECHA]],0))","v":31},{"$f":"+PROPER(TEXT(Base[[#This Row],[FECHA]],\"MMMM\"))","v":"Mayo"},{"$f":"+YEAR(Base[[#This Row],[FECHA]])","v":2020},"Los Chillos","4 estrellas","Hostería",10,null,null,null,null,null,null,null,null,null,7]
["2020-05-01",{"$f":"DAY(EOMONTH(Base[[#This Row],[FECHA]],0))","v":31},{"$f":"+PROPER(TEXT(Base[[#This Row],[FECHA]],\"MMMM\"))","v":"Mayo"},{"$f":"+YEAR(Base[[#This Row],[FECHA]])","v":2020},"La Delicia","3 estrellas","Hostería",8,null,null,null,null,null,null,null,null,null,6]
["2020-05-01",{"$f":"DAY(EOMONTH(Base[[#This Row],[FECHA]],0))","v":31},{"$f":"+PROPER(TEXT(Base[[#This Row],[FECHA]],\"MMMM\"))","v":"Mayo"},{"$f":"+YEAR(Base[[#This Row],[FECHA]])","v":2020},"Eugenio Espejo","3 estrellas","Hostería",14,null,null,null,null,null,null,null,null,null,2]
["2020-05-01",{"$f":"DAY(EOMONTH(Base[[#This Row],[FECHA]],0))","v":31},{"$f":"+PROPER(TEXT(Base[[#This Row],[FECHA]],\"MMMM\"))","v":"Mayo"},{"$f":"+YEAR(Base[[#This Row],[FECHA]])","v":2020},"Los Chillos","4 estrellas","Hostería",10,null,null,null,null,null,null,null,null,null,3]
["2020-05-01",{"$f":"DAY(EOMONTH(Base[[#This Row],[FECHA]],0))","v":31},{"$f":"+PROPER(TEXT(Base[[#This Row],[FECHA]],\"MMMM\"))","v":"Mayo"},{"$f":"+YEAR(Base[[#This Row],[FECHA]])","v":2020},"Eugenio Espejo","3 estrellas","Hostería",20,null,null,null,null,null,null,null,null,null,4]
["2020-05-01",{"$f":"DAY(EOMONTH(Base[[#This Row],[FECHA]],0))","v":31},{"$f":"+PROPER(TEXT(Base[[#This Row],[FECHA]],\"MMMM\"))","v":"Mayo"},{"$f":"+YEAR(Base[[#This Row],[FECHA]])","v":2020},"La Mariscal","3 estrellas","Hotel",40,24931,{"$f":"Base[[#This Row],[VENTAS POR ALOJAMIENTO DURANTE EL MES DE LA ENCUESTA]]/1000","v":24.931000000000001},954,71,0,71,954,0,954,51]
["2020-05-01",{"$f":"DAY(EOMONTH(Base[[#This Row],[FECHA]],0))","v":31},{"$f":"+PROPER(TEXT(Base[[#This Row],[FECHA]],\"MMMM\"))","v":"Mayo"},{"$f":"+YEAR(Base[[#This Row],[FECHA]])","v":2020},"Eugenio Espejo","4 estrellas","Hotel",128,17625,{"$f":"Base[[#This Row],[VENTAS POR ALOJAMIENTO DURANTE EL MES DE LA ENCUESTA]]/1000","v":17.625},316,316,0,316,316,0,316,90]
["2020-05-01",{"$f":"DAY(EOMONTH(Base[[#This Row],[FECHA]],0))","v":31},{"$f":"+PROPER(TEXT(Base[[#This Row],[FECHA]],\"MMMM\"))","v":"Mayo"},{"$f":"+YEAR(Base[[#This Row],[FECHA]])","v":2020},"La Mariscal","3 estrellas","Hotel",60,8000,{"$f":"Base[[#This Row],[VENTAS POR ALOJAMIENTO DURANTE EL MES DE LA ENCUESTA]]/1000","v":8},30,0,30,30,0,30,30,18]
["2020-05-01",{"$f":"DAY(EOMONTH(Base[[#This Row],[FECHA]],0))","v":31},{"$f":"+PROPER(TEXT(Base[[#This Row],[FECHA]],\"MMMM\"))","v":"Mayo"},{"$f":"+YEAR(Base[[#This Row],[FECHA]])","v":2020},"Manuela Sáenz","4 estrellas","Hotel",49,29114,{"$f":"Base[[#This Row],[VENTAS POR ALOJAMIENTO DURANTE EL MES DE LA ENCUESTA]]/1000","v":29.114000000000001},704,720,2,722,720,6,726,51]
["2020-05-01",{"$f":"DAY(EOMONTH(Base[[#This Row],[FECHA]],0))","v":31},{"$f":"+PROPER(TEXT(Base[[#This Row],[FECHA]],\"MMMM\"))","v":"Mayo"},{"$f":"+YEAR(Base[[#This Row],[FECHA]])","v":2020},"Manuela Sáenz","3 estrellas","Hotel",8,null,null,null,null,null,null,null,null,null,0]
["2020-05-01",{"$f":"DAY(EOMONTH(Base[[#This Row],[FECHA]],0))","v":31},{"$f":"+PROPER(TEXT(Base[[#This Row],[FECHA]],\"MMMM\"))","v":"Mayo"},{"$f":"+YEAR(Base[[#This Row],[FECHA]])","v":2020},"Manuela Sáenz","4 estrellas","Hotel",18,null,null,null,null,null,null,null,null,null,10]
["2020-05-01",{"$f":"DAY(EOMONTH(Base[[#This Row],[FECHA]],0))","v":31},{"$f":"+PROPER(TEXT(Base[[#This Row],[FECHA]],\"MMMM\"))","v":"Mayo"},{"$f":"+YEAR(Base[[#This Row],[FECHA]])","v":2020},"Eugenio Espejo","4 estrellas","Hotel",0,null,null,null,null,null,null,0,0,null,30]
["2020-05-01",{"$f":"DAY(EOMONTH(Base[[#This Row],[FECHA]],0))","v":31},{"$f":"+PROPER(TEXT(Base[[#This Row],[FECHA]],\"MMMM\"))","v":"Mayo"},{"$f":"+YEAR(Base[[#This Row],[FECHA]])","v":2020},"Eugenio Espejo","4 estrellas","Hotel",24,null,null,null,null,null,null,null,null,null,1]
["2020-05-01",{"$f":"DAY(EOMONTH(Base[[#This Row],[FECHA]],0))","v":31},{"$f":"+PROPER(TEXT(Base[[#This Row],[FECHA]],\"MMMM\"))","v":"Mayo"},{"$f":"+YEAR(Base[[#This Row],[FECHA]])","v":2020},"La Mariscal","3 estrellas","Hotel",17,null,null,null,null,null,0,null,null,null,1]
["2020-05-01",{"$f":"DAY(EOMONTH(Base[[#This Row],[FECHA]],0))","v":31},{"$f":"+PROPER(TEXT(Base[[#This Row],[FECHA]],\"MMMM\"))","v":"Mayo"},{"$f":"+YEAR(Base[[#This Row],[FECHA]])","v":2020},"Manuela Sáenz","5 estrellas","Hotel",0,null,null,null,null,null,null,null,null,null,28]
["2020-05-01",{"$f":"DAY(EOMONTH(Base[[#This Row],[FECHA]],0))","v":31},{"$f":"+PROPER(TEXT(Base[[#This Row],[FECHA]],\"MMMM\"))","v":"Mayo"},{"$f":"+YEAR(Base[[#This Row],[FECHA]])","v":2020},"La Mariscal","4 estrellas","Hotel",86,9790,{"$f":"Base[[#This Row],[VENTAS POR ALOJAMIENTO DURANTE EL MES DE LA ENCUESTA]]/1000","v":9.7899999999999991},208,288,0,288,288,0,288,150]
["2020-05-01",{"$f":"DAY(EOMONTH(Base[[#This Row],[FECHA]],0))","v":31},{"$f":"+PROPER(TEXT(Base[[#This Row],[FECHA]],\"MMMM\"))","v":"Mayo"},{"$f":"+YEAR(Base[[#This Row],[FECHA]])","v":2020},"Tumbaco","3 estrellas","Hotel",19,null,null,null,null,null,null,null,null,null,14]
["2020-05-01",{"$f":"DAY(EOMONTH(Base[[#This Row],[FECHA]],0))","v":31},{"$f":"+PROPER(TEXT(Base[[#This Row],[FECHA]],\"MMMM\"))","v":"Mayo"},{"$f":"+YEAR(Base[[#This Row],[FECHA]])","v":2020},"Eugenio Espejo","3 estrellas","Hostal",25,12286.76,{"$f":"Base[[#This Row],[VENTAS POR ALOJAMIENTO DURANTE EL MES DE LA ENCUESTA]]/1000","v":12.286760000000001},34,43,0,43,43,0,43,16]
["2020-05-01",{"$f":"DAY(EOMONTH(Base[[#This Row],[FECHA]],0))","v":31},{"$f":"+PROPER(TEXT(Base[[#This Row],[FECHA]],\"MMMM\"))","v":"Mayo"},{"$f":"+YEAR(Base[[#This Row],[FECHA]])","v":2020},"Eugenio Espejo","3 estrellas","Hostería",0,null,null,null,null,null,null,null,null,null,0]
["2020-05-01",{"$f":"DAY(EOMONTH(Base[[#This Row],[FECHA]],0))","v":31},{"$f":"+PROPER(TEXT(Base[[#This Row],[FECHA]],\"MMMM\"))","v":"Mayo"},{"$f":"+YEAR(Base[[#This Row],[FECHA]])","v":2020},"La Mariscal","5 estrellas","Hotel",144,null,null,26,41,0,41,258,0,258,0]
["2020-05-01",{"$f":"DAY(EOMONTH(Base[[#This Row],[FECHA]],0))","v":31},{"$f":"+PROPER(TEXT(Base[[#This Row],[FECHA]],\"MMMM\"))","v":"Mayo"},{"$f":"+YEAR(Base[[#This Row],[FECHA]])","v":2020},"Eugenio Espejo","3 estrellas","Hostería",7,null,null,null,null,null,null,null,null,null,11]
["2020-05-01",{"$f":"DAY(EOMONTH(Base[[#This Row],[FECHA]],0))","v":31},{"$f":"+PROPER(TEXT(Base[[#This Row],[FECHA]],\"MMMM\"))","v":"Mayo"},{"$f":"+YEAR(Base[[#This Row],[FECHA]])","v":2020},"Tumbaco","5 estrellas","Hacienda Turística",0,null,null,null,null,null,null,null,null,null,14]
["2020-05-01",{"$f":"DAY(EOMONTH(Base[[#This Row],[FECHA]],0))","v":31},{"$f":"+PROPER(TEXT(Base[[#This Row],[FECHA]],\"MMMM\"))","v":"Mayo"},{"$f":"+YEAR(Base[[#This Row],[FECHA]])","v":2020},"Tumbaco","3 estrellas","Hostal",16,null,null,null,null,null,null,null,null,null,2]
["2020-05-01",{"$f":"DAY(EOMONTH(Base[[#This Row],[FECHA]],0))","v":31},{"$f":"+PROPER(TEXT(Base[[#This Row],[FECHA]],\"MMMM\"))","v":"Mayo"},{"$f":"+YEAR(Base[[#This Row],[FECHA]])","v":2020},"La Mariscal","4 estrellas","Hotel",6,null,null,null,null,null,0,0,0,null,11]
["2020-05-01",{"$f":"DAY(EOMONTH(Base[[#This Row],[FECHA]],0))","v":31},{"$f":"+PROPER(TEXT(Base[[#This Row],[FECHA]],\"MMMM\"))","v":"Mayo"},{"$f":"+YEAR(Base[[#This Row],[FECHA]])","v":2020},"Tumbaco","3 estrellas","Hacienda Turística",32,null,null,null,null,null,null,null,null,null,1]
["2020-06-01",{"$f":"DAY(EOMONTH(Base[[#This Row],[FECHA]],0))","v":30},{"$f":"+PROPER(TEXT(Base[[#This Row],[FECHA]],\"MMMM\"))","v":"Junio"},{"$f":"+YEAR(Base[[#This Row],[FECHA]])","v":2020},"La Mariscal","3 estrellas","Hotel",20,null,null,0,null,null,null,null,null,null,9]
["2020-06-01",{"$f":"DAY(EOMONTH(Base[[#This Row],[FECHA]],0))","v":30},{"$f":"+PROPER(TEXT(Base[[#This Row],[FECHA]],\"MMMM\"))","v":"Junio"},{"$f":"+YEAR(Base[[#This Row],[FECHA]])","v":2020},"Eugenio Espejo","5 estrellas","Hotel",116,21000,{"$f":"Base[[#This Row],[VENTAS POR ALOJAMIENTO DURANTE EL MES DE LA ENCUESTA]]/1000","v":21},535,84,0,84,535,0,535,50]
["2020-06-01",{"$f":"DAY(EOMONTH(Base[[#This Row],[FECHA]],0))","v":30},{"$f":"+PROPER(TEXT(Base[[#This Row],[FECHA]],\"MMMM\"))","v":"Junio"},{"$f":"+YEAR(Base[[#This Row],[FECHA]])","v":2020},"La Mariscal","4 estrellas","Hotel",86,6316,{"$f":"Base[[#This Row],[VENTAS POR ALOJAMIENTO DURANTE EL MES DE LA ENCUESTA]]/1000","v":6.3159999999999998},138,147,0,147,147,0,147,50]
["2020-06-01",{"$f":"DAY(EOMONTH(Base[[#This Row],[FECHA]],0))","v":30},{"$f":"+PROPER(TEXT(Base[[#This Row],[FECHA]],\"MMMM\"))","v":"Junio"},{"$f":"+YEAR(Base[[#This Row],[FECHA]])","v":2020},"Eugenio Espejo","3 estrellas","Hostal",25,1200,{"$f":"Base[[#This Row],[VENTAS POR ALOJAMIENTO DURANTE EL MES DE LA ENCUESTA]]/1000","v":1.2},55,55,0,55,55,0,55,7]
["2020-06-01",{"$f":"DAY(EOMONTH(Base[[#This Row],[FECHA]],0))","v":30},{"$f":"+PROPER(TEXT(Base[[#This Row],[FECHA]],\"MMMM\"))","v":"Junio"},{"$f":"+YEAR(Base[[#This Row],[FECHA]])","v":2020},"Eugenio Espejo","4 estrellas","Hotel",152,null,null,0,null,null,null,null,null,null,30]
["2020-06-01",{"$f":"DAY(EOMONTH(Base[[#This Row],[FECHA]],0))","v":30},{"$f":"+PROPER(TEXT(Base[[#This Row],[FECHA]],\"MMMM\"))","v":"Junio"},{"$f":"+YEAR(Base[[#This Row],[FECHA]])","v":2020},"Eugenio Espejo","4 estrellas","Hotel",29,1000,{"$f":"Base[[#This Row],[VENTAS POR ALOJAMIENTO DURANTE EL MES DE LA ENCUESTA]]/1000","v":1},15,5,0,5,16,0,16,11]
["2020-06-01",{"$f":"DAY(EOMONTH(Base[[#This Row],[FECHA]],0))","v":30},{"$f":"+PROPER(TEXT(Base[[#This Row],[FECHA]],\"MMMM\"))","v":"Junio"},{"$f":"+YEAR(Base[[#This Row],[FECHA]])","v":2020},"La Mariscal","4 estrellas","Hotel",100,0,null,2,2,0,2,14,0,14,45]
["2020-06-01",{"$f":"DAY(EOMONTH(Base[[#This Row],[FECHA]],0))","v":30},{"$f":"+PROPER(TEXT(Base[[#This Row],[FECHA]],\"MMMM\"))","v":"Junio"},{"$f":"+YEAR(Base[[#This Row],[FECHA]])","v":2020},"La Mariscal","3 estrellas","Hotel",40,2440.35,{"$f":"Base[[#This Row],[VENTAS POR ALOJAMIENTO DURANTE EL MES DE LA ENCUESTA]]/1000","v":2.44035},34,44,1,45,81,1,82,19]
["2020-06-01",{"$f":"DAY(EOMONTH(Base[[#This Row],[FECHA]],0))","v":30},{"$f":"+PROPER(TEXT(Base[[#This Row],[FECHA]],\"MMMM\"))","v":"Junio"},{"$f":"+YEAR(Base[[#This Row],[FECHA]])","v":2020},"La Mariscal","3 estrellas","Hotel",20,null,null,null,0,0,0,0,0,null,5]
["2020-06-01",{"$f":"DAY(EOMONTH(Base[[#This Row],[FECHA]],0))","v":30},{"$f":"+PROPER(TEXT(Base[[#This Row],[FECHA]],\"MMMM\"))","v":"Junio"},{"$f":"+YEAR(Base[[#This Row],[FECHA]])","v":2020},"Eugenio Espejo","4 estrellas","Hotel",128,11168,{"$f":"Base[[#This Row],[VENTAS POR ALOJAMIENTO DURANTE EL MES DE LA ENCUESTA]]/1000","v":11.167999999999999},189,189,0,189,189,0,189,42]
["2020-06-01",{"$f":"DAY(EOMONTH(Base[[#This Row],[FECHA]],0))","v":30},{"$f":"+PROPER(TEXT(Base[[#This Row],[FECHA]],\"MMMM\"))","v":"Junio"},{"$f":"+YEAR(Base[[#This Row],[FECHA]])","v":2020},"Eugenio Espejo","4 estrellas","Hotel",90,7000,{"$f":"Base[[#This Row],[VENTAS POR ALOJAMIENTO DURANTE EL MES DE LA ENCUESTA]]/1000","v":7},112,112,0,112,112,0,112,40]
["2020-06-01",{"$f":"DAY(EOMONTH(Base[[#This Row],[FECHA]],0))","v":30},{"$f":"+PROPER(TEXT(Base[[#This Row],[FECHA]],\"MMMM\"))","v":"Junio"},{"$f":"+YEAR(Base[[#This Row],[FECHA]])","v":2020},"Los Chillos","4 estrellas","Hostería",10,416.9,{"$f":"Base[[#This Row],[VENTAS POR ALOJAMIENTO DURANTE EL MES DE LA ENCUESTA]]/1000","v":0.41689999999999999},4,6,0,6,11,0,11,2]
["2020-06-01",{"$f":"DAY(EOMONTH(Base[[#This Row],[FECHA]],0))","v":30},{"$f":"+PROPER(TEXT(Base[[#This Row],[FECHA]],\"MMMM\"))","v":"Junio"},{"$f":"+YEAR(Base[[#This Row],[FECHA]])","v":2020},"Tumbaco","3 estrellas","Hacienda Turística",20,null,null,null,0,0,null,0,0,null,1]
["2020-06-01",{"$f":"DAY(EOMONTH(Base[[#This Row],[FECHA]],0))","v":30},{"$f":"+PROPER(TEXT(Base[[#This Row],[FECHA]],\"MMMM\"))","v":"Junio"},{"$f":"+YEAR(Base[[#This Row],[FECHA]])","v":2020},"La Delicia","3 estrellas","Hostería",10,150,{"$f":"Base[[#This Row],[VENTAS POR ALOJAMIENTO DURANTE EL MES DE LA ENCUESTA]]/1000","v":0.15},5,5,0,5,7,0,7,6]
["2020-06-01",{"$f":"DAY(EOMONTH(Base[[#This Row],[FECHA]],0))","v":30},{"$f":"+PROPER(TEXT(Base[[#This Row],[FECHA]],\"MMMM\"))","v":"Junio"},{"$f":"+YEAR(Base[[#This Row],[FECHA]])","v":2020},"Manuela Sáenz","3 estrellas","Hotel",6,null,null,null,null,null,null,null,null,null,5]
["2020-06-01",{"$f":"DAY(EOMONTH(Base[[#This Row],[FECHA]],0))","v":30},{"$f":"+PROPER(TEXT(Base[[#This Row],[FECHA]],\"MMMM\"))","v":"Junio"},{"$f":"+YEAR(Base[[#This Row],[FECHA]])","v":2020},"La Mariscal","3 estrellas","Hotel",0,null,null,null,0,0,0,0,0,null,12]
["2020-06-01",{"$f":"DAY(EOMONTH(Base[[#This Row],[FECHA]],0))","v":30},{"$f":"+PROPER(TEXT(Base[[#This Row],[FECHA]],\"MMMM\"))","v":"Junio"},{"$f":"+YEAR(Base[[#This Row],[FECHA]])","v":2020},"Tumbaco","3 estrellas","Hotel",18,7800,{"$f":"Base[[#This Row],[VENTAS POR ALOJAMIENTO DURANTE EL MES DE LA ENCUESTA]]/1000","v":7.8},176,4,0,4,4,0,4,6]
["2020-06-01",{"$f":"DAY(EOMONTH(Base[[#This Row],[FECHA]],0))","v":30},{"$f":"+PROPER(TEXT(Base[[#This Row],[FECHA]],\"MMMM\"))","v":"Junio"},{"$f":"+YEAR(Base[[#This Row],[FECHA]])","v":2020},"Eugenio Espejo","3 estrellas","Hotel",12,3005,{"$f":"Base[[#This Row],[VENTAS POR ALOJAMIENTO DURANTE EL MES DE LA ENCUESTA]]/1000","v":3.0049999999999999},12,11,0,11,100,0,100,6]
["2020-06-01",{"$f":"DAY(EOMONTH(Base[[#This Row],[FECHA]],0))","v":30},{"$f":"+PROPER(TEXT(Base[[#This Row],[FECHA]],\"MMMM\"))","v":"Junio"},{"$f":"+YEAR(Base[[#This Row],[FECHA]])","v":2020},"Tumbaco","5 estrellas","Hotel",150,24758,{"$f":"Base[[#This Row],[VENTAS POR ALOJAMIENTO DURANTE EL MES DE LA ENCUESTA]]/1000","v":24.757999999999999},270,120,0,120,270,0,270]
["2020-07-01",{"$f":"DAY(EOMONTH(Base[[#This Row],[FECHA]],0))","v":31},{"$f":"+PROPER(TEXT(Base[[#This Row],[FECHA]],\"MMMM\"))","v":"Julio"},{"$f":"+YEAR(Base[[#This Row],[FECHA]])","v":2020},"La Mariscal","3 estrellas","Hotel",40,null,null,null,null,null,null,null,null,null,7]
["2020-07-01",{"$f":"DAY(EOMONTH(Base[[#This Row],[FECHA]],0))","v":31},{"$f":"+PROPER(TEXT(Base[[#This Row],[FECHA]],\"MMMM\"))","v":"Julio"},{"$f":"+YEAR(Base[[#This Row],[FECHA]])","v":2020},"Manuela Sáenz","4 estrellas","Hotel",18,null,null,null,null,null,null,null,null,null,4]
["2020-07-01",{"$f":"DAY(EOMONTH(Base[[#This Row],[FECHA]],0))","v":31},{"$f":"+PROPER(TEXT(Base[[#This Row],[FECHA]],\"MMMM\"))","v":"Julio"},{"$f":"+YEAR(Base[[#This Row],[FECHA]])","v":2020},"Eugenio Espejo","4 estrellas","Hotel",24]
["2020-07-01",{"$f":"DAY(EOMONTH(Base[[#This Row],[FECHA]],0))","v":31},{"$f":"+PROPER(TEXT(Base[[#This Row],[FECHA]],\"MMMM\"))","v":"Julio"},{"$f":"+YEAR(Base[[#This Row],[FECHA]])","v":2020},"La Mariscal","4 estrellas","Hotel",86,3955,{"$f":"Base[[#This Row],[VENTAS POR ALOJAMIENTO DURANTE EL MES DE LA ENCUESTA]]/1000","v":3.9550000000000001},67,76,7,83,76,7,83,51]
["2020-07-01",{"$f":"DAY(EOMONTH(Base[[#This Row],[FECHA]],0))","v":31},{"$f":"+PROPER(TEXT(Base[[#This Row],[FECHA]],\"MMMM\"))","v":"Julio"},{"$f":"+YEAR(Base[[#This Row],[FECHA]])","v":2020},"Eugenio Espejo","3 estrellas","Hotel",60,2664.5,{"$f":"Base[[#This Row],[VENTAS POR ALOJAMIENTO DURANTE EL MES DE LA ENCUESTA]]/1000","v":2.6644999999999999},78,78,null,78,78,null,78,13]
["2020-07-01",{"$f":"DAY(EOMONTH(Base[[#This Row],[FECHA]],0))","v":31},{"$f":"+PROPER(TEXT(Base[[#This Row],[FECHA]],\"MMMM\"))","v":"Julio"},{"$f":"+YEAR(Base[[#This Row],[FECHA]])","v":2020},"La Delicia","3 estrellas","Lodge",12,null,null,null,null,null,null,null,null,null,6]
["2020-07-01",{"$f":"DAY(EOMONTH(Base[[#This Row],[FECHA]],0))","v":31},{"$f":"+PROPER(TEXT(Base[[#This Row],[FECHA]],\"MMMM\"))","v":"Julio"},{"$f":"+YEAR(Base[[#This Row],[FECHA]])","v":2020},"Eugenio Espejo","3 estrellas","Hostería",20,500,{"$f":"Base[[#This Row],[VENTAS POR ALOJAMIENTO DURANTE EL MES DE LA ENCUESTA]]/1000","v":0.5},2,6,null,6,6,null,6,4]
["2020-07-01",{"$f":"DAY(EOMONTH(Base[[#This Row],[FECHA]],0))","v":31},{"$f":"+PROPER(TEXT(Base[[#This Row],[FECHA]],\"MMMM\"))","v":"Julio"},{"$f":"+YEAR(Base[[#This Row],[FECHA]])","v":2020},"Eugenio Espejo","4 estrellas","Hotel",142,null,null,null,null,null,null,null,null,null,22]
["2020-07-01",{"$f":"DAY(EOMONTH(Base[[#This Row],[FECHA]],0))","v":31},{"$f":"+PROPER(TEXT(Base[[#This Row],[FECHA]],\"MMMM\"))","v":"Julio"},{"$f":"+YEAR(Base[[#This Row],[FECHA]])","v":2020},"La Mariscal","3 estrellas","Hotel",20,5348.15,{"$f":"Base[[#This Row],[VENTAS POR ALOJAMIENTO DURANTE EL MES DE LA ENCUESTA]]/1000","v":5.3481499999999995},46,59,null,59,148,null,148,18]
["2020-07-01",{"$f":"DAY(EOMONTH(Base[[#This Row],[FECHA]],0))","v":31},{"$f":"+PROPER(TEXT(Base[[#This Row],[FECHA]],\"MMMM\"))","v":"Julio"},{"$f":"+YEAR(Base[[#This Row],[FECHA]])","v":2020},"La Mariscal","3 estrellas","Hotel",20,null,null,null,null,null,null,null,null,null,6]
["2020-07-01",{"$f":"DAY(EOMONTH(Base[[#This Row],[FECHA]],0))","v":31},{"$f":"+PROPER(TEXT(Base[[#This Row],[FECHA]],\"MMMM\"))","v":"Julio"},{"$f":"+YEAR(Base[[#This Row],[FECHA]])","v":2020},"Eugenio Espejo","3 estrellas","Hostal",44,910,{"$f":"Base[[#This Row],[VENTAS POR ALOJAMIENTO DURANTE EL MES DE LA ENCUESTA]]/1000","v":0.91},44,38,6,44,54,12,66,2]
["2020-07-01",{"$f":"DAY(EOMONTH(Base[[#This Row],[FECHA]],0))","v":31},{"$f":"+PROPER(TEXT(Base[[#This Row],[FECHA]],\"MMMM\"))","v":"Julio"},{"$f":"+YEAR(Base[[#This Row],[FECHA]])","v":2020},"Eugenio Espejo","3 estrellas","Hotel",10,1473.37,{"$f":"Base[[#This Row],[VENTAS POR ALOJAMIENTO DURANTE EL MES DE LA ENCUESTA]]/1000","v":1.4733699999999998},18,19,null,19,19,null,19,1]
["2020-07-01",{"$f":"DAY(EOMONTH(Base[[#This Row],[FECHA]],0))","v":31},{"$f":"+PROPER(TEXT(Base[[#This Row],[FECHA]],\"MMMM\"))","v":"Julio"},{"$f":"+YEAR(Base[[#This Row],[FECHA]])","v":2020},"La Mariscal","3 estrellas","Hotel",10,null,null,null,null,null,null,null,null,null,3]
["2020-07-01",{"$f":"DAY(EOMONTH(Base[[#This Row],[FECHA]],0))","v":31},{"$f":"+PROPER(TEXT(Base[[#This Row],[FECHA]],\"MMMM\"))","v":"Julio"},{"$f":"+YEAR(Base[[#This Row],[FECHA]])","v":2020},"Manuela Sáenz","3 estrellas","Hotel",10]
["2020-07-01",{"$f":"DAY(EOMONTH(Base[[#This Row],[FECHA]],0))","v":31},{"$f":"+PROPER(TEXT(Base[[#This Row],[FECHA]],\"MMMM\"))","v":"Julio"},{"$f":"+YEAR(Base[[#This Row],[FECHA]])","v":2020},"Tumbaco","5 estrellas","Hostería",7,394.04,{"$f":"Base[[#This Row],[VENTAS POR ALOJAMIENTO DURANTE EL MES DE LA ENCUESTA]]/1000","v":0.39404},4,null,1,1,null,2,2,1]
["2020-07-01",{"$f":"DAY(EOMONTH(Base[[#This Row],[FECHA]],0))","v":31},{"$f":"+PROPER(TEXT(Base[[#This Row],[FECHA]],\"MMMM\"))","v":"Julio"},{"$f":"+YEAR(Base[[#This Row],[FECHA]])","v":2020},"Tumbaco","3 estrellas","Hacienda Turística",20]
["2020-07-01",{"$f":"DAY(EOMONTH(Base[[#This Row],[FECHA]],0))","v":31},{"$f":"+PROPER(TEXT(Base[[#This Row],[FECHA]],\"MMMM\"))","v":"Julio"},{"$f":"+YEAR(Base[[#This Row],[FECHA]])","v":2020},"Manuela Sáenz","3 estrellas","Hostal",6,null,null,null,null,null,null,null,null,null,2]
["2020-07-01",{"$f":"DAY(EOMONTH(Base[[#This Row],[FECHA]],0))","v":31},{"$f":"+PROPER(TEXT(Base[[#This Row],[FECHA]],\"MMMM\"))","v":"Julio"},{"$f":"+YEAR(Base[[#This Row],[FECHA]])","v":2020},"Eugenio Espejo","3 estrellas","Hostal",10,null,null,null,null,null,null,null,null,null,1]
["2020-07-01",{"$f":"DAY(EOMONTH(Base[[#This Row],[FECHA]],0))","v":31},{"$f":"+PROPER(TEXT(Base[[#This Row],[FECHA]],\"MMMM\"))","v":"Julio"},{"$f":"+YEAR(Base[[#This Row],[FECHA]])","v":2020},"La Delicia","3 estrellas","Hostería",10,81,{"$f":"Base[[#This Row],[VENTAS POR ALOJAMIENTO DURANTE EL MES DE LA ENCUESTA]]/1000","v":8.1000000000000003E-2},2,2,null,2,2,null,2,6]
["2020-07-01",{"$f":"DAY(EOMONTH(Base[[#This Row],[FECHA]],0))","v":31},{"$f":"+PROPER(TEXT(Base[[#This Row],[FECHA]],\"MMMM\"))","v":"Julio"},{"$f":"+YEAR(Base[[#This Row],[FECHA]])","v":2020},"Manuela Sáenz","4 estrellas","Hotel",12,336,{"$f":"Base[[#This Row],[VENTAS POR ALOJAMIENTO DURANTE EL MES DE LA ENCUESTA]]/1000","v":0.33600000000000002},3,3,null,3,3,null,3]
["2020-07-01",{"$f":"DAY(EOMONTH(Base[[#This Row],[FECHA]],0))","v":31},{"$f":"+PROPER(TEXT(Base[[#This Row],[FECHA]],\"MMMM\"))","v":"Julio"},{"$f":"+YEAR(Base[[#This Row],[FECHA]])","v":2020},"Manuela Sáenz","3 estrellas","Hotel",6,null,null,null,null,null,null,null,null,null,5]
["2020-07-01",{"$f":"DAY(EOMONTH(Base[[#This Row],[FECHA]],0))","v":31},{"$f":"+PROPER(TEXT(Base[[#This Row],[FECHA]],\"MMMM\"))","v":"Julio"},{"$f":"+YEAR(Base[[#This Row],[FECHA]])","v":2020},"Manuela Sáenz","4 estrellas","Hotel",17,null,null,null,null,null,null,null,null,null,1]
["2020-07-01",{"$f":"DAY(EOMONTH(Base[[#This Row],[FECHA]],0))","v":31},{"$f":"+PROPER(TEXT(Base[[#This Row],[FECHA]],\"MMMM\"))","v":"Julio"},{"$f":"+YEAR(Base[[#This Row],[FECHA]])","v":2020},"Tumbaco","5 estrellas","Hotel",94,9800,{"$f":"Base[[#This Row],[VENTAS POR ALOJAMIENTO DURANTE EL MES DE LA ENCUESTA]]/1000","v":9.8000000000000007},121,121,null,121,121,null,121,20]
["2020-07-01",{"$f":"DAY(EOMONTH(Base[[#This Row],[FECHA]],0))","v":31},{"$f":"+PROPER(TEXT(Base[[#This Row],[FECHA]],\"MMMM\"))","v":"Julio"},{"$f":"+YEAR(Base[[#This Row],[FECHA]])","v":2020},"La Mariscal","3 estrellas","Hostal",22,null,null,null,null,null,null,null,null,null,2]
["2020-07-01",{"$f":"DAY(EOMONTH(Base[[#This Row],[FECHA]],0))","v":31},{"$f":"+PROPER(TEXT(Base[[#This Row],[FECHA]],\"MMMM\"))","v":"Julio"},{"$f":"+YEAR(Base[[#This Row],[FECHA]])","v":2020},"La Mariscal","3 estrellas","Hotel",14,null,null,null,null,null,null,null,null,null,10]
["2020-07-01",{"$f":"DAY(EOMONTH(Base[[#This Row],[FECHA]],0))","v":31},{"$f":"+PROPER(TEXT(Base[[#This Row],[FECHA]],\"MMMM\"))","v":"Julio"},{"$f":"+YEAR(Base[[#This Row],[FECHA]])","v":2020},"Los Chillos","3 estrellas","Hostería",13,null,null,2,1,1,2,1,1,2,7]
["2020-07-01",{"$f":"DAY(EOMONTH(Base[[#This Row],[FECHA]],0))","v":31},{"$f":"+PROPER(TEXT(Base[[#This Row],[FECHA]],\"MMMM\"))","v":"Julio"},{"$f":"+YEAR(Base[[#This Row],[FECHA]])","v":2020},"La Mariscal","3 estrellas","Hotel",17]
["2020-07-01",{"$f":"DAY(EOMONTH(Base[[#This Row],[FECHA]],0))","v":31},{"$f":"+PROPER(TEXT(Base[[#This Row],[FECHA]],\"MMMM\"))","v":"Julio"},{"$f":"+YEAR(Base[[#This Row],[FECHA]])","v":2020},"Eugenio Espejo","3 estrellas","Hotel",12,2315,{"$f":"Base[[#This Row],[VENTAS POR ALOJAMIENTO DURANTE EL MES DE LA ENCUESTA]]/1000","v":2.3149999999999999},20,15,5,20,15,5,20,6]
["2020-08-01",{"$f":"DAY(EOMONTH(Base[[#This Row],[FECHA]],0))","v":31},{"$f":"+PROPER(TEXT(Base[[#This Row],[FECHA]],\"MMMM\"))","v":"Agosto"},{"$f":"+YEAR(Base[[#This Row],[FECHA]])","v":2020},"Eugenio Espejo","3 estrellas","Hotel",12,3748,{"$f":"Base[[#This Row],[VENTAS POR ALOJAMIENTO DURANTE EL MES DE LA ENCUESTA]]/1000","v":3.7480000000000002},110,30,10,40,60,50,110,6]
["2020-08-01",{"$f":"DAY(EOMONTH(Base[[#This Row],[FECHA]],0))","v":31},{"$f":"+PROPER(TEXT(Base[[#This Row],[FECHA]],\"MMMM\"))","v":"Agosto"},{"$f":"+YEAR(Base[[#This Row],[FECHA]])","v":2020},"Manuela Sáenz","4 estrellas","Hotel",12,null,null,null,null,null,null,null,null,null,5]
["2020-08-01",{"$f":"DAY(EOMONTH(Base[[#This Row],[FECHA]],0))","v":31},{"$f":"+PROPER(TEXT(Base[[#This Row],[FECHA]],\"MMMM\"))","v":"Agosto"},{"$f":"+YEAR(Base[[#This Row],[FECHA]])","v":2020},"Manuela Sáenz","3 estrellas","Hostal",6]
["2020-08-01",{"$f":"DAY(EOMONTH(Base[[#This Row],[FECHA]],0))","v":31},{"$f":"+PROPER(TEXT(Base[[#This Row],[FECHA]],\"MMMM\"))","v":"Agosto"},{"$f":"+YEAR(Base[[#This Row],[FECHA]])","v":2020},"La Mariscal","3 estrellas","Hotel",10,null,null,null,null,null,null,null,null,null,1]
["2020-08-01",{"$f":"DAY(EOMONTH(Base[[#This Row],[FECHA]],0))","v":31},{"$f":"+PROPER(TEXT(Base[[#This Row],[FECHA]],\"MMMM\"))","v":"Agosto"},{"$f":"+YEAR(Base[[#This Row],[FECHA]])","v":2020},"La Mariscal","3 estrellas","Hotel",20,null,null,null,null,null,null,null,null,null,2]
["2020-08-01",{"$f":"DAY(EOMONTH(Base[[#This Row],[FECHA]],0))","v":31},{"$f":"+PROPER(TEXT(Base[[#This Row],[FECHA]],\"MMMM\"))","v":"Agosto"},{"$f":"+YEAR(Base[[#This Row],[FECHA]])","v":2020},"Tumbaco","5 estrellas","Hotel",94,11921.89,{"$f":"Base[[#This Row],[VENTAS POR ALOJAMIENTO DURANTE EL MES DE LA ENCUESTA]]/1000","v":11.921889999999999},126,126,null,126,126,null,126,20]
["2020-08-01",{"$f":"DAY(EOMONTH(Base[[#This Row],[FECHA]],0))","v":31},{"$f":"+PROPER(TEXT(Base[[#This Row],[FECHA]],\"MMMM\"))","v":"Agosto"},{"$f":"+YEAR(Base[[#This Row],[FECHA]])","v":2020},"La Delicia","3 estrellas","Hostería",9,28,{"$f":"Base[[#This Row],[VENTAS POR ALOJAMIENTO DURANTE EL MES DE LA ENCUESTA]]/1000","v":2.8000000000000001E-2},1,1,null,1,1,null,1,6]
["2020-08-01",{"$f":"DAY(EOMONTH(Base[[#This Row],[FECHA]],0))","v":31},{"$f":"+PROPER(TEXT(Base[[#This Row],[FECHA]],\"MMMM\"))","v":"Agosto"},{"$f":"+YEAR(Base[[#This Row],[FECHA]])","v":2020},"La Delicia","3 estrellas","Hostería",8,null,null,null,null,null,null,null,null,null,2]
["2020-08-01",{"$f":"DAY(EOMONTH(Base[[#This Row],[FECHA]],0))","v":31},{"$f":"+PROPER(TEXT(Base[[#This Row],[FECHA]],\"MMMM\"))","v":"Agosto"},{"$f":"+YEAR(Base[[#This Row],[FECHA]])","v":2020},"Eugenio Espejo","3 estrellas","Hostería",7,1125,{"$f":"Base[[#This Row],[VENTAS POR ALOJAMIENTO DURANTE EL MES DE LA ENCUESTA]]/1000","v":1.125},10,14,null,14,14,null,14,5]
["2020-08-01",{"$f":"DAY(EOMONTH(Base[[#This Row],[FECHA]],0))","v":31},{"$f":"+PROPER(TEXT(Base[[#This Row],[FECHA]],\"MMMM\"))","v":"Agosto"},{"$f":"+YEAR(Base[[#This Row],[FECHA]])","v":2020},"La Mariscal","3 estrellas","Hotel",20,6344.83,{"$f":"Base[[#This Row],[VENTAS POR ALOJAMIENTO DURANTE EL MES DE LA ENCUESTA]]/1000","v":6.34483},108,154,1,155,188,10,198,18]
["2020-08-01",{"$f":"DAY(EOMONTH(Base[[#This Row],[FECHA]],0))","v":31},{"$f":"+PROPER(TEXT(Base[[#This Row],[FECHA]],\"MMMM\"))","v":"Agosto"},{"$f":"+YEAR(Base[[#This Row],[FECHA]])","v":2020},"La Mariscal","3 estrellas","Hotel",41,1200,{"$f":"Base[[#This Row],[VENTAS POR ALOJAMIENTO DURANTE EL MES DE LA ENCUESTA]]/1000","v":1.2},39,23,null,23,39,null,39,5]
["2020-08-01",{"$f":"DAY(EOMONTH(Base[[#This Row],[FECHA]],0))","v":31},{"$f":"+PROPER(TEXT(Base[[#This Row],[FECHA]],\"MMMM\"))","v":"Agosto"},{"$f":"+YEAR(Base[[#This Row],[FECHA]])","v":2020},"La Mariscal","3 estrellas","Hostal",22,68.790000000000006,{"$f":"Base[[#This Row],[VENTAS POR ALOJAMIENTO DURANTE EL MES DE LA ENCUESTA]]/1000","v":6.8790000000000004E-2},1,1,null,1,1,null,1,2]
["2020-08-01",{"$f":"DAY(EOMONTH(Base[[#This Row],[FECHA]],0))","v":31},{"$f":"+PROPER(TEXT(Base[[#This Row],[FECHA]],\"MMMM\"))","v":"Agosto"},{"$f":"+YEAR(Base[[#This Row],[FECHA]])","v":2020},"Eugenio Espejo","5 estrellas","Hotel",128,115110,{"$f":"Base[[#This Row],[VENTAS POR ALOJAMIENTO DURANTE EL MES DE LA ENCUESTA]]/1000","v":115.11},1088,341,938,1279,341,938,1279,69]
["2020-08-01",{"$f":"DAY(EOMONTH(Base[[#This Row],[FECHA]],0))","v":31},{"$f":"+PROPER(TEXT(Base[[#This Row],[FECHA]],\"MMMM\"))","v":"Agosto"},{"$f":"+YEAR(Base[[#This Row],[FECHA]])","v":2020},"Eugenio Espejo","4 estrellas","Hotel",142,null,null,null,null,null,null,null,null,null,20]
["2020-08-01",{"$f":"DAY(EOMONTH(Base[[#This Row],[FECHA]],0))","v":31},{"$f":"+PROPER(TEXT(Base[[#This Row],[FECHA]],\"MMMM\"))","v":"Agosto"},{"$f":"+YEAR(Base[[#This Row],[FECHA]])","v":2020},"La Mariscal","3 estrellas","Hotel",17,1356,{"$f":"Base[[#This Row],[VENTAS POR ALOJAMIENTO DURANTE EL MES DE LA ENCUESTA]]/1000","v":1.3560000000000001},12,8,null,8,24,null,24]
["2020-08-01",{"$f":"DAY(EOMONTH(Base[[#This Row],[FECHA]],0))","v":31},{"$f":"+PROPER(TEXT(Base[[#This Row],[FECHA]],\"MMMM\"))","v":"Agosto"},{"$f":"+YEAR(Base[[#This Row],[FECHA]])","v":2020},"Eugenio Espejo","3 estrellas","Hotel",60,2868.47,{"$f":"Base[[#This Row],[VENTAS POR ALOJAMIENTO DURANTE EL MES DE LA ENCUESTA]]/1000","v":2.8684699999999999},94,94,null,94,94,null,94,11]
["2020-08-01",{"$f":"DAY(EOMONTH(Base[[#This Row],[FECHA]],0))","v":31},{"$f":"+PROPER(TEXT(Base[[#This Row],[FECHA]],\"MMMM\"))","v":"Agosto"},{"$f":"+YEAR(Base[[#This Row],[FECHA]])","v":2020},"Eugenio Espejo","3 estrellas","Hotel",10,3000,{"$f":"Base[[#This Row],[VENTAS POR ALOJAMIENTO DURANTE EL MES DE LA ENCUESTA]]/1000","v":3},50,50,null,50,50,null,50,2]
["2020-08-01",{"$f":"DAY(EOMONTH(Base[[#This Row],[FECHA]],0))","v":31},{"$f":"+PROPER(TEXT(Base[[#This Row],[FECHA]],\"MMMM\"))","v":"Agosto"},{"$f":"+YEAR(Base[[#This Row],[FECHA]])","v":2020},"Eugenio Espejo","3 estrellas","Hostería",5,null,null,null,null,null,null,null,null,null,3]
["2020-08-01",{"$f":"DAY(EOMONTH(Base[[#This Row],[FECHA]],0))","v":31},{"$f":"+PROPER(TEXT(Base[[#This Row],[FECHA]],\"MMMM\"))","v":"Agosto"},{"$f":"+YEAR(Base[[#This Row],[FECHA]])","v":2020},"Manuela Sáenz","4 estrellas","Hotel",32]
["2020-08-01",{"$f":"DAY(EOMONTH(Base[[#This Row],[FECHA]],0))","v":31},{"$f":"+PROPER(TEXT(Base[[#This Row],[FECHA]],\"MMMM\"))","v":"Agosto"},{"$f":"+YEAR(Base[[#This Row],[FECHA]])","v":2020},"Eugenio Espejo","3 estrellas","Hostería",22,1000,{"$f":"Base[[#This Row],[VENTAS POR ALOJAMIENTO DURANTE EL MES DE LA ENCUESTA]]/1000","v":1},12,12,null,12,12,null,12,4]
["2020-08-01",{"$f":"DAY(EOMONTH(Base[[#This Row],[FECHA]],0))","v":31},{"$f":"+PROPER(TEXT(Base[[#This Row],[FECHA]],\"MMMM\"))","v":"Agosto"},{"$f":"+YEAR(Base[[#This Row],[FECHA]])","v":2020},"Eugenio Espejo","4 estrellas","Hotel",28,1274,{"$f":"Base[[#This Row],[VENTAS POR ALOJAMIENTO DURANTE EL MES DE LA ENCUESTA]]/1000","v":1.274},26,10,16,26,10,16,26,10]
["2020-08-01",{"$f":"DAY(EOMONTH(Base[[#This Row],[FECHA]],0))","v":31},{"$f":"+PROPER(TEXT(Base[[#This Row],[FECHA]],\"MMMM\"))","v":"Agosto"},{"$f":"+YEAR(Base[[#This Row],[FECHA]])","v":2020},"La Delicia","3 estrellas","Lodge",10,1579.87,{"$f":"Base[[#This Row],[VENTAS POR ALOJAMIENTO DURANTE EL MES DE LA ENCUESTA]]/1000","v":1.5798699999999999},3,8,null,8,8,null,8,6]
["2020-08-01",{"$f":"DAY(EOMONTH(Base[[#This Row],[FECHA]],0))","v":31},{"$f":"+PROPER(TEXT(Base[[#This Row],[FECHA]],\"MMMM\"))","v":"Agosto"},{"$f":"+YEAR(Base[[#This Row],[FECHA]])","v":2020},"Manuela Sáenz","3 estrellas","Hotel",6,null,{"$f":"Base[[#This Row],[VENTAS POR ALOJAMIENTO DURANTE EL MES DE LA ENCUESTA]]/1000","v":0},null,null,null,null,null,null,null,5]
["2020-08-01",{"$f":"DAY(EOMONTH(Base[[#This Row],[FECHA]],0))","v":31},{"$f":"+PROPER(TEXT(Base[[#This Row],[FECHA]],\"MMMM\"))","v":"Agosto"},{"$f":"+YEAR(Base[[#This Row],[FECHA]])","v":2020},"Tumbaco","3 estrellas","Hacienda Turística",20,null,{"$f":"Base[[#This Row],[VENTAS POR ALOJAMIENTO DURANTE EL MES DE LA ENCUESTA]]/1000","v":0},null,null,null,null,null,null,null,1]
["2020-09-01",{"$f":"DAY(EOMONTH(Base[[#This Row],[FECHA]],0))","v":30},{"$f":"+PROPER(TEXT(Base[[#This Row],[FECHA]],\"MMMM\"))","v":"Septiembre"},{"$f":"+YEAR(Base[[#This Row],[FECHA]])","v":2020},"La Mariscal","3 estrellas","Hotel",20,210,{"$f":"Base[[#This Row],[VENTAS POR ALOJAMIENTO DURANTE EL MES DE LA ENCUESTA]]/1000","v":0.21},7,0,1,1,0,7,7,5]
["2020-09-01",{"$f":"DAY(EOMONTH(Base[[#This Row],[FECHA]],0))","v":30},{"$f":"+PROPER(TEXT(Base[[#This Row],[FECHA]],\"MMMM\"))","v":"Septiembre"},{"$f":"+YEAR(Base[[#This Row],[FECHA]])","v":2020},"Manuela Sáenz","3 estrellas","Hotel",15,null,{"$f":"Base[[#This Row],[VENTAS POR ALOJAMIENTO DURANTE EL MES DE LA ENCUESTA]]/1000","v":0},null,null,null,0,null,null,0,1]
["2020-09-01",{"$f":"DAY(EOMONTH(Base[[#This Row],[FECHA]],0))","v":30},{"$f":"+PROPER(TEXT(Base[[#This Row],[FECHA]],\"MMMM\"))","v":"Septiembre"},{"$f":"+YEAR(Base[[#This Row],[FECHA]])","v":2020},"Manuela Sáenz","3 estrellas","Hostal",6,null,{"$f":"Base[[#This Row],[VENTAS POR ALOJAMIENTO DURANTE EL MES DE LA ENCUESTA]]/1000","v":0},null,null,null,0,null,null,0,2]
["2020-09-01",{"$f":"DAY(EOMONTH(Base[[#This Row],[FECHA]],0))","v":30},{"$f":"+PROPER(TEXT(Base[[#This Row],[FECHA]],\"MMMM\"))","v":"Septiembre"},{"$f":"+YEAR(Base[[#This Row],[FECHA]])","v":2020},"Eugenio Espejo","3 estrellas","Hostería",7,270,{"$f":"Base[[#This Row],[VENTAS POR ALOJAMIENTO DURANTE EL MES DE LA ENCUESTA]]/1000","v":0.27},3,3,0,3,3,0,3,8]
["2020-09-01",{"$f":"DAY(EOMONTH(Base[[#This Row],[FECHA]],0))","v":30},{"$f":"+PROPER(TEXT(Base[[#This Row],[FECHA]],\"MMMM\"))","v":"Septiembre"},{"$f":"+YEAR(Base[[#This Row],[FECHA]])","v":2020},"Eugenio Espejo","4 estrellas","Hotel",46,11680.37,{"$f":"Base[[#This Row],[VENTAS POR ALOJAMIENTO DURANTE EL MES DE LA ENCUESTA]]/1000","v":11.68037},196,196,0,196,196,0,196,7]
["2020-09-01",{"$f":"DAY(EOMONTH(Base[[#This Row],[FECHA]],0))","v":30},{"$f":"+PROPER(TEXT(Base[[#This Row],[FECHA]],\"MMMM\"))","v":"Septiembre"},{"$f":"+YEAR(Base[[#This Row],[FECHA]])","v":2020},"Eugenio Espejo","3 estrellas","Hostería",20,1833.26,{"$f":"Base[[#This Row],[VENTAS POR ALOJAMIENTO DURANTE EL MES DE LA ENCUESTA]]/1000","v":1.8332599999999999},22,22,0,22,22,0,22,4]
["2020-09-01",{"$f":"DAY(EOMONTH(Base[[#This Row],[FECHA]],0))","v":30},{"$f":"+PROPER(TEXT(Base[[#This Row],[FECHA]],\"MMMM\"))","v":"Septiembre"},{"$f":"+YEAR(Base[[#This Row],[FECHA]])","v":2020},"Eugenio Espejo","4 estrellas","Hotel",23,2125.87,{"$f":"Base[[#This Row],[VENTAS POR ALOJAMIENTO DURANTE EL MES DE LA ENCUESTA]]/1000","v":2.1258699999999999},37,20,17,37,20,17,37,0]
["2020-09-01",{"$f":"DAY(EOMONTH(Base[[#This Row],[FECHA]],0))","v":30},{"$f":"+PROPER(TEXT(Base[[#This Row],[FECHA]],\"MMMM\"))","v":"Septiembre"},{"$f":"+YEAR(Base[[#This Row],[FECHA]])","v":2020},"La Mariscal","4 estrellas","Hotel",100,16940,{"$f":"Base[[#This Row],[VENTAS POR ALOJAMIENTO DURANTE EL MES DE LA ENCUESTA]]/1000","v":16.940000000000001},275,240,7,247,270,42,312,37]
["2020-09-01",{"$f":"DAY(EOMONTH(Base[[#This Row],[FECHA]],0))","v":30},{"$f":"+PROPER(TEXT(Base[[#This Row],[FECHA]],\"MMMM\"))","v":"Septiembre"},{"$f":"+YEAR(Base[[#This Row],[FECHA]])","v":2020},"La Mariscal","3 estrellas","Hostal",22,null,{"$f":"Base[[#This Row],[VENTAS POR ALOJAMIENTO DURANTE EL MES DE LA ENCUESTA]]/1000","v":0},null,null,null,0,null,null,0,2]
["2020-09-01",{"$f":"DAY(EOMONTH(Base[[#This Row],[FECHA]],0))","v":30},{"$f":"+PROPER(TEXT(Base[[#This Row],[FECHA]],\"MMMM\"))","v":"Septiembre"},{"$f":"+YEAR(Base[[#This Row],[FECHA]])","v":2020},"La Mariscal","5 estrellas","Hotel",124,46577.09,{"$f":"Base[[#This Row],[VENTAS POR ALOJAMIENTO DURANTE EL MES DE LA ENCUESTA]]/1000","v":46.577089999999998},521,33,55,88,88,433,521,20]
["2020-09-01",{"$f":"DAY(EOMONTH(Base[[#This Row],[FECHA]],0))","v":30},{"$f":"+PROPER(TEXT(Base[[#This Row],[FECHA]],\"MMMM\"))","v":"Septiembre"},{"$f":"+YEAR(Base[[#This Row],[FECHA]])","v":2020},"La Mariscal","3 estrellas","Hotel",48,null,{"$f":"Base[[#This Row],[VENTAS POR ALOJAMIENTO DURANTE EL MES DE LA ENCUESTA]]/1000","v":0},null,null,null,0,null,null,0,1]
["2020-09-01",{"$f":"DAY(EOMONTH(Base[[#This Row],[FECHA]],0))","v":30},{"$f":"+PROPER(TEXT(Base[[#This Row],[FECHA]],\"MMMM\"))","v":"Septiembre"},{"$f":"+YEAR(Base[[#This Row],[FECHA]])","v":2020},"La Delicia","3 estrellas","Hostería",9,134,{"$f":"Base[[#This Row],[VENTAS POR ALOJAMIENTO DURANTE EL MES DE LA ENCUESTA]]/1000","v":0.13400000000000001},4,2,3,5,2,3,5,5]
["2020-09-01",{"$f":"DAY(EOMONTH(Base[[#This Row],[FECHA]],0))","v":30},{"$f":"+PROPER(TEXT(Base[[#This Row],[FECHA]],\"MMMM\"))","v":"Septiembre"},{"$f":"+YEAR(Base[[#This Row],[FECHA]])","v":2020},"Eugenio Espejo","5 estrellas","Hotel",128,71209.600000000006,{"$f":"Base[[#This Row],[VENTAS POR ALOJAMIENTO DURANTE EL MES DE LA ENCUESTA]]/1000","v":71.209600000000009},748,349,618,967,349,618,967,65]
["2020-09-01",{"$f":"DAY(EOMONTH(Base[[#This Row],[FECHA]],0))","v":30},{"$f":"+PROPER(TEXT(Base[[#This Row],[FECHA]],\"MMMM\"))","v":"Septiembre"},{"$f":"+YEAR(Base[[#This Row],[FECHA]])","v":2020},"Tumbaco","3 estrellas","Hacienda Turística",20,null,{"$f":"Base[[#This Row],[VENTAS POR ALOJAMIENTO DURANTE EL MES DE LA ENCUESTA]]/1000","v":0},null,null,null,0,null,null,0,1]
["2020-09-01",{"$f":"DAY(EOMONTH(Base[[#This Row],[FECHA]],0))","v":30},{"$f":"+PROPER(TEXT(Base[[#This Row],[FECHA]],\"MMMM\"))","v":"Septiembre"},{"$f":"+YEAR(Base[[#This Row],[FECHA]])","v":2020},"La Mariscal","4 estrellas","Hotel",86,7995.93,{"$f":"Base[[#This Row],[VENTAS POR ALOJAMIENTO DURANTE EL MES DE LA ENCUESTA]]/1000","v":7.9959300000000004},141,82,59,141,94,93,187,34]
["2020-09-01",{"$f":"DAY(EOMONTH(Base[[#This Row],[FECHA]],0))","v":30},{"$f":"+PROPER(TEXT(Base[[#This Row],[FECHA]],\"MMMM\"))","v":"Septiembre"},{"$f":"+YEAR(Base[[#This Row],[FECHA]])","v":2020},"La Mariscal","3 estrellas","Hotel",17,800,{"$f":"Base[[#This Row],[VENTAS POR ALOJAMIENTO DURANTE EL MES DE LA ENCUESTA]]/1000","v":0.8},40,40,0,40,40,0,40,0]
["2020-09-01",{"$f":"DAY(EOMONTH(Base[[#This Row],[FECHA]],0))","v":30},{"$f":"+PROPER(TEXT(Base[[#This Row],[FECHA]],\"MMMM\"))","v":"Septiembre"},{"$f":"+YEAR(Base[[#This Row],[FECHA]])","v":2020},"La Mariscal","3 estrellas","Hotel",20,1800,{"$f":"Base[[#This Row],[VENTAS POR ALOJAMIENTO DURANTE EL MES DE LA ENCUESTA]]/1000","v":1.8},60,60,0,60,75,0,75,5]
["2020-09-01",{"$f":"DAY(EOMONTH(Base[[#This Row],[FECHA]],0))","v":30},{"$f":"+PROPER(TEXT(Base[[#This Row],[FECHA]],\"MMMM\"))","v":"Septiembre"},{"$f":"+YEAR(Base[[#This Row],[FECHA]])","v":2020},"La Delicia","3 estrellas","Hostería",8,152.76,{"$f":"Base[[#This Row],[VENTAS POR ALOJAMIENTO DURANTE EL MES DE LA ENCUESTA]]/1000","v":0.15275999999999998},4,7,0,7,7,0,7,3]
["2020-09-01",{"$f":"DAY(EOMONTH(Base[[#This Row],[FECHA]],0))","v":30},{"$f":"+PROPER(TEXT(Base[[#This Row],[FECHA]],\"MMMM\"))","v":"Septiembre"},{"$f":"+YEAR(Base[[#This Row],[FECHA]])","v":2020},"Eugenio Espejo","3 estrellas","Hostal",17,null,{"$f":"Base[[#This Row],[VENTAS POR ALOJAMIENTO DURANTE EL MES DE LA ENCUESTA]]/1000","v":0},null,null,null,0,null,null,0,0]
["2020-09-01",{"$f":"DAY(EOMONTH(Base[[#This Row],[FECHA]],0))","v":30},{"$f":"+PROPER(TEXT(Base[[#This Row],[FECHA]],\"MMMM\"))","v":"Septiembre"},{"$f":"+YEAR(Base[[#This Row],[FECHA]])","v":2020},"Tumbaco","5 estrellas","Hostería",7,1760,{"$f":"Base[[#This Row],[VENTAS POR ALOJAMIENTO DURANTE EL MES DE LA ENCUESTA]]/1000","v":1.76},20,6,14,20,6,14,20,1]
["2020-09-01",{"$f":"DAY(EOMONTH(Base[[#This Row],[FECHA]],0))","v":30},{"$f":"+PROPER(TEXT(Base[[#This Row],[FECHA]],\"MMMM\"))","v":"Septiembre"},{"$f":"+YEAR(Base[[#This Row],[FECHA]])","v":2020},"La Mariscal","4 estrellas","Hotel",141,19.893000000000001,{"$f":"Base[[#This Row],[VENTAS POR ALOJAMIENTO DURANTE EL MES DE LA ENCUESTA]]/1000","v":1.9893000000000001E-2},236,77,164,241,77,164,241,22]
["2020-09-01",{"$f":"DAY(EOMONTH(Base[[#This Row],[FECHA]],0))","v":30},{"$f":"+PROPER(TEXT(Base[[#This Row],[FECHA]],\"MMMM\"))","v":"Septiembre"},{"$f":"+YEAR(Base[[#This Row],[FECHA]])","v":2020},"Eugenio Espejo","4 estrellas","Hotel",142,null,{"$f":"Base[[#This Row],[VENTAS POR ALOJAMIENTO DURANTE EL MES DE LA ENCUESTA]]/1000","v":0},null,null,null,0,null,null,0,0]
["2020-09-01",{"$f":"DAY(EOMONTH(Base[[#This Row],[FECHA]],0))","v":30},{"$f":"+PROPER(TEXT(Base[[#This Row],[FECHA]],\"MMMM\"))","v":"Septiembre"},{"$f":"+YEAR(Base[[#This Row],[FECHA]])","v":2020},"Eugenio Espejo","3 estrellas","Hotel",12,4300,{"$f":"Base[[#This Row],[VENTAS POR ALOJAMIENTO DURANTE EL MES DE LA ENCUESTA]]/1000","v":4.3},97,85,12,97,85,12,97,6]
["2020-09-01",{"$f":"DAY(EOMONTH(Base[[#This Row],[FECHA]],0))","v":30},{"$f":"+PROPER(TEXT(Base[[#This Row],[FECHA]],\"MMMM\"))","v":"Septiembre"},{"$f":"+YEAR(Base[[#This Row],[FECHA]])","v":2020},"Manuela Sáenz","4 estrellas","Hotel",18,null,{"$f":"Base[[#This Row],[VENTAS POR ALOJAMIENTO DURANTE EL MES DE LA ENCUESTA]]/1000","v":0},null,null,null,0,null,null,0,4]
["2020-09-01",{"$f":"DAY(EOMONTH(Base[[#This Row],[FECHA]],0))","v":30},{"$f":"+PROPER(TEXT(Base[[#This Row],[FECHA]],\"MMMM\"))","v":"Septiembre"},{"$f":"+YEAR(Base[[#This Row],[FECHA]])","v":2020},"La Mariscal","3 estrellas","Hotel",20,7776,{"$f":"Base[[#This Row],[VENTAS POR ALOJAMIENTO DURANTE EL MES DE LA ENCUESTA]]/1000","v":7.7759999999999998},133,202,1,203,244,3,247,18]
["2020-10-01",{"$f":"DAY(EOMONTH(Base[[#This Row],[FECHA]],0))","v":31},{"$f":"+PROPER(TEXT(Base[[#This Row],[FECHA]],\"MMMM\"))","v":"Octubre"},{"$f":"+YEAR(Base[[#This Row],[FECHA]])","v":2020},"Eugenio Espejo","3 estrellas","Hotel",151,52506.49,{"$f":"Base[[#This Row],[VENTAS POR ALOJAMIENTO DURANTE EL MES DE LA ENCUESTA]]/1000","v":52.506489999999999},1112,780,332,1112,780,332,1112,14]
["2020-10-01",{"$f":"DAY(EOMONTH(Base[[#This Row],[FECHA]],0))","v":31},{"$f":"+PROPER(TEXT(Base[[#This Row],[FECHA]],\"MMMM\"))","v":"Octubre"},{"$f":"+YEAR(Base[[#This Row],[FECHA]])","v":2020},"Manuela Sáenz","4 estrellas","Hotel",12,183,{"$f":"Base[[#This Row],[VENTAS POR ALOJAMIENTO DURANTE EL MES DE LA ENCUESTA]]/1000","v":0.183},1,0,2,2,0,2,2,0]
["2020-10-01",{"$f":"DAY(EOMONTH(Base[[#This Row],[FECHA]],0))","v":31},{"$f":"+PROPER(TEXT(Base[[#This Row],[FECHA]],\"MMMM\"))","v":"Octubre"},{"$f":"+YEAR(Base[[#This Row],[FECHA]])","v":2020},"Eugenio Espejo","4 estrellas","Hotel",24,3500,{"$f":"Base[[#This Row],[VENTAS POR ALOJAMIENTO DURANTE EL MES DE LA ENCUESTA]]/1000","v":3.5},42,24,20,44,24,20,44,6]
["2020-10-01",{"$f":"DAY(EOMONTH(Base[[#This Row],[FECHA]],0))","v":31},{"$f":"+PROPER(TEXT(Base[[#This Row],[FECHA]],\"MMMM\"))","v":"Octubre"},{"$f":"+YEAR(Base[[#This Row],[FECHA]])","v":2020},"La Mariscal","3 estrellas","Hostal",22,null,{"$f":"Base[[#This Row],[VENTAS POR ALOJAMIENTO DURANTE EL MES DE LA ENCUESTA]]/1000","v":0},null,null,null,0,null,0,0,2]
["2020-10-01",{"$f":"DAY(EOMONTH(Base[[#This Row],[FECHA]],0))","v":31},{"$f":"+PROPER(TEXT(Base[[#This Row],[FECHA]],\"MMMM\"))","v":"Octubre"},{"$f":"+YEAR(Base[[#This Row],[FECHA]])","v":2020},"Eugenio Espejo","4 estrellas","Hotel",24,null,{"$f":"Base[[#This Row],[VENTAS POR ALOJAMIENTO DURANTE EL MES DE LA ENCUESTA]]/1000","v":0},null,null,null,0,null,0,0,0]
["2020-10-01",{"$f":"DAY(EOMONTH(Base[[#This Row],[FECHA]],0))","v":31},{"$f":"+PROPER(TEXT(Base[[#This Row],[FECHA]],\"MMMM\"))","v":"Octubre"},{"$f":"+YEAR(Base[[#This Row],[FECHA]])","v":2020},"Eugenio Espejo","3 estrellas","Hostería",22,200,{"$f":"Base[[#This Row],[VENTAS POR ALOJAMIENTO DURANTE EL MES DE LA ENCUESTA]]/1000","v":0.2},4,2,2,4,2,2,4,4]
["2020-10-01",{"$f":"DAY(EOMONTH(Base[[#This Row],[FECHA]],0))","v":31},{"$f":"+PROPER(TEXT(Base[[#This Row],[FECHA]],\"MMMM\"))","v":"Octubre"},{"$f":"+YEAR(Base[[#This Row],[FECHA]])","v":2020},"Eugenio Espejo","3 estrellas","Hotel",12,3700,{"$f":"Base[[#This Row],[VENTAS POR ALOJAMIENTO DURANTE EL MES DE LA ENCUESTA]]/1000","v":3.7},149,106,31,137,112,37,149,5]
["2020-10-01",{"$f":"DAY(EOMONTH(Base[[#This Row],[FECHA]],0))","v":31},{"$f":"+PROPER(TEXT(Base[[#This Row],[FECHA]],\"MMMM\"))","v":"Octubre"},{"$f":"+YEAR(Base[[#This Row],[FECHA]])","v":2020},"Tumbaco","3 estrellas","Hacienda Turística",20,null,{"$f":"Base[[#This Row],[VENTAS POR ALOJAMIENTO DURANTE EL MES DE LA ENCUESTA]]/1000","v":0},null,null,null,0,null,0,0,1]
["2020-10-01",{"$f":"DAY(EOMONTH(Base[[#This Row],[FECHA]],0))","v":31},{"$f":"+PROPER(TEXT(Base[[#This Row],[FECHA]],\"MMMM\"))","v":"Octubre"},{"$f":"+YEAR(Base[[#This Row],[FECHA]])","v":2020},"La Mariscal","3 estrellas","Hotel",17,1200,{"$f":"Base[[#This Row],[VENTAS POR ALOJAMIENTO DURANTE EL MES DE LA ENCUESTA]]/1000","v":1.2},25,25,0,25,25,0,25,0]
["2020-10-01",{"$f":"DAY(EOMONTH(Base[[#This Row],[FECHA]],0))","v":31},{"$f":"+PROPER(TEXT(Base[[#This Row],[FECHA]],\"MMMM\"))","v":"Octubre"},{"$f":"+YEAR(Base[[#This Row],[FECHA]])","v":2020},"Eugenio Espejo","4 estrellas","Hotel",152,69700,{"$f":"Base[[#This Row],[VENTAS POR ALOJAMIENTO DURANTE EL MES DE LA ENCUESTA]]/1000","v":69.7},1267,890,377,1267,890,377,1267]
["2020-10-01",{"$f":"DAY(EOMONTH(Base[[#This Row],[FECHA]],0))","v":31},{"$f":"+PROPER(TEXT(Base[[#This Row],[FECHA]],\"MMMM\"))","v":"Octubre"},{"$f":"+YEAR(Base[[#This Row],[FECHA]])","v":2020},"La Mariscal","4 estrellas","Hotel",31,900,{"$f":"Base[[#This Row],[VENTAS POR ALOJAMIENTO DURANTE EL MES DE LA ENCUESTA]]/1000","v":0.9},15,2,28,30,2,28,30,1]
["2020-10-01",{"$f":"DAY(EOMONTH(Base[[#This Row],[FECHA]],0))","v":31},{"$f":"+PROPER(TEXT(Base[[#This Row],[FECHA]],\"MMMM\"))","v":"Octubre"},{"$f":"+YEAR(Base[[#This Row],[FECHA]])","v":2020},"La Mariscal","3 estrellas","Hotel",20,7903.37,{"$f":"Base[[#This Row],[VENTAS POR ALOJAMIENTO DURANTE EL MES DE LA ENCUESTA]]/1000","v":7.9033699999999998},135,241,0,241,267,0,267,17]
["2020-10-01",{"$f":"DAY(EOMONTH(Base[[#This Row],[FECHA]],0))","v":31},{"$f":"+PROPER(TEXT(Base[[#This Row],[FECHA]],\"MMMM\"))","v":"Octubre"},{"$f":"+YEAR(Base[[#This Row],[FECHA]])","v":2020},"Manuela Sáenz","3 estrellas","Hostal",6,null,{"$f":"Base[[#This Row],[VENTAS POR ALOJAMIENTO DURANTE EL MES DE LA ENCUESTA]]/1000","v":0},null,null,null,0,null,null,0,2]
["2020-10-01",{"$f":"DAY(EOMONTH(Base[[#This Row],[FECHA]],0))","v":31},{"$f":"+PROPER(TEXT(Base[[#This Row],[FECHA]],\"MMMM\"))","v":"Octubre"},{"$f":"+YEAR(Base[[#This Row],[FECHA]])","v":2020},"La Delicia","3 estrellas","Hostería",9,329,{"$f":"Base[[#This Row],[VENTAS POR ALOJAMIENTO DURANTE EL MES DE LA ENCUESTA]]/1000","v":0.32900000000000001},6,4,1,5,4,2,6,6]
["2020-10-01",{"$f":"DAY(EOMONTH(Base[[#This Row],[FECHA]],0))","v":31},{"$f":"+PROPER(TEXT(Base[[#This Row],[FECHA]],\"MMMM\"))","v":"Octubre"},{"$f":"+YEAR(Base[[#This Row],[FECHA]])","v":2020},"La Mariscal","3 estrellas","Hotel",40,2535,{"$f":"Base[[#This Row],[VENTAS POR ALOJAMIENTO DURANTE EL MES DE LA ENCUESTA]]/1000","v":2.5350000000000001},137,91,0,91,137,0,137,7]
["2020-10-01",{"$f":"DAY(EOMONTH(Base[[#This Row],[FECHA]],0))","v":31},{"$f":"+PROPER(TEXT(Base[[#This Row],[FECHA]],\"MMMM\"))","v":"Octubre"},{"$f":"+YEAR(Base[[#This Row],[FECHA]])","v":2020},"Eugenio Espejo","3 estrellas","Hostal",15,null,{"$f":"Base[[#This Row],[VENTAS POR ALOJAMIENTO DURANTE EL MES DE LA ENCUESTA]]/1000","v":0},null,null,null,0,null,null,0,1]
["2020-10-01",{"$f":"DAY(EOMONTH(Base[[#This Row],[FECHA]],0))","v":31},{"$f":"+PROPER(TEXT(Base[[#This Row],[FECHA]],\"MMMM\"))","v":"Octubre"},{"$f":"+YEAR(Base[[#This Row],[FECHA]])","v":2020},"La Mariscal","3 estrellas","Hotel",20,null,{"$f":"Base[[#This Row],[VENTAS POR ALOJAMIENTO DURANTE EL MES DE LA ENCUESTA]]/1000","v":0},null,null,null,0,null,null,0,4]
["2020-10-01",{"$f":"DAY(EOMONTH(Base[[#This Row],[FECHA]],0))","v":31},{"$f":"+PROPER(TEXT(Base[[#This Row],[FECHA]],\"MMMM\"))","v":"Octubre"},{"$f":"+YEAR(Base[[#This Row],[FECHA]])","v":2020},"Manuela Sáenz","3 estrellas","Hotel",20,null,{"$f":"Base[[#This Row],[VENTAS POR ALOJAMIENTO DURANTE EL MES DE LA ENCUESTA]]/1000","v":0},null,null,null,0,null,null,0,0]
["2020-10-01",{"$f":"DAY(EOMONTH(Base[[#This Row],[FECHA]],0))","v":31},{"$f":"+PROPER(TEXT(Base[[#This Row],[FECHA]],\"MMMM\"))","v":"Octubre"},{"$f":"+YEAR(Base[[#This Row],[FECHA]])","v":2020},"Manuela Sáenz","3 estrellas","Hotel",14,null,{"$f":"Base[[#This Row],[VENTAS POR ALOJAMIENTO DURANTE EL MES DE LA ENCUESTA]]/1000","v":0},null,null,null,0,null,null,0,1]
["2020-10-01",{"$f":"DAY(EOMONTH(Base[[#This Row],[FECHA]],0))","v":31},{"$f":"+PROPER(TEXT(Base[[#This Row],[FECHA]],\"MMMM\"))","v":"Octubre"},{"$f":"+YEAR(Base[[#This Row],[FECHA]])","v":2020},"Los Chillos","4 estrellas","Hostería",12,2607,{"$f":"Base[[#This Row],[VENTAS POR ALOJAMIENTO DURANTE EL MES DE LA ENCUESTA]]/1000","v":2.6070000000000002},33,48,18,66,48,18,66,3]
["2020-10-01",{"$f":"DAY(EOMONTH(Base[[#This Row],[FECHA]],0))","v":31},{"$f":"+PROPER(TEXT(Base[[#This Row],[FECHA]],\"MMMM\"))","v":"Octubre"},{"$f":"+YEAR(Base[[#This Row],[FECHA]])","v":2020},"La Delicia","3 estrellas","Hostería",12,null,{"$f":"Base[[#This Row],[VENTAS POR ALOJAMIENTO DURANTE EL MES DE LA ENCUESTA]]/1000","v":0},null,null,null,0,null,null,0,0]
["2020-10-01",{"$f":"DAY(EOMONTH(Base[[#This Row],[FECHA]],0))","v":31},{"$f":"+PROPER(TEXT(Base[[#This Row],[FECHA]],\"MMMM\"))","v":"Octubre"},{"$f":"+YEAR(Base[[#This Row],[FECHA]])","v":2020},"La Mariscal","4 estrellas","Hotel",86,11043.45,{"$f":"Base[[#This Row],[VENTAS POR ALOJAMIENTO DURANTE EL MES DE LA ENCUESTA]]/1000","v":11.04345},210,231,52,283,231,52,283,33]
["2020-10-01",{"$f":"DAY(EOMONTH(Base[[#This Row],[FECHA]],0))","v":31},{"$f":"+PROPER(TEXT(Base[[#This Row],[FECHA]],\"MMMM\"))","v":"Octubre"},{"$f":"+YEAR(Base[[#This Row],[FECHA]])","v":2020},"La Mariscal","4 estrellas","Hotel",141,22699,{"$f":"Base[[#This Row],[VENTAS POR ALOJAMIENTO DURANTE EL MES DE LA ENCUESTA]]/1000","v":22.699000000000002},320,200,120,320,200,120,320,20]
["2020-10-01",{"$f":"DAY(EOMONTH(Base[[#This Row],[FECHA]],0))","v":31},{"$f":"+PROPER(TEXT(Base[[#This Row],[FECHA]],\"MMMM\"))","v":"Octubre"},{"$f":"+YEAR(Base[[#This Row],[FECHA]])","v":2020},"La Mariscal","5 estrellas","Hotel",124,39074.01,{"$f":"Base[[#This Row],[VENTAS POR ALOJAMIENTO DURANTE EL MES DE LA ENCUESTA]]/1000","v":39.074010000000001},541,100,77,177,300,241,541,29]
["2020-10-01",{"$f":"DAY(EOMONTH(Base[[#This Row],[FECHA]],0))","v":31},{"$f":"+PROPER(TEXT(Base[[#This Row],[FECHA]],\"MMMM\"))","v":"Octubre"},{"$f":"+YEAR(Base[[#This Row],[FECHA]])","v":2020},"Eugenio Espejo","3 estrellas","Hostal",16,null,{"$f":"Base[[#This Row],[VENTAS POR ALOJAMIENTO DURANTE EL MES DE LA ENCUESTA]]/1000","v":0},null,null,null,0,null,null,0,0]
["2020-10-01",{"$f":"DAY(EOMONTH(Base[[#This Row],[FECHA]],0))","v":31},{"$f":"+PROPER(TEXT(Base[[#This Row],[FECHA]],\"MMMM\"))","v":"Octubre"},{"$f":"+YEAR(Base[[#This Row],[FECHA]])","v":2020},"Manuela Sáenz","4 estrellas","Hotel",31,10000,{"$f":"Base[[#This Row],[VENTAS POR ALOJAMIENTO DURANTE EL MES DE LA ENCUESTA]]/1000","v":10},54,18,36,54,18,36,54]
["2020-10-01",{"$f":"DAY(EOMONTH(Base[[#This Row],[FECHA]],0))","v":31},{"$f":"+PROPER(TEXT(Base[[#This Row],[FECHA]],\"MMMM\"))","v":"Octubre"},{"$f":"+YEAR(Base[[#This Row],[FECHA]])","v":2020},"Eugenio Espejo","3 estrellas","Hotel",60,10689.93,{"$f":"Base[[#This Row],[VENTAS POR ALOJAMIENTO DURANTE EL MES DE LA ENCUESTA]]/1000","v":10.68993},155,167,7,174,263,7,270,13]
["2020-10-01",{"$f":"DAY(EOMONTH(Base[[#This Row],[FECHA]],0))","v":31},{"$f":"+PROPER(TEXT(Base[[#This Row],[FECHA]],\"MMMM\"))","v":"Octubre"},{"$f":"+YEAR(Base[[#This Row],[FECHA]])","v":2020},"La Delicia","5 estrellas","Lodge",18,51600,{"$f":"Base[[#This Row],[VENTAS POR ALOJAMIENTO DURANTE EL MES DE LA ENCUESTA]]/1000","v":51.6},344,331,13,344,331,13,344]
["2020-11-01",{"$f":"DAY(EOMONTH(Base[[#This Row],[FECHA]],0))","v":30},{"$f":"+PROPER(TEXT(Base[[#This Row],[FECHA]],\"MMMM\"))","v":"Noviembre"},{"$f":"+YEAR(Base[[#This Row],[FECHA]])","v":2020},"Manuela Sáenz","4 estrellas","Hotel",18,null,{"$f":"Base[[#This Row],[VENTAS POR ALOJAMIENTO DURANTE EL MES DE LA ENCUESTA]]/1000","v":0},null,null,null,0,null,null,0,7]
["2020-11-01",{"$f":"DAY(EOMONTH(Base[[#This Row],[FECHA]],0))","v":30},{"$f":"+PROPER(TEXT(Base[[#This Row],[FECHA]],\"MMMM\"))","v":"Noviembre"},{"$f":"+YEAR(Base[[#This Row],[FECHA]])","v":2020},"La Delicia","5 estrellas","Lodge",24,60300,{"$f":"Base[[#This Row],[VENTAS POR ALOJAMIENTO DURANTE EL MES DE LA ENCUESTA]]/1000","v":60.3},402,357,45,402,357,45,402]
["2020-11-01",{"$f":"DAY(EOMONTH(Base[[#This Row],[FECHA]],0))","v":30},{"$f":"+PROPER(TEXT(Base[[#This Row],[FECHA]],\"MMMM\"))","v":"Noviembre"},{"$f":"+YEAR(Base[[#This Row],[FECHA]])","v":2020},"Eugenio Espejo","5 estrellas","Hotel",210,130928,{"$f":"Base[[#This Row],[VENTAS POR ALOJAMIENTO DURANTE EL MES DE LA ENCUESTA]]/1000","v":130.928},1336,481,855,1336,481,855,1336,112]
["2020-11-01",{"$f":"DAY(EOMONTH(Base[[#This Row],[FECHA]],0))","v":30},{"$f":"+PROPER(TEXT(Base[[#This Row],[FECHA]],\"MMMM\"))","v":"Noviembre"},{"$f":"+YEAR(Base[[#This Row],[FECHA]])","v":2020},"La Mariscal","5 estrellas","Hotel",124,48872.39,{"$f":"Base[[#This Row],[VENTAS POR ALOJAMIENTO DURANTE EL MES DE LA ENCUESTA]]/1000","v":48.872390000000003},695,239,167,406,528,167,695,29]
["2020-11-01",{"$f":"DAY(EOMONTH(Base[[#This Row],[FECHA]],0))","v":30},{"$f":"+PROPER(TEXT(Base[[#This Row],[FECHA]],\"MMMM\"))","v":"Noviembre"},{"$f":"+YEAR(Base[[#This Row],[FECHA]])","v":2020},"La Mariscal","4 estrellas","Hotel",86,12979.13,{"$f":"Base[[#This Row],[VENTAS POR ALOJAMIENTO DURANTE EL MES DE LA ENCUESTA]]/1000","v":12.97913},242,163,79,242,163,79,242,32]
["2020-11-01",{"$f":"DAY(EOMONTH(Base[[#This Row],[FECHA]],0))","v":30},{"$f":"+PROPER(TEXT(Base[[#This Row],[FECHA]],\"MMMM\"))","v":"Noviembre"},{"$f":"+YEAR(Base[[#This Row],[FECHA]])","v":2020},"Eugenio Espejo","3 estrellas","Hotel",60,4403.62,{"$f":"Base[[#This Row],[VENTAS POR ALOJAMIENTO DURANTE EL MES DE LA ENCUESTA]]/1000","v":4.4036200000000001},108,125,9,134,125,13,138,12]
["2020-11-01",{"$f":"DAY(EOMONTH(Base[[#This Row],[FECHA]],0))","v":30},{"$f":"+PROPER(TEXT(Base[[#This Row],[FECHA]],\"MMMM\"))","v":"Noviembre"},{"$f":"+YEAR(Base[[#This Row],[FECHA]])","v":2020},"La Delicia","3 estrellas","Lodge",10,150,{"$f":"Base[[#This Row],[VENTAS POR ALOJAMIENTO DURANTE EL MES DE LA ENCUESTA]]/1000","v":0.15},1,1,0,1,1,0,1,2]
["2020-11-01",{"$f":"DAY(EOMONTH(Base[[#This Row],[FECHA]],0))","v":30},{"$f":"+PROPER(TEXT(Base[[#This Row],[FECHA]],\"MMMM\"))","v":"Noviembre"},{"$f":"+YEAR(Base[[#This Row],[FECHA]])","v":2020},"Eugenio Espejo","3 estrellas","Hostería",23,300,{"$f":"Base[[#This Row],[VENTAS POR ALOJAMIENTO DURANTE EL MES DE LA ENCUESTA]]/1000","v":0.3},9,6,3,9,6,3,9,4]
["2020-11-01",{"$f":"DAY(EOMONTH(Base[[#This Row],[FECHA]],0))","v":30},{"$f":"+PROPER(TEXT(Base[[#This Row],[FECHA]],\"MMMM\"))","v":"Noviembre"},{"$f":"+YEAR(Base[[#This Row],[FECHA]])","v":2020},"Eugenio Espejo","4 estrellas","Hotel",142,null,{"$f":"Base[[#This Row],[VENTAS POR ALOJAMIENTO DURANTE EL MES DE LA ENCUESTA]]/1000","v":0},null,null,null,0,null,null,0,30]
["2020-11-01",{"$f":"DAY(EOMONTH(Base[[#This Row],[FECHA]],0))","v":30},{"$f":"+PROPER(TEXT(Base[[#This Row],[FECHA]],\"MMMM\"))","v":"Noviembre"},{"$f":"+YEAR(Base[[#This Row],[FECHA]])","v":2020},"Eugenio Espejo","4 estrellas","Hotel",26,5000,{"$f":"Base[[#This Row],[VENTAS POR ALOJAMIENTO DURANTE EL MES DE LA ENCUESTA]]/1000","v":5},50,12,42,54,12,42,54,12]
["2020-11-01",{"$f":"DAY(EOMONTH(Base[[#This Row],[FECHA]],0))","v":30},{"$f":"+PROPER(TEXT(Base[[#This Row],[FECHA]],\"MMMM\"))","v":"Noviembre"},{"$f":"+YEAR(Base[[#This Row],[FECHA]])","v":2020},"La Mariscal","4 estrellas","Hotel",100,23450,{"$f":"Base[[#This Row],[VENTAS POR ALOJAMIENTO DURANTE EL MES DE LA ENCUESTA]]/1000","v":23.45},350,501,2,503,595,2,597,38]
["2020-11-01",{"$f":"DAY(EOMONTH(Base[[#This Row],[FECHA]],0))","v":30},{"$f":"+PROPER(TEXT(Base[[#This Row],[FECHA]],\"MMMM\"))","v":"Noviembre"},{"$f":"+YEAR(Base[[#This Row],[FECHA]])","v":2020},"La Mariscal","3 estrellas","Hotel",20,6799,{"$f":"Base[[#This Row],[VENTAS POR ALOJAMIENTO DURANTE EL MES DE LA ENCUESTA]]/1000","v":6.7990000000000004},131,199,0,199,233,0,233,17]
["2020-11-01",{"$f":"DAY(EOMONTH(Base[[#This Row],[FECHA]],0))","v":30},{"$f":"+PROPER(TEXT(Base[[#This Row],[FECHA]],\"MMMM\"))","v":"Noviembre"},{"$f":"+YEAR(Base[[#This Row],[FECHA]])","v":2020},"La Mariscal","4 estrellas","Hotel",141,31366.720000000001,{"$f":"Base[[#This Row],[VENTAS POR ALOJAMIENTO DURANTE EL MES DE LA ENCUESTA]]/1000","v":31.366720000000001},394,276,118,394,276,118,394,20]
["2020-11-01",{"$f":"DAY(EOMONTH(Base[[#This Row],[FECHA]],0))","v":30},{"$f":"+PROPER(TEXT(Base[[#This Row],[FECHA]],\"MMMM\"))","v":"Noviembre"},{"$f":"+YEAR(Base[[#This Row],[FECHA]])","v":2020},"La Mariscal","4 estrellas","Hotel",31,1750,{"$f":"Base[[#This Row],[VENTAS POR ALOJAMIENTO DURANTE EL MES DE LA ENCUESTA]]/1000","v":1.75},35,75,0,75,75,0,75,3]
["2020-11-01",{"$f":"DAY(EOMONTH(Base[[#This Row],[FECHA]],0))","v":30},{"$f":"+PROPER(TEXT(Base[[#This Row],[FECHA]],\"MMMM\"))","v":"Noviembre"},{"$f":"+YEAR(Base[[#This Row],[FECHA]])","v":2020},"Manuela Sáenz","4 estrellas","Hotel",31,15000,{"$f":"Base[[#This Row],[VENTAS POR ALOJAMIENTO DURANTE EL MES DE LA ENCUESTA]]/1000","v":15},79,28,51,79,28,51,79]
["2020-11-01",{"$f":"DAY(EOMONTH(Base[[#This Row],[FECHA]],0))","v":30},{"$f":"+PROPER(TEXT(Base[[#This Row],[FECHA]],\"MMMM\"))","v":"Noviembre"},{"$f":"+YEAR(Base[[#This Row],[FECHA]])","v":2020},"La Delicia","3 estrellas","Hostería",6,800,{"$f":"Base[[#This Row],[VENTAS POR ALOJAMIENTO DURANTE EL MES DE LA ENCUESTA]]/1000","v":0.8},36,18,18,36,18,18,36,3]
["2020-11-01",{"$f":"DAY(EOMONTH(Base[[#This Row],[FECHA]],0))","v":30},{"$f":"+PROPER(TEXT(Base[[#This Row],[FECHA]],\"MMMM\"))","v":"Noviembre"},{"$f":"+YEAR(Base[[#This Row],[FECHA]])","v":2020},"Tumbaco","3 estrellas","Hacienda Turística",20,null,{"$f":"Base[[#This Row],[VENTAS POR ALOJAMIENTO DURANTE EL MES DE LA ENCUESTA]]/1000","v":0},null,null,null,0,null,null,0,1]
["2020-11-01",{"$f":"DAY(EOMONTH(Base[[#This Row],[FECHA]],0))","v":30},{"$f":"+PROPER(TEXT(Base[[#This Row],[FECHA]],\"MMMM\"))","v":"Noviembre"},{"$f":"+YEAR(Base[[#This Row],[FECHA]])","v":2020},"Manuela Sáenz","3 estrellas","Hostal",6,null,{"$f":"Base[[#This Row],[VENTAS POR ALOJAMIENTO DURANTE EL MES DE LA ENCUESTA]]/1000","v":0},null,null,null,0,null,null,0,2]
["2020-11-01",{"$f":"DAY(EOMONTH(Base[[#This Row],[FECHA]],0))","v":30},{"$f":"+PROPER(TEXT(Base[[#This Row],[FECHA]],\"MMMM\"))","v":"Noviembre"},{"$f":"+YEAR(Base[[#This Row],[FECHA]])","v":2020},"La Delicia","3 estrellas","Hostería",12,744,{"$f":"Base[[#This Row],[VENTAS POR ALOJAMIENTO DURANTE EL MES DE LA ENCUESTA]]/1000","v":0.74399999999999999},34,5,3,8,10,28,38,6]
["2020-11-01",{"$f":"DAY(EOMONTH(Base[[#This Row],[FECHA]],0))","v":30},{"$f":"+PROPER(TEXT(Base[[#This Row],[FECHA]],\"MMMM\"))","v":"Noviembre"},{"$f":"+YEAR(Base[[#This Row],[FECHA]])","v":2020},"La Mariscal","4 estrellas","Hotel",55,9882,{"$f":"Base[[#This Row],[VENTAS POR ALOJAMIENTO DURANTE EL MES DE LA ENCUESTA]]/1000","v":9.8819999999999997},192,192,0,192,192,0,192,4]
["2020-11-01",{"$f":"DAY(EOMONTH(Base[[#This Row],[FECHA]],0))","v":30},{"$f":"+PROPER(TEXT(Base[[#This Row],[FECHA]],\"MMMM\"))","v":"Noviembre"},{"$f":"+YEAR(Base[[#This Row],[FECHA]])","v":2020},"Eugenio Espejo","3 estrellas","Hotel",12,5700,{"$f":"Base[[#This Row],[VENTAS POR ALOJAMIENTO DURANTE EL MES DE LA ENCUESTA]]/1000","v":5.7},261,145,38,183,185,76,261,5]
["2020-12-01",{"$f":"DAY(EOMONTH(Base[[#This Row],[FECHA]],0))","v":31},{"$f":"+PROPER(TEXT(Base[[#This Row],[FECHA]],\"MMMM\"))","v":"Diciembre"},{"$f":"+YEAR(Base[[#This Row],[FECHA]])","v":2020},"Eugenio Espejo","3 estrellas","Hostal",9,630,{"$f":"Base[[#This Row],[VENTAS POR ALOJAMIENTO DURANTE EL MES DE LA ENCUESTA]]/1000","v":0.63},9,9,0,9,9,0,9,1]
["2020-12-01",{"$f":"DAY(EOMONTH(Base[[#This Row],[FECHA]],0))","v":31},{"$f":"+PROPER(TEXT(Base[[#This Row],[FECHA]],\"MMMM\"))","v":"Diciembre"},{"$f":"+YEAR(Base[[#This Row],[FECHA]])","v":2020},"La Mariscal","4 estrellas","Hotel",31,4032,{"$f":"Base[[#This Row],[VENTAS POR ALOJAMIENTO DURANTE EL MES DE LA ENCUESTA]]/1000","v":4.032},84,9,170,179,9,170,179,5]
["2020-12-01",{"$f":"DAY(EOMONTH(Base[[#This Row],[FECHA]],0))","v":31},{"$f":"+PROPER(TEXT(Base[[#This Row],[FECHA]],\"MMMM\"))","v":"Diciembre"},{"$f":"+YEAR(Base[[#This Row],[FECHA]])","v":2020},"Tumbaco","5 estrellas","Hostería",45,33594.6,{"$f":"Base[[#This Row],[VENTAS POR ALOJAMIENTO DURANTE EL MES DE LA ENCUESTA]]/1000","v":33.5946},438,418,20,438,418,20,438,25]
["2020-12-01",{"$f":"DAY(EOMONTH(Base[[#This Row],[FECHA]],0))","v":31},{"$f":"+PROPER(TEXT(Base[[#This Row],[FECHA]],\"MMMM\"))","v":"Diciembre"},{"$f":"+YEAR(Base[[#This Row],[FECHA]])","v":2020},"Eugenio Espejo","3 estrellas","Hostería",23,300,{"$f":"Base[[#This Row],[VENTAS POR ALOJAMIENTO DURANTE EL MES DE LA ENCUESTA]]/1000","v":0.3},3,12,0,12,12,0,12,4]
["2020-12-01",{"$f":"DAY(EOMONTH(Base[[#This Row],[FECHA]],0))","v":31},{"$f":"+PROPER(TEXT(Base[[#This Row],[FECHA]],\"MMMM\"))","v":"Diciembre"},{"$f":"+YEAR(Base[[#This Row],[FECHA]])","v":2020},"La Mariscal","3 estrellas","Hotel",17,850,{"$f":"Base[[#This Row],[VENTAS POR ALOJAMIENTO DURANTE EL MES DE LA ENCUESTA]]/1000","v":0.85},40,34,6,40,64,12,76,0]
["2020-12-01",{"$f":"DAY(EOMONTH(Base[[#This Row],[FECHA]],0))","v":31},{"$f":"+PROPER(TEXT(Base[[#This Row],[FECHA]],\"MMMM\"))","v":"Diciembre"},{"$f":"+YEAR(Base[[#This Row],[FECHA]])","v":2020},"Tumbaco","5 estrellas","Hotel",94,56369,{"$f":"Base[[#This Row],[VENTAS POR ALOJAMIENTO DURANTE EL MES DE LA ENCUESTA]]/1000","v":56.369},656,394,394,788,394,394,788,20]
["2020-12-01",{"$f":"DAY(EOMONTH(Base[[#This Row],[FECHA]],0))","v":31},{"$f":"+PROPER(TEXT(Base[[#This Row],[FECHA]],\"MMMM\"))","v":"Diciembre"},{"$f":"+YEAR(Base[[#This Row],[FECHA]])","v":2020},"Eugenio Espejo","3 estrellas","Hotel",151,58000,{"$f":"Base[[#This Row],[VENTAS POR ALOJAMIENTO DURANTE EL MES DE LA ENCUESTA]]/1000","v":58},1300,1200,50,1250,1200,100,1300,22]
["2020-12-01",{"$f":"DAY(EOMONTH(Base[[#This Row],[FECHA]],0))","v":31},{"$f":"+PROPER(TEXT(Base[[#This Row],[FECHA]],\"MMMM\"))","v":"Diciembre"},{"$f":"+YEAR(Base[[#This Row],[FECHA]])","v":2020},"Eugenio Espejo","5 estrellas","Hotel",128,118620,{"$f":"Base[[#This Row],[VENTAS POR ALOJAMIENTO DURANTE EL MES DE LA ENCUESTA]]/1000","v":118.62},1318,462,1146,1608,462,1146,1608,112]
["2020-12-01",{"$f":"DAY(EOMONTH(Base[[#This Row],[FECHA]],0))","v":31},{"$f":"+PROPER(TEXT(Base[[#This Row],[FECHA]],\"MMMM\"))","v":"Diciembre"},{"$f":"+YEAR(Base[[#This Row],[FECHA]])","v":2020},"La Delicia","3 estrellas","Hostería",10,358,{"$f":"Base[[#This Row],[VENTAS POR ALOJAMIENTO DURANTE EL MES DE LA ENCUESTA]]/1000","v":0.35799999999999998},12,3,1,4,3,10,13]
["2020-12-01",{"$f":"DAY(EOMONTH(Base[[#This Row],[FECHA]],0))","v":31},{"$f":"+PROPER(TEXT(Base[[#This Row],[FECHA]],\"MMMM\"))","v":"Diciembre"},{"$f":"+YEAR(Base[[#This Row],[FECHA]])","v":2020},"La Delicia","3 estrellas","Lodge",6,920.54,{"$f":"Base[[#This Row],[VENTAS POR ALOJAMIENTO DURANTE EL MES DE LA ENCUESTA]]/1000","v":0.92053999999999991},9,0,4,4,0,9,9,2]
["2020-12-01",{"$f":"DAY(EOMONTH(Base[[#This Row],[FECHA]],0))","v":31},{"$f":"+PROPER(TEXT(Base[[#This Row],[FECHA]],\"MMMM\"))","v":"Diciembre"},{"$f":"+YEAR(Base[[#This Row],[FECHA]])","v":2020},"La Mariscal","3 estrellas","Hotel",41,1250,{"$f":"Base[[#This Row],[VENTAS POR ALOJAMIENTO DURANTE EL MES DE LA ENCUESTA]]/1000","v":1.25},49,76,0,76,89,0,89,4]
["2020-12-01",{"$f":"DAY(EOMONTH(Base[[#This Row],[FECHA]],0))","v":31},{"$f":"+PROPER(TEXT(Base[[#This Row],[FECHA]],\"MMMM\"))","v":"Diciembre"},{"$f":"+YEAR(Base[[#This Row],[FECHA]])","v":2020},"La Mariscal","5 estrellas","Hotel",124,41317.47,{"$f":"Base[[#This Row],[VENTAS POR ALOJAMIENTO DURANTE EL MES DE LA ENCUESTA]]/1000","v":41.31747},832,200,632,832,200,1017,1217,29]
["2020-12-01",{"$f":"DAY(EOMONTH(Base[[#This Row],[FECHA]],0))","v":31},{"$f":"+PROPER(TEXT(Base[[#This Row],[FECHA]],\"MMMM\"))","v":"Diciembre"},{"$f":"+YEAR(Base[[#This Row],[FECHA]])","v":2020},"La Mariscal","3 estrellas","Hotel",20,13353,{"$f":"Base[[#This Row],[VENTAS POR ALOJAMIENTO DURANTE EL MES DE LA ENCUESTA]]/1000","v":13.353},272,204,0,204,373,0,373,16]
["2020-12-01",{"$f":"DAY(EOMONTH(Base[[#This Row],[FECHA]],0))","v":31},{"$f":"+PROPER(TEXT(Base[[#This Row],[FECHA]],\"MMMM\"))","v":"Diciembre"},{"$f":"+YEAR(Base[[#This Row],[FECHA]])","v":2020},"La Mariscal","4 estrellas","Hotel",55,9800,{"$f":"Base[[#This Row],[VENTAS POR ALOJAMIENTO DURANTE EL MES DE LA ENCUESTA]]/1000","v":9.8000000000000007},192,269,0,269,282,0,282,4]
["2020-12-01",{"$f":"DAY(EOMONTH(Base[[#This Row],[FECHA]],0))","v":31},{"$f":"+PROPER(TEXT(Base[[#This Row],[FECHA]],\"MMMM\"))","v":"Diciembre"},{"$f":"+YEAR(Base[[#This Row],[FECHA]])","v":2020},"Manuela Sáenz","4 estrellas","Hotel",18,null,{"$f":"Base[[#This Row],[VENTAS POR ALOJAMIENTO DURANTE EL MES DE LA ENCUESTA]]/1000","v":0},null,null,null,null,null,null,null,7]
["2020-12-01",{"$f":"DAY(EOMONTH(Base[[#This Row],[FECHA]],0))","v":31},{"$f":"+PROPER(TEXT(Base[[#This Row],[FECHA]],\"MMMM\"))","v":"Diciembre"},{"$f":"+YEAR(Base[[#This Row],[FECHA]])","v":2020},"Tumbaco","3 estrellas","Hacienda Turística",20,null,{"$f":"Base[[#This Row],[VENTAS POR ALOJAMIENTO DURANTE EL MES DE LA ENCUESTA]]/1000","v":0},null,null,null,null,null,null,null,1]
["2020-12-01",{"$f":"DAY(EOMONTH(Base[[#This Row],[FECHA]],0))","v":31},{"$f":"+PROPER(TEXT(Base[[#This Row],[FECHA]],\"MMMM\"))","v":"Diciembre"},{"$f":"+YEAR(Base[[#This Row],[FECHA]])","v":2020},"Manuela Sáenz","3 estrellas","Hostal",6,1800,{"$f":"Base[[#This Row],[VENTAS POR ALOJAMIENTO DURANTE EL MES DE LA ENCUESTA]]/1000","v":1.8},15,0,15,15,0,25,25,2]
["2020-12-01",{"$f":"DAY(EOMONTH(Base[[#This Row],[FECHA]],0))","v":31},{"$f":"+PROPER(TEXT(Base[[#This Row],[FECHA]],\"MMMM\"))","v":"Diciembre"},{"$f":"+YEAR(Base[[#This Row],[FECHA]])","v":2020},"Manuela Sáenz","4 estrellas","Hotel",8,220,{"$f":"Base[[#This Row],[VENTAS POR ALOJAMIENTO DURANTE EL MES DE LA ENCUESTA]]/1000","v":0.22},2,0,2,2,0,2,2]
["2020-12-01",{"$f":"DAY(EOMONTH(Base[[#This Row],[FECHA]],0))","v":31},{"$f":"+PROPER(TEXT(Base[[#This Row],[FECHA]],\"MMMM\"))","v":"Diciembre"},{"$f":"+YEAR(Base[[#This Row],[FECHA]])","v":2020},"Tumbaco","5 estrellas","Lodge",8,13700,{"$f":"Base[[#This Row],[VENTAS POR ALOJAMIENTO DURANTE EL MES DE LA ENCUESTA]]/1000","v":13.7},43,69,7,76,69,7,76,6]
["2020-12-01",{"$f":"DAY(EOMONTH(Base[[#This Row],[FECHA]],0))","v":31},{"$f":"+PROPER(TEXT(Base[[#This Row],[FECHA]],\"MMMM\"))","v":"Diciembre"},{"$f":"+YEAR(Base[[#This Row],[FECHA]])","v":2020},"La Mariscal","3 estrellas","Hotel",20,2000,{"$f":"Base[[#This Row],[VENTAS POR ALOJAMIENTO DURANTE EL MES DE LA ENCUESTA]]/1000","v":2},5,3,5,8,3,5,8,8]
["2020-12-01",{"$f":"DAY(EOMONTH(Base[[#This Row],[FECHA]],0))","v":31},{"$f":"+PROPER(TEXT(Base[[#This Row],[FECHA]],\"MMMM\"))","v":"Diciembre"},{"$f":"+YEAR(Base[[#This Row],[FECHA]])","v":2020},"La Mariscal","3 estrellas","Hostal",22,null,{"$f":"Base[[#This Row],[VENTAS POR ALOJAMIENTO DURANTE EL MES DE LA ENCUESTA]]/1000","v":0},null,null,null,null,null,null,null,2]
["2020-12-01",{"$f":"DAY(EOMONTH(Base[[#This Row],[FECHA]],0))","v":31},{"$f":"+PROPER(TEXT(Base[[#This Row],[FECHA]],\"MMMM\"))","v":"Diciembre"},{"$f":"+YEAR(Base[[#This Row],[FECHA]])","v":2020},"Eugenio Espejo","3 estrellas","Hotel",60,9804.31,{"$f":"Base[[#This Row],[VENTAS POR ALOJAMIENTO DURANTE EL MES DE LA ENCUESTA]]/1000","v":9.8043099999999992},195,165,9,174,197,18,215,13]
["2020-12-01",{"$f":"DAY(EOMONTH(Base[[#This Row],[FECHA]],0))","v":31},{"$f":"+PROPER(TEXT(Base[[#This Row],[FECHA]],\"MMMM\"))","v":"Diciembre"},{"$f":"+YEAR(Base[[#This Row],[FECHA]])","v":2020},"Los Chillos","4 estrellas","Hostería",13,2580,{"$f":"Base[[#This Row],[VENTAS POR ALOJAMIENTO DURANTE EL MES DE LA ENCUESTA]]/1000","v":2.58},38,71,2,73,71,2,73,4]
["2020-12-01",{"$f":"DAY(EOMONTH(Base[[#This Row],[FECHA]],0))","v":31},{"$f":"+PROPER(TEXT(Base[[#This Row],[FECHA]],\"MMMM\"))","v":"Diciembre"},{"$f":"+YEAR(Base[[#This Row],[FECHA]])","v":2020},"Manuela Sáenz","4 estrellas","Hotel",22,null,{"$f":"Base[[#This Row],[VENTAS POR ALOJAMIENTO DURANTE EL MES DE LA ENCUESTA]]/1000","v":0},null,null,null,null,null,null,null,5]
["2020-12-01",{"$f":"DAY(EOMONTH(Base[[#This Row],[FECHA]],0))","v":31},{"$f":"+PROPER(TEXT(Base[[#This Row],[FECHA]],\"MMMM\"))","v":"Diciembre"},{"$f":"+YEAR(Base[[#This Row],[FECHA]])","v":2020},"La Mariscal","4 estrellas","Hotel",141,30052.959999999999,{"$f":"Base[[#This Row],[VENTAS POR ALOJAMIENTO DURANTE EL MES DE LA ENCUESTA]]/1000","v":30.052959999999999},388,271,117,388,271,117,388,20]
["2021-01-01",{"$f":"DAY(EOMONTH(Base[[#This Row],[FECHA]],0))","v":31},{"$f":"+PROPER(TEXT(Base[[#This Row],[FECHA]],\"MMMM\"))","v":"Enero"},{"$f":"+YEAR(Base[[#This Row],[FECHA]])","v":2021},"La Mariscal","3 estrellas","Hotel",20,1800,{"$f":"Base[[#This Row],[VENTAS POR ALOJAMIENTO DURANTE EL MES DE LA ENCUESTA]]/1000","v":1.8},58,51,0,51,65,0,65,6]
["2021-01-01",{"$f":"DAY(EOMONTH(Base[[#This Row],[FECHA]],0))","v":31},{"$f":"+PROPER(TEXT(Base[[#This Row],[FECHA]],\"MMMM\"))","v":"Enero"},{"$f":"+YEAR(Base[[#This Row],[FECHA]])","v":2021},"Manuela Sáenz","4 estrellas","Hotel",18,null,{"$f":"Base[[#This Row],[VENTAS POR ALOJAMIENTO DURANTE EL MES DE LA ENCUESTA]]/1000","v":0},null,null,null,0,null,null,0,4]
["2021-01-01",{"$f":"DAY(EOMONTH(Base[[#This Row],[FECHA]],0))","v":31},{"$f":"+PROPER(TEXT(Base[[#This Row],[FECHA]],\"MMMM\"))","v":"Enero"},{"$f":"+YEAR(Base[[#This Row],[FECHA]])","v":2021},"La Mariscal","5 estrellas","Hotel",144,29054,{"$f":"Base[[#This Row],[VENTAS POR ALOJAMIENTO DURANTE EL MES DE LA ENCUESTA]]/1000","v":29.053999999999998},393,151,175,326,205,387,592,0]
["2021-01-01",{"$f":"DAY(EOMONTH(Base[[#This Row],[FECHA]],0))","v":31},{"$f":"+PROPER(TEXT(Base[[#This Row],[FECHA]],\"MMMM\"))","v":"Enero"},{"$f":"+YEAR(Base[[#This Row],[FECHA]])","v":2021},"Eugenio Espejo","5 estrellas","Hotel",128,157472,{"$f":"Base[[#This Row],[VENTAS POR ALOJAMIENTO DURANTE EL MES DE LA ENCUESTA]]/1000","v":157.47200000000001},1406,502,1101,1603,502,1101,1603,110]
["2021-01-01",{"$f":"DAY(EOMONTH(Base[[#This Row],[FECHA]],0))","v":31},{"$f":"+PROPER(TEXT(Base[[#This Row],[FECHA]],\"MMMM\"))","v":"Enero"},{"$f":"+YEAR(Base[[#This Row],[FECHA]])","v":2021},"Eugenio Espejo","3 estrellas","Hotel",60,4127.2,{"$f":"Base[[#This Row],[VENTAS POR ALOJAMIENTO DURANTE EL MES DE LA ENCUESTA]]/1000","v":4.1272000000000002},97,132,8,140,132,8,140,12]
["2021-01-01",{"$f":"DAY(EOMONTH(Base[[#This Row],[FECHA]],0))","v":31},{"$f":"+PROPER(TEXT(Base[[#This Row],[FECHA]],\"MMMM\"))","v":"Enero"},{"$f":"+YEAR(Base[[#This Row],[FECHA]])","v":2021},"La Delicia","3 estrellas","Lodge",6,1800,{"$f":"Base[[#This Row],[VENTAS POR ALOJAMIENTO DURANTE EL MES DE LA ENCUESTA]]/1000","v":1.8},10,2,5,7,5,5,10,1]
["2021-01-01",{"$f":"DAY(EOMONTH(Base[[#This Row],[FECHA]],0))","v":31},{"$f":"+PROPER(TEXT(Base[[#This Row],[FECHA]],\"MMMM\"))","v":"Enero"},{"$f":"+YEAR(Base[[#This Row],[FECHA]])","v":2021},"Eugenio Espejo","3 estrellas","Hostería",23,300,{"$f":"Base[[#This Row],[VENTAS POR ALOJAMIENTO DURANTE EL MES DE LA ENCUESTA]]/1000","v":0.3},3,6,0,6,6,0,6,4]
["2021-01-01",{"$f":"DAY(EOMONTH(Base[[#This Row],[FECHA]],0))","v":31},{"$f":"+PROPER(TEXT(Base[[#This Row],[FECHA]],\"MMMM\"))","v":"Enero"},{"$f":"+YEAR(Base[[#This Row],[FECHA]])","v":2021},"La Mariscal","4 estrellas","Hotel",100,31500,{"$f":"Base[[#This Row],[VENTAS POR ALOJAMIENTO DURANTE EL MES DE LA ENCUESTA]]/1000","v":31.5},450,450,70,520,450,70,520,36]
["2021-01-01",{"$f":"DAY(EOMONTH(Base[[#This Row],[FECHA]],0))","v":31},{"$f":"+PROPER(TEXT(Base[[#This Row],[FECHA]],\"MMMM\"))","v":"Enero"},{"$f":"+YEAR(Base[[#This Row],[FECHA]])","v":2021},"La Mariscal","3 estrellas","Hotel",20,12367,{"$f":"Base[[#This Row],[VENTAS POR ALOJAMIENTO DURANTE EL MES DE LA ENCUESTA]]/1000","v":12.367000000000001},104,111,3,114,165,7,172,16]
["2021-01-01",{"$f":"DAY(EOMONTH(Base[[#This Row],[FECHA]],0))","v":31},{"$f":"+PROPER(TEXT(Base[[#This Row],[FECHA]],\"MMMM\"))","v":"Enero"},{"$f":"+YEAR(Base[[#This Row],[FECHA]])","v":2021},"La Mariscal","3 estrellas","Hotel",20,1300,{"$f":"Base[[#This Row],[VENTAS POR ALOJAMIENTO DURANTE EL MES DE LA ENCUESTA]]/1000","v":1.3},9,3,0,3,9,0,9,5]
["2021-01-01",{"$f":"DAY(EOMONTH(Base[[#This Row],[FECHA]],0))","v":31},{"$f":"+PROPER(TEXT(Base[[#This Row],[FECHA]],\"MMMM\"))","v":"Enero"},{"$f":"+YEAR(Base[[#This Row],[FECHA]])","v":2021},"La Mariscal","4 estrellas","Hotel",141,35789,{"$f":"Base[[#This Row],[VENTAS POR ALOJAMIENTO DURANTE EL MES DE LA ENCUESTA]]/1000","v":35.789000000000001},450,225,225,450,225,225,450,20]
["2021-01-01",{"$f":"DAY(EOMONTH(Base[[#This Row],[FECHA]],0))","v":31},{"$f":"+PROPER(TEXT(Base[[#This Row],[FECHA]],\"MMMM\"))","v":"Enero"},{"$f":"+YEAR(Base[[#This Row],[FECHA]])","v":2021},"Manuela Sáenz","4 estrellas","Hotel",32,null,{"$f":"Base[[#This Row],[VENTAS POR ALOJAMIENTO DURANTE EL MES DE LA ENCUESTA]]/1000","v":0},null,null,null,0,null,null,0,3]
["2021-01-01",{"$f":"DAY(EOMONTH(Base[[#This Row],[FECHA]],0))","v":31},{"$f":"+PROPER(TEXT(Base[[#This Row],[FECHA]],\"MMMM\"))","v":"Enero"},{"$f":"+YEAR(Base[[#This Row],[FECHA]])","v":2021},"La Mariscal","4 estrellas","Hotel",44,7366,{"$f":"Base[[#This Row],[VENTAS POR ALOJAMIENTO DURANTE EL MES DE LA ENCUESTA]]/1000","v":7.3659999999999997},142,2,131,133,4,280,284,6]
["2021-01-01",{"$f":"DAY(EOMONTH(Base[[#This Row],[FECHA]],0))","v":31},{"$f":"+PROPER(TEXT(Base[[#This Row],[FECHA]],\"MMMM\"))","v":"Enero"},{"$f":"+YEAR(Base[[#This Row],[FECHA]])","v":2021},"Manuela Sáenz","3 estrellas","Hotel",14,450,{"$f":"Base[[#This Row],[VENTAS POR ALOJAMIENTO DURANTE EL MES DE LA ENCUESTA]]/1000","v":0.45},3,0,4,4,0,4,4,2]
["2021-01-01",{"$f":"DAY(EOMONTH(Base[[#This Row],[FECHA]],0))","v":31},{"$f":"+PROPER(TEXT(Base[[#This Row],[FECHA]],\"MMMM\"))","v":"Enero"},{"$f":"+YEAR(Base[[#This Row],[FECHA]])","v":2021},"Eugenio Espejo","3 estrellas","Hotel",35,null,{"$f":"Base[[#This Row],[VENTAS POR ALOJAMIENTO DURANTE EL MES DE LA ENCUESTA]]/1000","v":0},null,null,null,0,null,null,0,1]
["2021-01-01",{"$f":"DAY(EOMONTH(Base[[#This Row],[FECHA]],0))","v":31},{"$f":"+PROPER(TEXT(Base[[#This Row],[FECHA]],\"MMMM\"))","v":"Enero"},{"$f":"+YEAR(Base[[#This Row],[FECHA]])","v":2021},"Los Chillos","4 estrellas","Hostería",13,1600,{"$f":"Base[[#This Row],[VENTAS POR ALOJAMIENTO DURANTE EL MES DE LA ENCUESTA]]/1000","v":1.6},32,62,2,64,62,2,64,4]
["2021-01-01",{"$f":"DAY(EOMONTH(Base[[#This Row],[FECHA]],0))","v":31},{"$f":"+PROPER(TEXT(Base[[#This Row],[FECHA]],\"MMMM\"))","v":"Enero"},{"$f":"+YEAR(Base[[#This Row],[FECHA]])","v":2021},"Tumbaco","3 estrellas","Hacienda Turística",20,null,{"$f":"Base[[#This Row],[VENTAS POR ALOJAMIENTO DURANTE EL MES DE LA ENCUESTA]]/1000","v":0},null,null,null,0,null,null,0,1]
["2021-01-01",{"$f":"DAY(EOMONTH(Base[[#This Row],[FECHA]],0))","v":31},{"$f":"+PROPER(TEXT(Base[[#This Row],[FECHA]],\"MMMM\"))","v":"Enero"},{"$f":"+YEAR(Base[[#This Row],[FECHA]])","v":2021},"Manuela Sáenz","3 estrellas","Hostal",6,1400,{"$f":"Base[[#This Row],[VENTAS POR ALOJAMIENTO DURANTE EL MES DE LA ENCUESTA]]/1000","v":1.4},11,0,6,6,0,13,13,2]
["2021-01-01",{"$f":"DAY(EOMONTH(Base[[#This Row],[FECHA]],0))","v":31},{"$f":"+PROPER(TEXT(Base[[#This Row],[FECHA]],\"MMMM\"))","v":"Enero"},{"$f":"+YEAR(Base[[#This Row],[FECHA]])","v":2021},"La Delicia","3 estrellas","Hostería",9,686,{"$f":"Base[[#This Row],[VENTAS POR ALOJAMIENTO DURANTE EL MES DE LA ENCUESTA]]/1000","v":0.68600000000000005},11,8,1,9,8,7,15,9]
["2021-01-01",{"$f":"DAY(EOMONTH(Base[[#This Row],[FECHA]],0))","v":31},{"$f":"+PROPER(TEXT(Base[[#This Row],[FECHA]],\"MMMM\"))","v":"Enero"},{"$f":"+YEAR(Base[[#This Row],[FECHA]])","v":2021},"Eugenio Espejo","3 estrellas","Hostal",9,null,{"$f":"Base[[#This Row],[VENTAS POR ALOJAMIENTO DURANTE EL MES DE LA ENCUESTA]]/1000","v":0},null,null,null,0,null,null,0,1]
["2021-01-01",{"$f":"DAY(EOMONTH(Base[[#This Row],[FECHA]],0))","v":31},{"$f":"+PROPER(TEXT(Base[[#This Row],[FECHA]],\"MMMM\"))","v":"Enero"},{"$f":"+YEAR(Base[[#This Row],[FECHA]])","v":2021},"Tumbaco","5 estrellas","Lodge",7,4232,{"$f":"Base[[#This Row],[VENTAS POR ALOJAMIENTO DURANTE EL MES DE LA ENCUESTA]]/1000","v":4.2320000000000002},32,46,20,66,49,25,74,7]
["2021-01-01",{"$f":"DAY(EOMONTH(Base[[#This Row],[FECHA]],0))","v":31},{"$f":"+PROPER(TEXT(Base[[#This Row],[FECHA]],\"MMMM\"))","v":"Enero"},{"$f":"+YEAR(Base[[#This Row],[FECHA]])","v":2021},"La Mariscal","3 estrellas","Hostal",22,null,{"$f":"Base[[#This Row],[VENTAS POR ALOJAMIENTO DURANTE EL MES DE LA ENCUESTA]]/1000","v":0},null,null,null,0,null,null,0,2]
["2021-01-01",{"$f":"DAY(EOMONTH(Base[[#This Row],[FECHA]],0))","v":31},{"$f":"+PROPER(TEXT(Base[[#This Row],[FECHA]],\"MMMM\"))","v":"Enero"},{"$f":"+YEAR(Base[[#This Row],[FECHA]])","v":2021},"Los Chillos","3 estrellas","Hostería",13,null,{"$f":"Base[[#This Row],[VENTAS POR ALOJAMIENTO DURANTE EL MES DE LA ENCUESTA]]/1000","v":0},null,null,null,0,null,null,0,0]
["2021-01-01",{"$f":"DAY(EOMONTH(Base[[#This Row],[FECHA]],0))","v":31},{"$f":"+PROPER(TEXT(Base[[#This Row],[FECHA]],\"MMMM\"))","v":"Enero"},{"$f":"+YEAR(Base[[#This Row],[FECHA]])","v":2021},"Los Chillos","4 estrellas","Hacienda Turística",6,null,{"$f":"Base[[#This Row],[VENTAS POR ALOJAMIENTO DURANTE EL MES DE LA ENCUESTA]]/1000","v":0},null,null,null,0,null,null,0,2]
["2021-01-01",{"$f":"DAY(EOMONTH(Base[[#This Row],[FECHA]],0))","v":31},{"$f":"+PROPER(TEXT(Base[[#This Row],[FECHA]],\"MMMM\"))","v":"Enero"},{"$f":"+YEAR(Base[[#This Row],[FECHA]])","v":2021},"La Mariscal","3 estrellas","Hotel",17,2000,{"$f":"Base[[#This Row],[VENTAS POR ALOJAMIENTO DURANTE EL MES DE LA ENCUESTA]]/1000","v":2},100,100,0,100,100,0,100,0]
["2021-01-01",{"$f":"DAY(EOMONTH(Base[[#This Row],[FECHA]],0))","v":31},{"$f":"+PROPER(TEXT(Base[[#This Row],[FECHA]],\"MMMM\"))","v":"Enero"},{"$f":"+YEAR(Base[[#This Row],[FECHA]])","v":2021},"La Mariscal","3 estrellas","Hotel",15,140,{"$f":"Base[[#This Row],[VENTAS POR ALOJAMIENTO DURANTE EL MES DE LA ENCUESTA]]/1000","v":0.14000000000000001},4,0,4,4,4,0,4,7]
["2021-01-01",{"$f":"DAY(EOMONTH(Base[[#This Row],[FECHA]],0))","v":31},{"$f":"+PROPER(TEXT(Base[[#This Row],[FECHA]],\"MMMM\"))","v":"Enero"},{"$f":"+YEAR(Base[[#This Row],[FECHA]])","v":2021},"La Mariscal","4 estrellas","Hotel",55,8000,{"$f":"Base[[#This Row],[VENTAS POR ALOJAMIENTO DURANTE EL MES DE LA ENCUESTA]]/1000","v":8},168,150,18,168,150,18,168,14]
["2021-01-01",{"$f":"DAY(EOMONTH(Base[[#This Row],[FECHA]],0))","v":31},{"$f":"+PROPER(TEXT(Base[[#This Row],[FECHA]],\"MMMM\"))","v":"Enero"},{"$f":"+YEAR(Base[[#This Row],[FECHA]])","v":2021},"Manuela Sáenz","4 estrellas","Hotel",8,86,{"$f":"Base[[#This Row],[VENTAS POR ALOJAMIENTO DURANTE EL MES DE LA ENCUESTA]]/1000","v":8.5999999999999993E-2},1,1,1,2,1,1,2,1]
["2021-02-01",{"$f":"DAY(EOMONTH(Base[[#This Row],[FECHA]],0))","v":28},{"$f":"+PROPER(TEXT(Base[[#This Row],[FECHA]],\"MMMM\"))","v":"Febrero"},{"$f":"+YEAR(Base[[#This Row],[FECHA]])","v":2021},"Manuela Sáenz","4 estrellas","Hotel",18,null,{"$f":"Base[[#This Row],[VENTAS POR ALOJAMIENTO DURANTE EL MES DE LA ENCUESTA]]/1000","v":0},null,null,null,0,null,null,0,4]
["2021-02-01",{"$f":"DAY(EOMONTH(Base[[#This Row],[FECHA]],0))","v":28},{"$f":"+PROPER(TEXT(Base[[#This Row],[FECHA]],\"MMMM\"))","v":"Febrero"},{"$f":"+YEAR(Base[[#This Row],[FECHA]])","v":2021},"La Mariscal","3 estrellas","Hotel",20,3210,{"$f":"Base[[#This Row],[VENTAS POR ALOJAMIENTO DURANTE EL MES DE LA ENCUESTA]]/1000","v":3.21},106,89,9,98,97,14,111,5]
["2021-02-01",{"$f":"DAY(EOMONTH(Base[[#This Row],[FECHA]],0))","v":28},{"$f":"+PROPER(TEXT(Base[[#This Row],[FECHA]],\"MMMM\"))","v":"Febrero"},{"$f":"+YEAR(Base[[#This Row],[FECHA]])","v":2021},"Eugenio Espejo","4 estrellas","Hotel",60,15328.62,{"$f":"Base[[#This Row],[VENTAS POR ALOJAMIENTO DURANTE EL MES DE LA ENCUESTA]]/1000","v":15.328620000000001},264,136,21,157,202,62,264,0]
["2021-02-01",{"$f":"DAY(EOMONTH(Base[[#This Row],[FECHA]],0))","v":28},{"$f":"+PROPER(TEXT(Base[[#This Row],[FECHA]],\"MMMM\"))","v":"Febrero"},{"$f":"+YEAR(Base[[#This Row],[FECHA]])","v":2021},"Eugenio Espejo","5 estrellas","Hotel",128,83340,{"$f":"Base[[#This Row],[VENTAS POR ALOJAMIENTO DURANTE EL MES DE LA ENCUESTA]]/1000","v":83.34},926,548,678,1226,548,678,1226,110]
["2021-02-01",{"$f":"DAY(EOMONTH(Base[[#This Row],[FECHA]],0))","v":28},{"$f":"+PROPER(TEXT(Base[[#This Row],[FECHA]],\"MMMM\"))","v":"Febrero"},{"$f":"+YEAR(Base[[#This Row],[FECHA]])","v":2021},"Eugenio Espejo","3 estrellas","Hotel",60,4871.18,{"$f":"Base[[#This Row],[VENTAS POR ALOJAMIENTO DURANTE EL MES DE LA ENCUESTA]]/1000","v":4.8711800000000007},111,118,21,139,170,21,191,13]
["2021-02-01",{"$f":"DAY(EOMONTH(Base[[#This Row],[FECHA]],0))","v":28},{"$f":"+PROPER(TEXT(Base[[#This Row],[FECHA]],\"MMMM\"))","v":"Febrero"},{"$f":"+YEAR(Base[[#This Row],[FECHA]])","v":2021},"La Delicia","3 estrellas","Lodge",6,1362,{"$f":"Base[[#This Row],[VENTAS POR ALOJAMIENTO DURANTE EL MES DE LA ENCUESTA]]/1000","v":1.3620000000000001},5,5,2,7,5,3,8,5]
["2021-02-01",{"$f":"DAY(EOMONTH(Base[[#This Row],[FECHA]],0))","v":28},{"$f":"+PROPER(TEXT(Base[[#This Row],[FECHA]],\"MMMM\"))","v":"Febrero"},{"$f":"+YEAR(Base[[#This Row],[FECHA]])","v":2021},"Eugenio Espejo","3 estrellas","Hostería",23,500,{"$f":"Base[[#This Row],[VENTAS POR ALOJAMIENTO DURANTE EL MES DE LA ENCUESTA]]/1000","v":0.5},4,2,5,7,2,5,7,4]
["2021-02-01",{"$f":"DAY(EOMONTH(Base[[#This Row],[FECHA]],0))","v":28},{"$f":"+PROPER(TEXT(Base[[#This Row],[FECHA]],\"MMMM\"))","v":"Febrero"},{"$f":"+YEAR(Base[[#This Row],[FECHA]])","v":2021},"Tumbaco","4 estrellas","Hotel",78,30185.599999999999,{"$f":"Base[[#This Row],[VENTAS POR ALOJAMIENTO DURANTE EL MES DE LA ENCUESTA]]/1000","v":30.185599999999997},370,278,154,432,278,154,432,44]
["2021-02-01",{"$f":"DAY(EOMONTH(Base[[#This Row],[FECHA]],0))","v":28},{"$f":"+PROPER(TEXT(Base[[#This Row],[FECHA]],\"MMMM\"))","v":"Febrero"},{"$f":"+YEAR(Base[[#This Row],[FECHA]])","v":2021},"Eugenio Espejo","3 estrellas","Hostal",25,3139.41,{"$f":"Base[[#This Row],[VENTAS POR ALOJAMIENTO DURANTE EL MES DE LA ENCUESTA]]/1000","v":3.1394099999999998},28,28,0,28,28,0,28,1]
["2021-02-01",{"$f":"DAY(EOMONTH(Base[[#This Row],[FECHA]],0))","v":28},{"$f":"+PROPER(TEXT(Base[[#This Row],[FECHA]],\"MMMM\"))","v":"Febrero"},{"$f":"+YEAR(Base[[#This Row],[FECHA]])","v":2021},"Eugenio Espejo","4 estrellas","Hotel",24,2000,{"$f":"Base[[#This Row],[VENTAS POR ALOJAMIENTO DURANTE EL MES DE LA ENCUESTA]]/1000","v":2},22,15,7,22,15,7,22,12]
["2021-02-01",{"$f":"DAY(EOMONTH(Base[[#This Row],[FECHA]],0))","v":28},{"$f":"+PROPER(TEXT(Base[[#This Row],[FECHA]],\"MMMM\"))","v":"Febrero"},{"$f":"+YEAR(Base[[#This Row],[FECHA]])","v":2021},"La Mariscal","4 estrellas","Hotel",100,40600,{"$f":"Base[[#This Row],[VENTAS POR ALOJAMIENTO DURANTE EL MES DE LA ENCUESTA]]/1000","v":40.6},580,798,97,895,798,620,1418,35]
["2021-02-01",{"$f":"DAY(EOMONTH(Base[[#This Row],[FECHA]],0))","v":28},{"$f":"+PROPER(TEXT(Base[[#This Row],[FECHA]],\"MMMM\"))","v":"Febrero"},{"$f":"+YEAR(Base[[#This Row],[FECHA]])","v":2021},"Eugenio Espejo","4 estrellas","Hotel",90,64538.48,{"$f":"Base[[#This Row],[VENTAS POR ALOJAMIENTO DURANTE EL MES DE LA ENCUESTA]]/1000","v":64.538480000000007},1076,1509,168,1677,1509,168,1677,35]
["2021-02-01",{"$f":"DAY(EOMONTH(Base[[#This Row],[FECHA]],0))","v":28},{"$f":"+PROPER(TEXT(Base[[#This Row],[FECHA]],\"MMMM\"))","v":"Febrero"},{"$f":"+YEAR(Base[[#This Row],[FECHA]])","v":2021},"La Mariscal","3 estrellas","Hotel",15,null,{"$f":"Base[[#This Row],[VENTAS POR ALOJAMIENTO DURANTE EL MES DE LA ENCUESTA]]/1000","v":0},null,null,null,0,null,null,0,0]
["2021-02-01",{"$f":"DAY(EOMONTH(Base[[#This Row],[FECHA]],0))","v":28},{"$f":"+PROPER(TEXT(Base[[#This Row],[FECHA]],\"MMMM\"))","v":"Febrero"},{"$f":"+YEAR(Base[[#This Row],[FECHA]])","v":2021},"La Mariscal","4 estrellas","Hotel",141,39696.160000000003,{"$f":"Base[[#This Row],[VENTAS POR ALOJAMIENTO DURANTE EL MES DE LA ENCUESTA]]/1000","v":39.696160000000006},494,326,168,494,326,168,494,20]
["2021-02-01",{"$f":"DAY(EOMONTH(Base[[#This Row],[FECHA]],0))","v":28},{"$f":"+PROPER(TEXT(Base[[#This Row],[FECHA]],\"MMMM\"))","v":"Febrero"},{"$f":"+YEAR(Base[[#This Row],[FECHA]])","v":2021},"La Mariscal","4 estrellas","Hotel",44,2500,{"$f":"Base[[#This Row],[VENTAS POR ALOJAMIENTO DURANTE EL MES DE LA ENCUESTA]]/1000","v":2.5},44,0,80,80,0,80,80,8]
["2021-02-01",{"$f":"DAY(EOMONTH(Base[[#This Row],[FECHA]],0))","v":28},{"$f":"+PROPER(TEXT(Base[[#This Row],[FECHA]],\"MMMM\"))","v":"Febrero"},{"$f":"+YEAR(Base[[#This Row],[FECHA]])","v":2021},"Los Chillos","4 estrellas","Hostería",14,2344.08,{"$f":"Base[[#This Row],[VENTAS POR ALOJAMIENTO DURANTE EL MES DE LA ENCUESTA]]/1000","v":2.3440799999999999},35,72,10,82,72,10,82,4]
["2021-02-01",{"$f":"DAY(EOMONTH(Base[[#This Row],[FECHA]],0))","v":28},{"$f":"+PROPER(TEXT(Base[[#This Row],[FECHA]],\"MMMM\"))","v":"Febrero"},{"$f":"+YEAR(Base[[#This Row],[FECHA]])","v":2021},"La Delicia","3 estrellas","Hostería",8,1744.84,{"$f":"Base[[#This Row],[VENTAS POR ALOJAMIENTO DURANTE EL MES DE LA ENCUESTA]]/1000","v":1.7448399999999999},19,38,0,38,38,0,38,7]
["2021-02-01",{"$f":"DAY(EOMONTH(Base[[#This Row],[FECHA]],0))","v":28},{"$f":"+PROPER(TEXT(Base[[#This Row],[FECHA]],\"MMMM\"))","v":"Febrero"},{"$f":"+YEAR(Base[[#This Row],[FECHA]])","v":2021},"Tumbaco","3 estrellas","Hacienda Turística",20,null,{"$f":"Base[[#This Row],[VENTAS POR ALOJAMIENTO DURANTE EL MES DE LA ENCUESTA]]/1000","v":0},null,null,null,0,null,null,0,1]
["2021-02-01",{"$f":"DAY(EOMONTH(Base[[#This Row],[FECHA]],0))","v":28},{"$f":"+PROPER(TEXT(Base[[#This Row],[FECHA]],\"MMMM\"))","v":"Febrero"},{"$f":"+YEAR(Base[[#This Row],[FECHA]])","v":2021},"Manuela Sáenz","3 estrellas","Hostal",20,1200,{"$f":"Base[[#This Row],[VENTAS POR ALOJAMIENTO DURANTE EL MES DE LA ENCUESTA]]/1000","v":1.2},30,3,0,3,30,0,30,6]
["2021-02-01",{"$f":"DAY(EOMONTH(Base[[#This Row],[FECHA]],0))","v":28},{"$f":"+PROPER(TEXT(Base[[#This Row],[FECHA]],\"MMMM\"))","v":"Febrero"},{"$f":"+YEAR(Base[[#This Row],[FECHA]])","v":2021},"Manuela Sáenz","3 estrellas","Hostal",6,800,{"$f":"Base[[#This Row],[VENTAS POR ALOJAMIENTO DURANTE EL MES DE LA ENCUESTA]]/1000","v":0.8},6,0,6,6,0,8,8,2]
["2021-02-01",{"$f":"DAY(EOMONTH(Base[[#This Row],[FECHA]],0))","v":28},{"$f":"+PROPER(TEXT(Base[[#This Row],[FECHA]],\"MMMM\"))","v":"Febrero"},{"$f":"+YEAR(Base[[#This Row],[FECHA]])","v":2021},"La Delicia","3 estrellas","Hostería",12,28,{"$f":"Base[[#This Row],[VENTAS POR ALOJAMIENTO DURANTE EL MES DE LA ENCUESTA]]/1000","v":2.8000000000000001E-2},1,1,0,1,1,0,1,8]
["2021-02-01",{"$f":"DAY(EOMONTH(Base[[#This Row],[FECHA]],0))","v":28},{"$f":"+PROPER(TEXT(Base[[#This Row],[FECHA]],\"MMMM\"))","v":"Febrero"},{"$f":"+YEAR(Base[[#This Row],[FECHA]])","v":2021},"Tumbaco","5 estrellas","Lodge",7,4788,{"$f":"Base[[#This Row],[VENTAS POR ALOJAMIENTO DURANTE EL MES DE LA ENCUESTA]]/1000","v":4.7880000000000003},33,82,0,82,91,0,91,9]
["2021-02-01",{"$f":"DAY(EOMONTH(Base[[#This Row],[FECHA]],0))","v":28},{"$f":"+PROPER(TEXT(Base[[#This Row],[FECHA]],\"MMMM\"))","v":"Febrero"},{"$f":"+YEAR(Base[[#This Row],[FECHA]])","v":2021},"La Mariscal","3 estrellas","Hostal",22,null,{"$f":"Base[[#This Row],[VENTAS POR ALOJAMIENTO DURANTE EL MES DE LA ENCUESTA]]/1000","v":0},null,null,null,0,null,null,0,2]
["2021-02-01",{"$f":"DAY(EOMONTH(Base[[#This Row],[FECHA]],0))","v":28},{"$f":"+PROPER(TEXT(Base[[#This Row],[FECHA]],\"MMMM\"))","v":"Febrero"},{"$f":"+YEAR(Base[[#This Row],[FECHA]])","v":2021},"Los Chillos","4 estrellas","Hacienda Turística",6,168,{"$f":"Base[[#This Row],[VENTAS POR ALOJAMIENTO DURANTE EL MES DE LA ENCUESTA]]/1000","v":0.16800000000000001},6,1,0,1,6,0,6,2]
["2021-02-01",{"$f":"DAY(EOMONTH(Base[[#This Row],[FECHA]],0))","v":28},{"$f":"+PROPER(TEXT(Base[[#This Row],[FECHA]],\"MMMM\"))","v":"Febrero"},{"$f":"+YEAR(Base[[#This Row],[FECHA]])","v":2021},"La Mariscal","4 estrellas","Hotel",55,6600,{"$f":"Base[[#This Row],[VENTAS POR ALOJAMIENTO DURANTE EL MES DE LA ENCUESTA]]/1000","v":6.6},83,83,0,83,83,0,83,16]
["2021-02-01",{"$f":"DAY(EOMONTH(Base[[#This Row],[FECHA]],0))","v":28},{"$f":"+PROPER(TEXT(Base[[#This Row],[FECHA]],\"MMMM\"))","v":"Febrero"},{"$f":"+YEAR(Base[[#This Row],[FECHA]])","v":2021},"Eugenio Espejo","3 estrellas","Hotel",12,7880,{"$f":"Base[[#This Row],[VENTAS POR ALOJAMIENTO DURANTE EL MES DE LA ENCUESTA]]/1000","v":7.88},197,120,35,155,142,55,197,5]
["2021-03-01",{"$f":"DAY(EOMONTH(Base[[#This Row],[FECHA]],0))","v":31},{"$f":"+PROPER(TEXT(Base[[#This Row],[FECHA]],\"MMMM\"))","v":"Marzo"},{"$f":"+YEAR(Base[[#This Row],[FECHA]])","v":2021},"La Delicia","5 estrellas","Lodge",24,93000,{"$f":"Base[[#This Row],[VENTAS POR ALOJAMIENTO DURANTE EL MES DE LA ENCUESTA]]/1000","v":93},206,340,78,418,340,78,418,0]
["2021-03-01",{"$f":"DAY(EOMONTH(Base[[#This Row],[FECHA]],0))","v":31},{"$f":"+PROPER(TEXT(Base[[#This Row],[FECHA]],\"MMMM\"))","v":"Marzo"},{"$f":"+YEAR(Base[[#This Row],[FECHA]])","v":2021},"Eugenio Espejo","4 estrellas","Hotel",46,20248.34,{"$f":"Base[[#This Row],[VENTAS POR ALOJAMIENTO DURANTE EL MES DE LA ENCUESTA]]/1000","v":20.248339999999999},402,186,14,200,388,14,402,14]
["2021-03-01",{"$f":"DAY(EOMONTH(Base[[#This Row],[FECHA]],0))","v":31},{"$f":"+PROPER(TEXT(Base[[#This Row],[FECHA]],\"MMMM\"))","v":"Marzo"},{"$f":"+YEAR(Base[[#This Row],[FECHA]])","v":2021},"Eugenio Espejo","5 estrellas","Hotel",210,140504,{"$f":"Base[[#This Row],[VENTAS POR ALOJAMIENTO DURANTE EL MES DE LA ENCUESTA]]/1000","v":140.50399999999999},1544,1013,861,1874,1013,861,1874,109]
["2021-03-01",{"$f":"DAY(EOMONTH(Base[[#This Row],[FECHA]],0))","v":31},{"$f":"+PROPER(TEXT(Base[[#This Row],[FECHA]],\"MMMM\"))","v":"Marzo"},{"$f":"+YEAR(Base[[#This Row],[FECHA]])","v":2021},"Eugenio Espejo","4 estrellas","Hotel",215,14250.82,{"$f":"Base[[#This Row],[VENTAS POR ALOJAMIENTO DURANTE EL MES DE LA ENCUESTA]]/1000","v":14.250819999999999},213,192,21,213,192,21,213,20]
["2021-03-01",{"$f":"DAY(EOMONTH(Base[[#This Row],[FECHA]],0))","v":31},{"$f":"+PROPER(TEXT(Base[[#This Row],[FECHA]],\"MMMM\"))","v":"Marzo"},{"$f":"+YEAR(Base[[#This Row],[FECHA]])","v":2021},"La Mariscal","4 estrellas","Hotel",86,17272.62,{"$f":"Base[[#This Row],[VENTAS POR ALOJAMIENTO DURANTE EL MES DE LA ENCUESTA]]/1000","v":17.27262},328,240,88,328,240,88,328,32]
["2021-03-01",{"$f":"DAY(EOMONTH(Base[[#This Row],[FECHA]],0))","v":31},{"$f":"+PROPER(TEXT(Base[[#This Row],[FECHA]],\"MMMM\"))","v":"Marzo"},{"$f":"+YEAR(Base[[#This Row],[FECHA]])","v":2021},"Eugenio Espejo","3 estrellas","Hotel",74,9642.08,{"$f":"Base[[#This Row],[VENTAS POR ALOJAMIENTO DURANTE EL MES DE LA ENCUESTA]]/1000","v":9.64208},189,177,8,185,192,13,205,12]
["2021-03-01",{"$f":"DAY(EOMONTH(Base[[#This Row],[FECHA]],0))","v":31},{"$f":"+PROPER(TEXT(Base[[#This Row],[FECHA]],\"MMMM\"))","v":"Marzo"},{"$f":"+YEAR(Base[[#This Row],[FECHA]])","v":2021},"Manuela Sáenz","3 estrellas","Hotel",33,null,{"$f":"Base[[#This Row],[VENTAS POR ALOJAMIENTO DURANTE EL MES DE LA ENCUESTA]]/1000","v":0},null,null,null,0,null,null,0,1]
["2021-03-01",{"$f":"DAY(EOMONTH(Base[[#This Row],[FECHA]],0))","v":31},{"$f":"+PROPER(TEXT(Base[[#This Row],[FECHA]],\"MMMM\"))","v":"Marzo"},{"$f":"+YEAR(Base[[#This Row],[FECHA]])","v":2021},"La Delicia","3 estrellas","Lodge",9,null,{"$f":"Base[[#This Row],[VENTAS POR ALOJAMIENTO DURANTE EL MES DE LA ENCUESTA]]/1000","v":0},null,null,null,0,null,null,0,0]
["2021-03-01",{"$f":"DAY(EOMONTH(Base[[#This Row],[FECHA]],0))","v":31},{"$f":"+PROPER(TEXT(Base[[#This Row],[FECHA]],\"MMMM\"))","v":"Marzo"},{"$f":"+YEAR(Base[[#This Row],[FECHA]])","v":2021},"Eugenio Espejo","3 estrellas","Hostal",25,2781,{"$f":"Base[[#This Row],[VENTAS POR ALOJAMIENTO DURANTE EL MES DE LA ENCUESTA]]/1000","v":2.7810000000000001},30,30,0,30,30,0,30,1]
["2021-03-01",{"$f":"DAY(EOMONTH(Base[[#This Row],[FECHA]],0))","v":31},{"$f":"+PROPER(TEXT(Base[[#This Row],[FECHA]],\"MMMM\"))","v":"Marzo"},{"$f":"+YEAR(Base[[#This Row],[FECHA]])","v":2021},"La Delicia","3 estrellas","Hostería",12,null,{"$f":"Base[[#This Row],[VENTAS POR ALOJAMIENTO DURANTE EL MES DE LA ENCUESTA]]/1000","v":0},null,null,null,0,null,null,0,0]
["2021-03-01",{"$f":"DAY(EOMONTH(Base[[#This Row],[FECHA]],0))","v":31},{"$f":"+PROPER(TEXT(Base[[#This Row],[FECHA]],\"MMMM\"))","v":"Marzo"},{"$f":"+YEAR(Base[[#This Row],[FECHA]])","v":2021},"Eugenio Espejo","4 estrellas","Hotel",28,2400,{"$f":"Base[[#This Row],[VENTAS POR ALOJAMIENTO DURANTE EL MES DE LA ENCUESTA]]/1000","v":2.4},84,50,100,150,65,102,167,9]
["2021-03-01",{"$f":"DAY(EOMONTH(Base[[#This Row],[FECHA]],0))","v":31},{"$f":"+PROPER(TEXT(Base[[#This Row],[FECHA]],\"MMMM\"))","v":"Marzo"},{"$f":"+YEAR(Base[[#This Row],[FECHA]])","v":2021},"La Mariscal","3 estrellas","Hotel",40,10290,{"$f":"Base[[#This Row],[VENTAS POR ALOJAMIENTO DURANTE EL MES DE LA ENCUESTA]]/1000","v":10.29},208,218,4,222,287,95,382,14]
["2021-03-01",{"$f":"DAY(EOMONTH(Base[[#This Row],[FECHA]],0))","v":31},{"$f":"+PROPER(TEXT(Base[[#This Row],[FECHA]],\"MMMM\"))","v":"Marzo"},{"$f":"+YEAR(Base[[#This Row],[FECHA]])","v":2021},"La Mariscal","3 estrellas","Hotel",20,240,{"$f":"Base[[#This Row],[VENTAS POR ALOJAMIENTO DURANTE EL MES DE LA ENCUESTA]]/1000","v":0.24},4,4,0,4,4,0,4,6]
["2021-03-01",{"$f":"DAY(EOMONTH(Base[[#This Row],[FECHA]],0))","v":31},{"$f":"+PROPER(TEXT(Base[[#This Row],[FECHA]],\"MMMM\"))","v":"Marzo"},{"$f":"+YEAR(Base[[#This Row],[FECHA]])","v":2021},"Eugenio Espejo","4 estrellas","Hotel",90,90500,{"$f":"Base[[#This Row],[VENTAS POR ALOJAMIENTO DURANTE EL MES DE LA ENCUESTA]]/1000","v":90.5},1541,1500,41,1541,1500,41,1541,59]
["2021-03-01",{"$f":"DAY(EOMONTH(Base[[#This Row],[FECHA]],0))","v":31},{"$f":"+PROPER(TEXT(Base[[#This Row],[FECHA]],\"MMMM\"))","v":"Marzo"},{"$f":"+YEAR(Base[[#This Row],[FECHA]])","v":2021},"La Mariscal","3 estrellas","Hotel",26,2400,{"$f":"Base[[#This Row],[VENTAS POR ALOJAMIENTO DURANTE EL MES DE LA ENCUESTA]]/1000","v":2.4},52,15,37,52,15,37,52,1]
["2021-03-01",{"$f":"DAY(EOMONTH(Base[[#This Row],[FECHA]],0))","v":31},{"$f":"+PROPER(TEXT(Base[[#This Row],[FECHA]],\"MMMM\"))","v":"Marzo"},{"$f":"+YEAR(Base[[#This Row],[FECHA]])","v":2021},"La Mariscal","4 estrellas","Hotel",141,48426,{"$f":"Base[[#This Row],[VENTAS POR ALOJAMIENTO DURANTE EL MES DE LA ENCUESTA]]/1000","v":48.426000000000002},635,203,211,414,407,265,672,17]
["2021-03-01",{"$f":"DAY(EOMONTH(Base[[#This Row],[FECHA]],0))","v":31},{"$f":"+PROPER(TEXT(Base[[#This Row],[FECHA]],\"MMMM\"))","v":"Marzo"},{"$f":"+YEAR(Base[[#This Row],[FECHA]])","v":2021},"Manuela Sáenz","3 estrellas","Hotel",14,800,{"$f":"Base[[#This Row],[VENTAS POR ALOJAMIENTO DURANTE EL MES DE LA ENCUESTA]]/1000","v":0.8},5,0,2,2,0,5,5,3]
["2021-03-01",{"$f":"DAY(EOMONTH(Base[[#This Row],[FECHA]],0))","v":31},{"$f":"+PROPER(TEXT(Base[[#This Row],[FECHA]],\"MMMM\"))","v":"Marzo"},{"$f":"+YEAR(Base[[#This Row],[FECHA]])","v":2021},"La Delicia","4 estrellas","Lodge",17,2000,{"$f":"Base[[#This Row],[VENTAS POR ALOJAMIENTO DURANTE EL MES DE LA ENCUESTA]]/1000","v":2},16,15,40,55,15,40,55,15]
["2021-03-01",{"$f":"DAY(EOMONTH(Base[[#This Row],[FECHA]],0))","v":31},{"$f":"+PROPER(TEXT(Base[[#This Row],[FECHA]],\"MMMM\"))","v":"Marzo"},{"$f":"+YEAR(Base[[#This Row],[FECHA]])","v":2021},"Manuela Sáenz","4 estrellas","Hotel",31,59300,{"$f":"Base[[#This Row],[VENTAS POR ALOJAMIENTO DURANTE EL MES DE LA ENCUESTA]]/1000","v":59.3},185,84,278,362,84,278,362,0]
["2021-03-01",{"$f":"DAY(EOMONTH(Base[[#This Row],[FECHA]],0))","v":31},{"$f":"+PROPER(TEXT(Base[[#This Row],[FECHA]],\"MMMM\"))","v":"Marzo"},{"$f":"+YEAR(Base[[#This Row],[FECHA]])","v":2021},"Los Chillos","4 estrellas","Hostería",10,2040.66,{"$f":"Base[[#This Row],[VENTAS POR ALOJAMIENTO DURANTE EL MES DE LA ENCUESTA]]/1000","v":2.0406599999999999},33,59,6,65,59,6,65,15]
["2021-03-01",{"$f":"DAY(EOMONTH(Base[[#This Row],[FECHA]],0))","v":31},{"$f":"+PROPER(TEXT(Base[[#This Row],[FECHA]],\"MMMM\"))","v":"Marzo"},{"$f":"+YEAR(Base[[#This Row],[FECHA]])","v":2021},"La Delicia","3 estrellas","Hostería",8,450,{"$f":"Base[[#This Row],[VENTAS POR ALOJAMIENTO DURANTE EL MES DE LA ENCUESTA]]/1000","v":0.45},6,15,0,15,15,0,15,3]
["2021-03-01",{"$f":"DAY(EOMONTH(Base[[#This Row],[FECHA]],0))","v":31},{"$f":"+PROPER(TEXT(Base[[#This Row],[FECHA]],\"MMMM\"))","v":"Marzo"},{"$f":"+YEAR(Base[[#This Row],[FECHA]])","v":2021},"Tumbaco","3 estrellas","Hacienda Turística",20,null,{"$f":"Base[[#This Row],[VENTAS POR ALOJAMIENTO DURANTE EL MES DE LA ENCUESTA]]/1000","v":0},null,null,null,0,null,null,0,1]
["2021-03-01",{"$f":"DAY(EOMONTH(Base[[#This Row],[FECHA]],0))","v":31},{"$f":"+PROPER(TEXT(Base[[#This Row],[FECHA]],\"MMMM\"))","v":"Marzo"},{"$f":"+YEAR(Base[[#This Row],[FECHA]])","v":2021},"Manuela Sáenz","3 estrellas","Hostal",6,1400,{"$f":"Base[[#This Row],[VENTAS POR ALOJAMIENTO DURANTE EL MES DE LA ENCUESTA]]/1000","v":1.4},8,0,8,8,0,8,8,2]
["2021-03-01",{"$f":"DAY(EOMONTH(Base[[#This Row],[FECHA]],0))","v":31},{"$f":"+PROPER(TEXT(Base[[#This Row],[FECHA]],\"MMMM\"))","v":"Marzo"},{"$f":"+YEAR(Base[[#This Row],[FECHA]])","v":2021},"Eugenio Espejo","3 estrellas","Hostería",7,80,{"$f":"Base[[#This Row],[VENTAS POR ALOJAMIENTO DURANTE EL MES DE LA ENCUESTA]]/1000","v":0.08},1,1,0,1,1,0,1,2]
["2021-03-01",{"$f":"DAY(EOMONTH(Base[[#This Row],[FECHA]],0))","v":31},{"$f":"+PROPER(TEXT(Base[[#This Row],[FECHA]],\"MMMM\"))","v":"Marzo"},{"$f":"+YEAR(Base[[#This Row],[FECHA]])","v":2021},"Tumbaco","5 estrellas","Lodge",7,3483.24,{"$f":"Base[[#This Row],[VENTAS POR ALOJAMIENTO DURANTE EL MES DE LA ENCUESTA]]/1000","v":3.4832399999999999},28,63,3,66,68,3,71,7]
["2021-03-01",{"$f":"DAY(EOMONTH(Base[[#This Row],[FECHA]],0))","v":31},{"$f":"+PROPER(TEXT(Base[[#This Row],[FECHA]],\"MMMM\"))","v":"Marzo"},{"$f":"+YEAR(Base[[#This Row],[FECHA]])","v":2021},"La Mariscal","3 estrellas","Hostal",22,null,{"$f":"Base[[#This Row],[VENTAS POR ALOJAMIENTO DURANTE EL MES DE LA ENCUESTA]]/1000","v":0},null,null,null,0,null,null,0,2]
["2021-03-01",{"$f":"DAY(EOMONTH(Base[[#This Row],[FECHA]],0))","v":31},{"$f":"+PROPER(TEXT(Base[[#This Row],[FECHA]],\"MMMM\"))","v":"Marzo"},{"$f":"+YEAR(Base[[#This Row],[FECHA]])","v":2021},"La Mariscal","4 estrellas","Hotel",55,11000,{"$f":"Base[[#This Row],[VENTAS POR ALOJAMIENTO DURANTE EL MES DE LA ENCUESTA]]/1000","v":11},229,200,104,304,200,104,304,14]

{"sheet":"RESUMEN","index":3,"n_rows":49,"n_cols":12,"rows_kept":49,"cut":false,"hidden":true,"merged":[]}
["Fecha","Categoria","Pernoctaciones","Habitaciones","Empleos","Llegadas","Habitaciones vendidas","Ingresos (Miles)","Ingresos","TOH","Estancia media","Tarifa promedio"]
[43800,"3 estrellas",5040,790,277,4069,5474,226.90933000000001,226909.33000000002,0.22351980400163299,1.2386335709019416,41.452197661673367]
[43800,"4 estrellas",10423,825,537,7458,9880,773.37466999999992,773374.67,0.38631476050830899,1.3975596674711719,78.276788461538459]
[43800,"5 estrellas",11087,580,1203,6411,8916,864.96250000000009,864962.5,0.49588431590656301,1.7293713929184216,97.012393449977566]
[43831,"3 estrellas",5103,1039,165,1994,2582,134.78024000000002,134780.24,8.0163929336520806E-2,2.5591775325977935,52.19993803253292]
[43831,"5 estrellas",15195,779,1128,4744,15281,1701.3993100000002,1701399.31,0.63277982525156296,3.2029932546374367,111.3408356782933]
[43831,"4 estrellas",7578,1275,443,6272,5740,438.66395000000006,438663.95,0.145224541429475,1.2082270408163265,76.422290940766558]
[43862,"3 estrellas",345,466,26,205,257,36.475999999999999,36476,1.9017315376646401E-2,1.6829268292682926,141.92996108949416]
[43862,"4 estrellas",7895,1332,234,7580,6613,544.67818,544678.17999999993,0.17119705912809399,1.04155672823219,82.364763344926644]
[43862,"5 estrellas",91,210,13,85,88,10.608359999999999,10608.36,1.44499178981938E-2,1.0705882352941176,120.54954545454547]
[43891,"3 estrellas",993,2441,102,700,620,65.583340000000007,65583.34,8.1933633756657107E-3,1.4185714285714286,105.77958064516129]
[43891,"4 estrellas",4344,6919,166,3840,3084,252.49763000000002,252497.63,1.4378359729403401E-2,1.1312500000000001,81.873420881971469]
[43891,"5 estrellas",131,997,27,115,108,9.2319200000000006,9231.92,3.4943540298314302E-3,1.1391304347826088,85.480740740740742]
[43922,"3 estrellas",410,1490,68,300,403,15.96,15960,9.0156599552572696E-3,1.3666666666666667,39.602977667493796]
[43922,"4 estrellas",30,6128,199,18,214,16.257999999999999,16258,1.1640557006092299E-3,1.6666666666666667,75.971962616822424]
[43922,"5 estrellas",84,311,47,84,null,null,0,null,1]
[43952,"3 estrellas",1164,344,202,188,1156,54.638760000000005,54638.76,0.108402100525131,6.1914893617021276,47.265363321799313]
[43952,"4 estrellas",1330,348,403,1326,1228,56.529000000000003,56529,0.113830181683352,1.0030165912518854,46.033387622149839]
[43952,"5 estrellas",3093,507,141,244,1291,90.18,90180,8.2140357574600795E-2,12.676229508196721,69.852827265685519]
[43983,"3 estrellas",248,171,76,120,282,14.59535,14595.35,5.4970760233918101E-2,2.0666666666666669,51.756560283687946]
[43983,"5 estrellas",805,266,50,204,805,45.757999999999996,45758,0.100877192982456,3.9460784313725492,56.842236024844723]
[43983,"4 estrellas",489,595,220,461,460,25.900899999999996,25900.9,2.5770308123249298E-2,1.0607375271149675,56.306304347826092]
[44013,"3 estrellas",341,376,99,230,212,13.292019999999997,13292.02,1.8188057652711E-2,1.482608695652174,62.698207547169815]
[44013,"4 estrellas",86,299,78,86,70,4.2910000000000004,4291,7.5520552378897403E-3,1,61.3]
[44013,"5 estrellas",123,101,21,122,125,10.194040000000001,10194.040000000001,3.9923347173427E-2,1.0081967213114753,81.552320000000009]
[44044,"3 estrellas",551,305,79,406,440,22.318959999999997,22318.959999999999,4.6536224219989403E-2,1.3571428571428572,50.724909090909087]
[44044,"4 estrellas",26,214,35,26,26,1.274,1274,3.9192041000904402E-3,1,49]
[44044,"5 estrellas",1405,222,89,1405,1214,127.03189,127031.89,0.17640220866027301,1,104.63911861614497]
[44075,"3 estrellas",503,261,61,438,370,17.276019999999999,17276.02,4.7254150702426598E-2,1.1484018264840183,46.691945945945946]
[44075,"4 estrellas",973,556,104,862,885,38.762063000000005,38762.062999999995,5.3057553956834501E-2,1.1287703016241299,43.79894124293785]
[44075,"5 estrellas",1508,259,86,1075,1289,119.54669000000001,119546.69,0.16589446589446599,1.4027906976744187,92.743747090768039]
[44105,"3 estrellas",1970,476,77,1789,1723,79.063789999999997,79063.790000000008,0.116766061263215,1.1011738401341531,45.887283807312834]
[44105,"4 estrellas",2066,513,63,2066,1942,120.63245000000002,120632.45,0.12211532415267599,1,62.117636457260552]
[44105,"5 estrellas",885,142,29,521,885,90.67401000000001,90674.010000000009,0.20104497955474801,1.6986564299424185,102.45650847457628]
[44136,"4 estrellas",1633,630,146,1539,1342,99.427850000000007,99427.85,7.1005291005291002E-2,1.0610786224821314,74.089307004470939]
[44136,"5 estrellas",2433,358,141,2144,2433,240.10039,240100.39,0.22653631284916201,1.134794776119403,98.684911631730387]
[44136,"3 estrellas",716,169,52,570,580,18.896620000000002,18896.62,0.11439842209073001,1.2561403508771929,32.580379310344824]
[44166,"3 estrellas",2129,405,75,1796,1909,89.26585,89265.85,0.15205097570689,1.1854120267260579,46.760529072812993]
[44166,"4 estrellas",924,288,45,911,704,46.684960000000004,46684.959999999999,7.8853046594982101E-2,1.0142700329308452,66.313863636363635]
[44166,"5 estrellas",4127,399,192,3742,3287,263.60106999999999,263601.07,0.26574500768049197,1.1028861571352218,80.195031944021906]
[44197,"3 estrellas",538,309,69,444,410,26.370200000000001,26370.2,4.2801962626579003E-2,1.2117117117117118,64.317560975609751]
[44197,"4 estrellas",1488,417,90,1337,1243,84.340999999999994,84341,9.6155333797478204E-2,1.112939416604338,67.852775543041034]
[44197,"5 estrellas",2269,279,117,1995,1831,190.75800000000001,190758,0.21170077465602999,1.13734335839599,104.18241398143091]
[44228,"4 estrellas",4558,630,180,3923,2974,203.96093999999999,203960.94,0.16859410430839,1.161865918939587,68.581351714862137]
[44228,"3 estrellas",619,249,59,482,507,24.735429999999997,24735.43,7.2719449225473298E-2,1.2842323651452283,48.787830374753455]
[44228,"5 estrellas",1317,135,119,1308,959,88.128,88128,0.25370370370370399,1.0068807339449541,91.895724713242956]
[44256,"5 estrellas",2363,241,116,2358,1778,236.98723999999999,236987.24,0.23798688261276901,1.0021204410517388,133.28866141732283]
[44256,"4 estrellas",4109,719,195,3632,3666,267.43844000000001,267438.44,0.16447575037013801,1.1313325991189427,72.951020185488275]
[44256,"3 estrellas",702,316,48,519,503,28.083079999999992,28083.08,5.1347488770926902E-2,1.3526011560693643,55.831172962226645]

{"sheet":"PROMEDIOS","index":4,"n_rows":161,"n_cols":8,"rows_kept":161,"cut":false,"hidden":true,"merged":[]}
["Fecha","Atributo","3 estrellas","4 estrellas","5 estrellas","Total"]
[43800,"Empleos",277,537,1203,2017]
[43800,"Estancia media",1.2386335709019416,1.3975596674711719,1.7293713929184216,1]
[43800,"Habitaciones",790,825,580,2195]
[43800,"Habitaciones vendidas",5474,9880,8916,24270]
[43800,"Ingresos",226909.33000000002,773374.67,864962.5,1865247]
[43800,"Ingresos (Miles)",226.90933000000001,773.37466999999992,864.96250000000009,1865]
[43800,"Llegadas",4069,7458,6411,17938]
[43800,"Pernoctaciones",5040,10423,11087,26550]
[43800,"TOH",0.22351980400163332,0.38631476050830893,0.49588431590656284,0]
[43800,"Tarifa promedio",41.452197661673367,78.276788461538459,97.012393449977566,77]
[43831,"Empleos",165,443,1128,1736]
[43831,"Estancia media",2.5591775325977935,1.2082270408163265,3.2029932546374367,2]
[43831,"Habitaciones",1039,1275,779,3093]
[43831,"Habitaciones vendidas",2582,5740,15281,23603]
[43831,"Ingresos",134780.24,438663.95,1701399.31,2274844]
[43831,"Ingresos (Miles)",134.78024000000002,438.66395000000006,1701.3993100000002,2275]
[43831,"Llegadas",1994,6272,4744,13010]
[43831,"Pernoctaciones",5103,7578,15195,27876]
[43831,"TOH",8.0163929336520848E-2,0.14522454142947502,0.63277982525156329,0]
[43831,"Tarifa promedio",52.19993803253292,76.422290940766558,111.3408356782933,96]
[43862,"Empleos",26,234,13,273]
[43862,"Estancia media",1.6829268292682926,1.04155672823219,1.0705882352941176,1]
[43862,"Habitaciones",466,1332,210,2008]
[43862,"Habitaciones vendidas",257,6613,88,6958]
[43862,"Ingresos",36476,544678.17999999993,10608.36,591763]
[43862,"Ingresos (Miles)",36.475999999999999,544.67818,10.608359999999999,592]
[43862,"Llegadas",205,7580,85,7870]
[43862,"Pernoctaciones",345,7895,91,8331]
[43862,"TOH",1.9017315376646443E-2,0.1711970591280936,1.444991789819376E-2,0]
[43862,"Tarifa promedio",141.92996108949416,82.364763344926644,120.54954545454547,85]
[43891,"Empleos",102,166,27,295]
[43891,"Estancia media",1.4185714285714286,1.1312500000000001,1.1391304347826088,1]
[43891,"Habitaciones",2441,6919,997,10357]
[43891,"Habitaciones vendidas",620,3084,108,3812]
[43891,"Ingresos",65583.34,252497.63,9231.92,327313]
[43891,"Ingresos (Miles)",65.583340000000007,252.49763000000002,9.2319200000000006,327]
[43891,"Llegadas",700,3840,115,4655]
[43891,"Pernoctaciones",993,4344,131,5468]
[43891,"TOH",8.1933633756657107E-3,1.4378359729403373E-2,3.4943540298314297E-3,0]
[43891,"Tarifa promedio",105.77958064516129,81.873420881971469,85.480740740740742,86]
[43922,"Empleos",68,199,47,314]
[43922,"Estancia media",1.3666666666666667,1.6666666666666667,1,1]
[43922,"Habitaciones",1490,6128,311,7929]
[43922,"Habitaciones vendidas",403,214,null,617]
[43922,"Ingresos",15960,16258,0,32218]
[43922,"Ingresos (Miles)",15.96,16.257999999999999,null,32]
[43922,"Llegadas",300,18,84,402]
[43922,"Pernoctaciones",410,30,84,524]
[43922,"TOH",9.0156599552572714E-3,1.1640557006092254E-3,null,0]
[43922,"Tarifa promedio",39.602977667493796,75.971962616822424,null,52]
[43952,"Empleos",202,403,141,746]
[43952,"Estancia media",6.1914893617021276,1.0030165912518854,12.676229508196721,3]
[43952,"Habitaciones",344,348,507,1199]
[43952,"Habitaciones vendidas",1156,1228,1291,3675]
[43952,"Ingresos",54638.76,56529,90180,201348]
[43952,"Ingresos (Miles)",54.638760000000005,56.529000000000003,90.18,201]
[43952,"Llegadas",188,1326,244,1758]
[43952,"Pernoctaciones",1164,1330,3093,5587]
[43952,"TOH",0.10840210052513129,0.11383018168335188,8.2140357574600753E-2,0]
[43952,"Tarifa promedio",47.265363321799313,46.033387622149839,69.852827265685519,55]
[43983,"Empleos",76,220,50,346]
[43983,"Estancia media",2.0666666666666669,1.0607375271149675,3.9460784313725492,2]
[43983,"Habitaciones",171,595,266,1032]
[43983,"Habitaciones vendidas",282,460,805,1547]
[43983,"Ingresos",14595.35,25900.9,45758,86254]
[43983,"Ingresos (Miles)",14.59535,25.900899999999996,45.757999999999996,86]
[43983,"Llegadas",120,461,204,785]
[43983,"Pernoctaciones",248,489,805,1542]
[43983,"TOH",5.4970760233918128E-2,2.5770308123249302E-2,0.10087719298245613,0]
[43983,"Tarifa promedio",51.756560283687946,56.306304347826092,56.842236024844723,56]
[44013,"Empleos",99,78,21,198]
[44013,"Estancia media",1.482608695652174,1,1.0081967213114753,1]
[44013,"Habitaciones",376,299,101,776]
[44013,"Habitaciones vendidas",212,70,125,407]
[44013,"Ingresos",13292.02,4291,10194.040000000001,27777]
[44013,"Ingresos (Miles)",13.292019999999997,4.2910000000000004,10.194040000000001,28]
[44013,"Llegadas",230,86,122,438]
[44013,"Pernoctaciones",341,86,123,550]
[44013,"TOH",1.8188057652711049E-2,7.5520552378897403E-3,3.9923347173427021E-2,0]
[44013,"Tarifa promedio",62.698207547169815,61.3,81.552320000000009,68]
[44044,"Empleos",79,35,89,203]
[44044,"Estancia media",1.3571428571428572,1,1,1]
[44044,"Habitaciones",305,214,222,741]
[44044,"Habitaciones vendidas",440,26,1214,1680]
[44044,"Ingresos",22318.959999999999,1274,127031.89,150625]
[44044,"Ingresos (Miles)",22.318959999999997,1.274,127.03189,151]
[44044,"Llegadas",406,26,1405,1837]
[44044,"Pernoctaciones",551,26,1405,1982]
[44044,"TOH",4.6536224219989424E-2,3.9192041000904428E-3,0.17640220866027317,0]
[44044,"Tarifa promedio",50.724909090909087,49,104.63911861614497,90]
[44075,"Empleos",61,104,86,251]
[44075,"Estancia media",1.1484018264840183,1.1287703016241299,1.4027906976744187,1]
[44075,"Habitaciones",261,556,259,1076]
[44075,"Habitaciones vendidas",370,885,1289,2544]
[44075,"Ingresos",17276.02,38762.062999999995,119546.69,175585]
[44075,"Ingresos (Miles)",17.276019999999999,38.762063000000005,119.54669000000001,176]
[44075,"Llegadas",438,862,1075,2375]
[44075,"Pernoctaciones",503,973,1508,2984]
[44075,"TOH",4.7254150702426563E-2,5.3057553956834536E-2,0.16589446589446588,0]
[44075,"Tarifa promedio",46.691945945945946,43.79894124293785,92.743747090768039,69]
[44105,"Empleos",77,63,29,169]
[44105,"Estancia media",1.1011738401341531,1,1.6986564299424185,1]
[44105,"Habitaciones",476,513,142,1131]
[44105,"Habitaciones vendidas",1723,1942,885,4550]
[44105,"Ingresos",79063.790000000008,120632.45,90674.010000000009,290370]
[44105,"Ingresos (Miles)",79.063789999999997,120.63245000000002,90.67401000000001,290]
[44105,"Llegadas",1789,2066,521,4376]
[44105,"Pernoctaciones",1970,2066,885,4921]
[44105,"TOH",0.11676606126321497,0.12211532415267561,0.20104497955474784,0]
[44105,"Tarifa promedio",45.887283807312834,62.117636457260552,102.45650847457628,64]
[44136,"Empleos",52,146,141,339]
[44136,"Estancia media",1.2561403508771929,1.0610786224821314,1.134794776119403,1]
[44136,"Habitaciones",169,630,358,1157]
[44136,"Habitaciones vendidas",580,1342,2433,4355]
[44136,"Ingresos",18896.62,99427.85,240100.39,358425]
[44136,"Ingresos (Miles)",18.896620000000002,99.427850000000007,240.10039,358]
[44136,"Llegadas",570,1539,2144,4253]
[44136,"Pernoctaciones",716,1633,2433,4782]
[44136,"TOH",0.11439842209072978,7.1005291005291002E-2,0.22653631284916201,0]
[44136,"Tarifa promedio",32.580379310344824,74.089307004470939,98.684911631730387,82]
[44166,"Empleos",75,45,192,312]
[44166,"Estancia media",1.1854120267260579,1.0142700329308452,1.1028861571352218,1]
[44166,"Habitaciones",405,288,399,1092]
[44166,"Habitaciones vendidas",1909,704,3287,5900]
[44166,"Ingresos",89265.85,46684.959999999999,263601.07,399552]
[44166,"Ingresos (Miles)",89.26585,46.684960000000004,263.60106999999999,400]
[44166,"Llegadas",1796,911,3742,6449]
[44166,"Pernoctaciones",2129,924,4127,7180]
[44166,"TOH",0.15205097570688969,7.8853046594982087E-2,0.26574500768049153,0.17399999999999999]
[44166,"Tarifa promedio",46.760529072812993,66.313863636363635,80.195031944021906,68]
[44197,"Empleos",69,90,117,276]
[44197,"Estancia media",1.2117117117117118,1.112939416604338,1.13734335839599,1]
[44197,"Habitaciones",309,417,279,1005]
[44197,"Habitaciones vendidas",410,1243,1831,3484]
[44197,"Ingresos",26370.2,84341,190758,301469]
[44197,"Ingresos (Miles)",26.370200000000001,84.340999999999994,190.75800000000001,301]
[44197,"Llegadas",444,1337,1995,3776]
[44197,"Pernoctaciones",538,1488,2269,4295]
[44197,"TOH",4.2801962626578975E-2,9.6155333797478149E-2,0.2117007746560296,0.112,null,"Formula para actualizar"]
[44197,"Tarifa promedio",64.317560975609751,67.852775543041034,104.18241398143091,87,null,"\"F152=+SI([@Atributo]=\"Estancia media\";F147/F146;SI([@Atributo]=\"TOH\";(F136/F135)/DIA(FIN.MES([@Fecha];0));SI([@Atributo]=\"Tarifa promedio\";F136/F135;[@[3 estrellas]]+[@[4 estrellas]]+[@[5 estrellas]])))"]
[44228,"Empleos",59,180,119,358]
[44228,"Estancia media",1.2842323651452283,1.161865918939587,1.0068807339449541,1]
[44228,"Habitaciones",249,630,135,1014]
[44228,"Habitaciones vendidas",507,2974,959,4440]
[44228,"Ingresos",24735.43,203960.94,88128,316824]
[44228,"Ingresos (Miles)",24.735429999999997,203.96093999999999,88.128,317]
[44228,"Llegadas",482,3923,1308,5713]
[44228,"Pernoctaciones",619,4558,1317,6494]
[44228,"TOH",7.2719449225473326E-2,0.16859410430839003,0.25370370370370371,0.16]
[44228,"Tarifa promedio",48.787830374753455,68.581351714862137,91.895724713242956,71]
[44256,"Empleos",48,195,116,{"$f":"SUM(PROMEDIO[[#This Row],[3 estrellas]:[5 estrellas]])","v":359}]
[44256,"Estancia media",1.3526011560693643,1.1313325991189427,1.0021204410517388,1]
[44256,"Habitaciones",316,719,241,{"$f":"SUM(PROMEDIO[[#This Row],[3 estrellas]:[5 estrellas]])","v":1276}]
[44256,"Habitaciones vendidas",503,3666,1778,{"$f":"SUM(PROMEDIO[[#This Row],[3 estrellas]:[5 estrellas]])","v":5947}]
[44256,"Ingresos",28083.08,267438.44,236987.24,{"$f":"SUM(PROMEDIO[[#This Row],[3 estrellas]:[5 estrellas]])","v":532508.76}]
[44256,"Ingresos (Miles)",28.083079999999992,267.43844000000001,236.98723999999999,{"$f":"SUM(PROMEDIO[[#This Row],[3 estrellas]:[5 estrellas]])","v":532.50875999999994}]
[44256,"Llegadas",519,3632,2358,{"$f":"SUM(PROMEDIO[[#This Row],[3 estrellas]:[5 estrellas]])","v":6509}]
[44256,"Pernoctaciones",702,4109,2363,{"$f":"SUM(PROMEDIO[[#This Row],[3 estrellas]:[5 estrellas]])","v":7174}]
[44256,"TOH",5.1347488770926909E-2,0.16447575037013773,0.2379868826127694,0.15]
[44256,"Tarifa promedio",55.831172962226645,72.951020185488275,133.28866141732283,411]

{"sheet":"AUXILIARES","index":5,"n_rows":217,"n_cols":17,"rows_kept":217,"cut":false,"hidden":true,"merged":[]}
[]
[null,"EMPLEO"]
[]
[null,"EMPLEO_MES",null,null,"EMPLEO_CAT",null,null,"EMPLEO_TIPO",null,null,"EMPLEO_SECTOR",null,null,null,null,"EMPLEO_PROM"]
[null,"FECHA","EMPLEOS",null,"CATEGORIA","EMPLEOS",null,"TIPO","EMPLEOS",null,"EMPLEOS","Etiquetas de columna",null,null,null,"Categoría","Promedio de Total"]
[null,"2019",null,null,"3 estrellas",48,null,"Hacienda Turística",1,null,"SECTOR","3 estrellas","4 estrellas","5 estrellas",null,"Empleos",512]
[null,"dic",2017,null,"4 estrellas",195,null,"Hostal",5,null,"Eugenio Espejo",15,102,109]
[null,"2020",null,null,"5 estrellas",116,null,"Hostería",20,null,"La Delicia",3,15,0]
[null,"ene",1736,null,null,null,null,"Hotel",311,null,"La Mariscal",23,63]
[null,"feb",273,null,null,null,null,"Lodge",22,null,"Los Chillos",null,15]
[null,"mar",295,null,null,null,null,null,null,null,"Manuela Sáenz",6,0]
[null,"abr",314,null,null,null,null,null,null,null,"Tumbaco",1,null,7]
[null,"may",746]
[null,"jun",346]
[null,"jul",198]
[null,"ago",203]
[null,"sep",251]
[null,"oct",169]
[null,"nov",339]
[null,"dic",312]
[null,"2021"]
[null,"ene",276]
[null,"feb",358]
[null,"mar",359]
[]
[null,"HABITACIONES VENDIDAS"]
[]
[null,"HABITACIONES_MES",null,null,"HABITACIONES_CAT",null,null,"HABITACIONES_TIPO",null,null,"HABITACIONES_SECTOR",null,null,null,null,"HABITACIONES_PROM"]
[null,"FECHA","HABITACIONES VENDIDAS",null,"Categoria","HABITACIONES VENDIDAS",null,"TIPO","HABITACIONES VENDIDAS",null,"HABITACIONES VENDIDAS","Etiquetas de columna",null,null,null,"Categoría","Promedio de Total"]
[null,"2019",null,null,"3 estrellas",503,null,"Hostal",38,null,"SECTOR","3 estrellas","4 estrellas","5 estrellas",null,"Habitaciones vendidas",6111.8125]
[null,"dic",24270,null,"4 estrellas",3666,null,"Hostería",40,null,"Eugenio Espejo",220,2240,1544]
[null,"2020",null,null,"5 estrellas",1778,null,"Hotel",5619,null,"La Delicia",6,16,206]
[null,"ene",23603,null,null,null,null,"Lodge",250,null,"La Mariscal",264,1192]
[null,"feb",6958,null,null,null,null,null,null,null,"Los Chillos",null,33]
[null,"mar",3812,null,null,null,null,null,null,null,"Manuela Sáenz",13,185]
[null,"abr",617,null,null,null,null,null,null,null,"Tumbaco",null,null,28]
[null,"may",3675]
[null,"jun",1547]
[null,"jul",407]
[null,"ago",1680]
[null,"sep",2544]
[null,"oct",4550]
[null,"nov",4355]
[null,"dic",5900]
[null,"2021"]
[null,"ene",3484]
[null,"feb",4440]
[null,"mar",5947]
[]
[null,"TOH"]
[]
[null,"TOH_MES",null,null,"TOH_CAT",null,null,"TOH_TIPO",null,null,"TOH_SECTOR",null,null,null,null,"TOH_PROM"]
[null,"FECHA","TOH",null,"CATEGORIA","TOH",null,"TIPO","TOH",null,"TOH","Etiquetas de columna",null,null,null,"Categoría","Promedio de Total"]
[null,"2019",null,null,"3 estrellas",5.1347488770926909E-2,null,"Hostal",2.3128423615337797E-2,null,"SECTOR","3 estrellas","4 estrellas","5 estrellas",null,"TOH",3.7249999999999998E-2]
[null,"dic",0.35667572929678887,null,"4 estrellas",0.16447575037013773,null,"Hostería",3.4873583260680033E-2,null,"Eugenio Espejo",6.695069993913573E-2,0.19065452378925865,0.23717357910906298]
[null,"2020",null,null,"5 estrellas",0.23798688261276937,null,"Hotel",0.16344279938334449,null,"La Delicia",6.6740823136818691E-3,3.0360531309297913E-2,0.2768817204301075]
[null,"ene",0.24616459643523877,null,null,null,null,"Lodge",0.14148273910582909,null,"La Mariscal",7.8853046594982074E-2,0.1363532372454816]
[null,"feb",0.11948756697348537,null,null,null,null,null,null,null,"Los Chillos",null,0.1064516129032258]
[null,"mar",1.1872911261512395E-2,null,null,null,null,null,null,null,"Manuela Sáenz",7.9123554473524045E-3,0.19250780437044746]
[null,"abr",2.5938537856812546E-3,null,null,null,null,null,null,null,"Tumbaco",null,null,0.12903225806451613]
[null,"may",9.887271651107106E-2]
[null,"jun",4.9967700258397932E-2]
[null,"jul",1.6918856002660458E-2]
[null,"ago",7.313569283009011E-2]
[null,"sep",7.8810408921933084E-2]
[null,"oct",0.12977382276603633]
[null,"nov",0.12546816479400749]
[null,"dic",0.17428807751388398]
[null,"2021"]
[null,"ene",0.11182795698924732]
[null,"feb",0.15638207945900254]
[null,"mar",0.15034381636161392]
[]
[null,"ESTANCIA MEDIA"]
[]
[null,"ESTANCIAMEDIA_MES",null,null,"ESTANCIAMEDIA_CAT",null,null,"ESTANCIAMEDIA_TIPO",null,null,"ESTANCIAMEDIA_SECTOR",null,null,null,null,"ESTANCIAMEDIA_PROM"]
[null,"FECHA","ESTANCIA MEDIA",null,"CATEGORÍA","ESTANCIA MEDIA",null,"TIPO","ESTANCIA MEDIA",null,"ESTANCIA MEDIA","Etiquetas de columna",null,null,null,"Categoría","Promedio de Total"]
[null,"2019",null,null,"3 estrellas",1.3526011560693643,null,"Hacienda Turística",null,null,"SECTOR","3 estrellas","4 estrellas","5 estrellas",null,"Estancia media",1.25]
[null,"dic",1.4800981157319657,null,"4 estrellas",1.1313325991189427,null,"Hostal",1,null,"Eugenio Espejo",1.0925925925925926,1.104087452471483,1]
[null,"2020",null,null,"5 estrellas",1.0021204410517388,null,"Hostería",1,null,"La Delicia",1,1,1]
[null,"ene",2.1426594926979248,null,null,null,null,"Hotel",1.1128012305588788,null,"La Mariscal",1.5755395683453237,1.2466539196940727]
[null,"feb",1.058576874205845,null,null,null,null,"Lodge",1.0092764378478665,null,"Los Chillos",null,1]
[null,"mar",1.1746509129967777,null,null,null,null,null,null,null,"Manuela Sáenz",1.3,1]
[null,"abr",1.3034825870646767,null,null,null,null,null,null,null,"Tumbaco",null,null,1.0757575757575757]
[null,"may",3.178043230944255]
[null,"jun",1.9643312101910828]
[null,"jul",1.2557077625570776]
[null,"ago",1.0789330430048993]
[null,"sep",1.2564210526315789]
[null,"oct",1.1245429616087752]
[null,"nov",1.1243827886197977]
[null,"dic",1.1133509071173826]
[null,"2021"]
[null,"ene",1.1374470338983051]
[null,"feb",1.136705758795729]
[null,"mar",1.1021662313719465]
[]
[null,"LLEGADAS"]
[]
[null,"LLEGADAS_MES",null,null,"LLEGADAS_CAT",null,null,"LLEGADAS_TIPO",null,null,"LLEGADAS_SECTOR",null,null,null,null,"LLEGADAS_PROM"]
[null,"Fecha","LLEGADAS",null,"CATEGORIA","LLEGADAS",null,"TIPO","LLEGADAS",null,"LLEGADAS","Etiquetas de columna",null,null,null,"Categoría","Promedio de Total"]
[null,"2019",null,null,"3 estrellas",519,null,"Hacienda Turística",0,null,"SECTOR","3 estrellas","4 estrellas","5 estrellas",null,"Llegadas",5134]
[null,"dic",17938,null,"4 estrellas",3632,null,"Hostal",38,null,"Eugenio Espejo",216,2104,1874]
[null,"2020",null,null,"5 estrellas",2358,null,"Hostería",81,null,"La Delicia",15,55,418]
[null,"ene",13010,null,null,null,null,"Hotel",5851,null,"La Mariscal",278,1046]
[null,"feb",7870,null,null,null,null,"Lodge",539,null,"Los Chillos",null,65]
[null,"mar",4655,null,null,null,null,null,null,null,"Manuela Sáenz",10,362]
[null,"abr",402,null,null,null,null,null,null,null,"Tumbaco",0,null,66]
[null,"may",1758]
[null,"jun",785]
[null,"jul",438]
[null,"ago",1837]
[null,"sep",2375]
[null,"oct",4376]
[null,"nov",4253]
[null,"dic",6449]
[null,"2021"]
[null,"ene",3776]
[null,"feb",5713]
[null,"mar",6509]
[]
[null,"INGRESOS"]
[]
[null,"INGRESOS_MES",null,null,"INGRESOS_CAT",null,null,"INGRESOS_TIPO",null,null,"INGRESOS_SECTOR",null,null,null,null,"INGRESOS_PROM"]
[null,"FECHA","INGRESOS (MILES)",null,"CATEGORIA","INGRESOS (MILES)",null,"TIPO","INGRESOS (MILES)",null,"INGRESOS (MILES)","Etiquetas de columna",null,null,null,"Categoría","Promedio de Total"]
[null,"2019",null,null,"3 estrellas",28.083079999999992,null,"Hacienda Turística",0,null,"SECTOR","3 estrellas","4 estrellas","5 estrellas",null,"Ingresos (Miles)",615.1875]
[null,"dic",1865.2465000000002,null,"4 estrellas",267.43844000000001,null,"Hostal",4.181,null,"Eugenio Espejo",12.503080000000001,127.39915999999999,140.50399999999999]
[null,"2020",null,null,"5 estrellas",236.98723999999999,null,"Hostería",2.5706600000000002,null,"La Delicia",0.45,2,93]
[null,"ene",2274.8434999999999,null,null,null,null,"Hotel",427.27385999999996,null,"La Mariscal",12.93,76.698620000000005]
[null,"feb",591.76254000000006,null,null,null,null,"Lodge",98.483239999999995,null,"Los Chillos",null,2.0406599999999999]
[null,"mar",327.31288999999998,null,null,null,null,null,null,null,"Manuela Sáenz",2.2000000000000002,59.3]
[null,"abr",32.218000000000004,null,null,null,null,null,null,null,"Tumbaco",0,null,3.4832399999999999]
[null,"may",201.34775999999999]
[null,"jun",86.254249999999985]
[null,"jul",27.777060000000002]
[null,"ago",150.62485000000001]
[null,"sep",175.58477300000001]
[null,"oct",290.37025000000006]
[null,"nov",358.42485999999997]
[null,"dic",399.55188000000004]
[null,"2021"]
[null,"ene",301.4692]
[null,"feb",316.8243700000001]
[null,"mar",532.50876000000005]
[]
[null,"PERNOCTACIONES"]
[]
[null,"PERNOCTACIONES_MES",null,null,"PERNOCTACIONES_CAT",null,null,"PERNOCTACIONES_TIPO",null,null,"PERNOCTACIONES_SECTOR",null,null,null,null,"PERNOCTACIONES_PROM"]
[null,"FECHA","PERNOCTACIONES",null,"CATEGORIA","PERNOCTACIONES",null,"TIPO","PERNOCTACIONES",null,"PERNOCTACIONES","Etiquetas de columna",null,null,null,"Categoría","Promedio de Total"]
[null,"2019",26550,null,"3 estrellas",702,null,"Hacienda Turística",0,null,"SECTOR","3 estrellas","4 estrellas","5 estrellas",null,"Pernoctaciones",7265]
[null,"2020",null,null,"4 estrellas",4109,null,"Hostal",38,null,"Eugenio Espejo",236,2323,1874]
[null,"ene",27876,null,"5 estrellas",2363,null,"Hostería",81,null,"La Delicia",15,55,418]
[null,"feb",8331,null,null,null,null,"Hotel",6511,null,"La Mariscal",438,1304]
[null,"mar",5468,null,null,null,null,"Lodge",544,null,"Los Chillos",null,65]
[null,"abr",524,null,null,null,null,null,null,null,"Manuela Sáenz",13,362]
[null,"may",5587,null,null,null,null,null,null,null,"Tumbaco",0,null,71]
[null,"jun",1542]
[null,"jul",550]
[null,"ago",1982]
[null,"sep",2984]
[null,"oct",4921]
[null,"nov",4782]
[null,"dic",7180]
[null,"2021",17963]
[]
[]
[]
[]
[]
[null,"TARIFA DE HABITACIÓN OCUPADA"]
[]
[null,"TARIFA_MES",null,null,"TARIFA_CAT",null,null,"TARIFA_TIPO",null,null,"TARIFA_SECTOR",null,null,null,null,"TARIFA_PROM"]
[null,"FECHA","TARFIFA",null,"CATEGORIA","TARFIFA",null,"TIPO","TARIFA",null,"TARIFA","Etiquetas de columna",null,null,null,"Categoría","Promedio de Total"]
[null,"2019",null,null,"3 estrellas",55.831172962226645,null,"Hostal",110.02631578947368,null,"SECTOR","3 estrellas","4 estrellas","5 estrellas",null,"Tarifa promedio",94.8125]
[null,"dic",76.853996703749473,null,"4 estrellas",72.951020185488275,null,"Hostería",64.266499999999994,null,"Eugenio Espejo",56.832181818181816,56.874625000000002,91]
[null,"2020",null,null,"5 estrellas",133.28866141732283,null,"Hotel",76.040907634810466,null,"La Delicia",75,125,451.45631067961165]
[null,"ene",96.379422107359218,null,null,null,null,"Lodge",393.93296000000004,null,"La Mariscal",48.977272727272727,64.344479865771802]
[null,"feb",85.047792469100301,null,null,null,null,null,null,null,"Los Chillos",null,61.838181818181823]
[null,"mar",85.863822140608605,null,null,null,null,null,null,null,"Manuela Sáenz",169.23076923076923,320.54054054054052]
[null,"abr",52.217179902755269,null,null,null,null,null,null,null,"Tumbaco",null,null,124.40142857142857]
[null,"may",54.788506122448979]
[null,"jun",55.755817711700068]
[null,"jul",68.248304668304669]
[null,"ago",89.657648809523806]
[null,"sep",69.019171776729564]
[null,"oct",63.817637362637363]
[null,"nov",82.3019196326062]
[null,"dic",67.720657627118641]
[null,"2021"]
[null,"ene",86.529621125143521]
[null,"feb",71.356840090090103]
[null,"mar",89.542418025895415]
[]
[null,"PROMEDIOS"]
[]
[null,"Atributo","Empleos"]
[null,"PROMEDIO_MES",null,null,"PROMEDIO",null,null,null,null,null,"PROMEDIO_CAT"]
[null,"Etiquetas de fila","Suma de Total",null,"Etiquetas de fila","Promedio de Total",null,null,null,null,"Etiquetas de fila"," 3 estrellas"," 4 estrellas"," 5 estrellas"]
[null,"2019",null,null,"Empleos",512,null,null,null,null,"2019"]
[null,"dic",2017,null,null,null,null,null,null,null,"dic",277,537,1203]
[null,"2020",null,null,null,null,null,null,null,null,"2020"]
[null,"ene",1736,null,null,null,null,null,null,null,"ene",165,443,1128]
[null,"feb",273,null,null,null,null,null,null,null,"feb",26,234,13]
[null,"mar",295,null,null,null,null,null,null,null,"mar",102,166,27]
[null,"abr",314,null,null,null,null,null,null,null,"abr",68,199,47]
[null,"may",746,null,null,null,null,null,null,null,"may",202,403,141]
[null,"jun",346,null,null,null,null,null,null,null,"jun",76,220,50]
[null,"jul",198,null,null,null,null,null,null,null,"jul",99,78,21]
[null,"ago",203,null,null,null,null,null,null,null,"ago",79,35,89]
[null,"sep",251,null,null,null,null,null,null,null,"sep",61,104,86]
[null,"oct",169,null,null,null,null,null,null,null,"oct",77,63,29]
[null,"nov",339,null,null,null,null,null,null,null,"nov",52,146,141]
[null,"dic",312,null,null,null,null,null,null,null,"dic",75,45,192]
[null,"2021",null,null,null,null,null,null,null,null,"2021"]
[null,"ene",276,null,null,null,null,null,null,null,"ene",69,90,117]
[null,"feb",358,null,null,null,null,null,null,null,"feb",59,180,119]
[null,"mar",359,null,null,null,null,null,null,null,"mar",48,195,116]

{"sheet":"4X4 MATRIZ TOTALES","index":6,"n_rows":20,"n_cols":8,"rows_kept":20,"cut":false,"hidden":false,"merged":[]}
[]
[]
[]
[]
[]
[]
[]
[]
[]
[]
[]
[]
[]
[]
[]
[null,null,null,"Categorías","Pernoctaciones","TOH","Estancia Media ","Tarifa por habitación Ocupada"]
[null,null,null,"3 estrellas",702,5.1347488770926909E-2,1.3526011560693643,55.831172962226645]
[null,null,null,"4 estrellas",4109,0.16447575037013773,1.1313325991189427,72.951020185488275]
[null,null,null,"5 estrellas",2363,0.23798688261276937,1.0021204410517388,133.28866141732283]
[null,null,null,"Total general",7174,0.15034381636161392,1.1021662313719465,89.542418025895415]

{"sheet":"4X4 MATRIZ PROMEDIOS","index":7,"n_rows":20,"n_cols":8,"rows_kept":20,"cut":false,"hidden":false,"merged":[]}
[]
[]
[]
[]
[]
[]
[]
[]
[]
[]
[]
[]
[]
[]
[]
[null,null,null,"Categorías ","Pernoctaciones","TOH","Estancia Media","Tarifa por Habitación Ocupada"]
[null,null,null,"3 estrellas",702,5.1347488770926909E-2,1.3526011560693643,55.831172962226645]
[null,null,null,"4 estrellas",4109,0.16447575037013773,1.1313325991189427,72.951020185488275]
[null,null,null,"5 estrellas",2363,0.23798688261276937,1.0021204410517388,133.28866141732283]
[null,null,null,"Total general",7174,0.15034381636161392,1.1021662313719465,89.542418025895415]

{"sheet":"EMPLEO","index":8,"n_rows":2,"n_cols":37,"rows_kept":2,"cut":false,"hidden":false,"merged":[[1,36,2,41],[9,1,10,5],[20,1,21,5]]}
[]
[null,null,null,null,null,null,null,null,null,null,null,null,null,null,null,null,null,null,null,null,null,null,null,null,null,null,null,null,null,null,null,null,null,null,null,null,{"$f":"AUXILIARES!$Q$6","v":512}]

{"sheet":"ESTANCIA MEDIA","index":9,"n_rows":2,"n_cols":37,"rows_kept":2,"cut":false,"hidden":false,"merged":[[20,1,21,5],[27,1,28,5],[1,36,2,41],[1,2,2,22],[9,1,10,5]]}
[]
[null,null,null,null,null,null,null,null,null,null,null,null,null,null,null,null,null,null,null,null,null,null,null,null,null,null,null,null,null,null,null,null,null,null,null,null,{"$f":"GETPIVOTDATA(\"Total\",AUXILIARES!$P$77,\"Atributo\",\"Estancia media\")","v":1.25}]

{"sheet":"HABITACIONES VENDIDAS","index":10,"n_rows":2,"n_cols":36,"rows_kept":2,"cut":false,"hidden":false,"merged":[[20,1,21,5],[1,35,2,40],[1,2,2,22],[9,1,10,5]]}
[]
[null,null,null,null,null,null,null,null,null,null,null,null,null,null,null,null,null,null,null,null,null,null,null,null,null,null,null,null,null,null,null,null,null,null,null,{"$f":"GETPIVOTDATA(\"Total\",AUXILIARES!$P$29,\"Atributo\",\"Habitaciones vendidas\")","v":6111.8125}]

{"sheet":"INGRESOS","index":11,"n_rows":2,"n_cols":39,"rows_kept":2,"cut":false,"hidden":false,"merged":[[1,38,2,43],[27,1,28,5],[9,1,10,9],[20,1,21,5],[20,22,21,26],[1,2,2,15]]}
[]
[null,null,null,null,null,null,null,null,null,null,null,null,null,null,null,null,null,null,null,null,null,null,null,null,null,null,null,null,null,null,null,null,null,null,null,null,null,null,{"$f":"+GETPIVOTDATA(\"Total\",AUXILIARES!$P$125,\"Atributo\",\"Ingresos (Miles)\")","v":615.1875}]

{"sheet":"LLEGADAS","index":12,"n_rows":21,"n_cols":38,"rows_kept":21,"cut":false,"hidden":false,"merged":[[1,37,2,42],[1,2,2,10],[1,11,2,17],[9,1,10,5],[20,1,21,5]]}
[]
[null,null,null,null,null,null,null,null,null,null,null,null,null,null,null,null,null,null,null,null,null,null,null,null,null,null,null,null,null,null,null,null,null,null,null,null,null,{"$f":"GETPIVOTDATA(\"Total\",AUXILIARES!$P$101,\"Atributo\",\"Llegadas\")","v":5134}]
[]
[]
[]
[]
[]
[]
[]
[]
[]
[]
[]
[]
[]
[]
[]
[]
[]
[]
[null,"TIPO"]

{"sheet":"PERNOCTACIONES","index":13,"n_rows":2,"n_cols":38,"rows_kept":2,"cut":false,"hidden":false,"merged":[[1,37,2,42],[1,2,2,17],[9,1,10,5],[20,1,21,5]]}
[]
[null,null,null,null,null,null,null,null,null,null,null,null,null,null,null,null,null,null,null,null,null,null,null,null,null,null,null,null,null,null,null,null,null,null,null,null,null,{"$f":"+GETPIVOTDATA(\"Total\",AUXILIARES!$P$149,\"Atributo\",\"Pernoctaciones\")","v":7265}]

{"sheet":"TARIFA","index":14,"n_rows":2,"n_cols":39,"rows_kept":2,"cut":false,"hidden":false,"merged":[[1,38,2,43],[1,2,2,31],[20,1,21,5]]}
[]
[null,null,null,null,null,null,null,null,null,null,null,null,null,null,null,null,null,null,null,null,null,null,null,null,null,null,null,null,null,null,null,null,null,null,null,null,null,null,{"$f":"GETPIVOTDATA(\"Total\",AUXILIARES!$P$173,\"Atributo\",\"Tarifa promedio\")","v":94.8125}]

{"sheet":"TOH","index":15,"n_rows":10,"n_cols":39,"rows_kept":10,"cut":false,"hidden":false,"merged":[[1,38,2,43],[27,1,28,5],[1,2,2,10],[1,11,2,14],[20,1,21,5]]}
[]
[null,null,null,null,null,null,null,null,null,null,null,null,null,null,null,null,null,null,null,null,null,null,null,null,null,null,null,null,null,null,null,null,null,null,null,null,null,null,{"$f":"GETPIVOTDATA(\"Total\",AUXILIARES!$P$53,\"Atributo\",\"TOH\")/100","v":3.725E-4}]
[]
[]
[]
[]
[]
[]
[]
[null,"EVOLUCIÓN"]

{"sheet":"PROMEDIO","index":16,"n_rows":8,"n_cols":25,"rows_kept":8,"cut":false,"hidden":false,"merged":[[26,1,27,48],[7,24,8,34],[1,2,2,47],[11,1,12,48],[6,22,6,33]]}
[]
[]
[]
[]
[]
[]
[null,null,null,null,null,null,null,null,null,null,null,null,null,null,null,null,null,null,null,null,null,null,{"$f":"AUXILIARES!$E$199","v":"Empleos"}]
[null,null,null,null,null,null,null,null,null,null,null,null,null,null,null,null,null,null,null,null,null,null,null,null,{"$f":"+IF(NOT(W7=\"TOH\"),IF(W7=(\"tarifa promedio\"),TEXT(AUXILIARES!$F$199,\"$##.##0,00\"),\nTEXT(AUXILIARES!$F$199,\"##.##0,00\")),TEXT((AUXILIARES!$F$199),\"0,00%\"))","v":"512,00"}]